BEGIN:VCALENDAR
VERSION:2.0
PRODID:-//Front Range Christian School - ECPv6.15.20//NONSGML v1.0//EN
CALSCALE:GREGORIAN
METHOD:PUBLISH
X-WR-CALNAME:Front Range Christian School
X-ORIGINAL-URL:https://www.frcs.org
X-WR-CALDESC:Events for Front Range Christian School
REFRESH-INTERVAL;VALUE=DURATION:PT1H
X-Robots-Tag:noindex
X-PUBLISHED-TTL:PT1H
BEGIN:VTIMEZONE
TZID:America/Denver
BEGIN:DAYLIGHT
TZOFFSETFROM:-0700
TZOFFSETTO:-0600
TZNAME:MDT
DTSTART:20240310T090000
END:DAYLIGHT
BEGIN:STANDARD
TZOFFSETFROM:-0600
TZOFFSETTO:-0700
TZNAME:MST
DTSTART:20241103T080000
END:STANDARD
BEGIN:DAYLIGHT
TZOFFSETFROM:-0700
TZOFFSETTO:-0600
TZNAME:MDT
DTSTART:20250309T090000
END:DAYLIGHT
BEGIN:STANDARD
TZOFFSETFROM:-0600
TZOFFSETTO:-0700
TZNAME:MST
DTSTART:20251102T080000
END:STANDARD
BEGIN:DAYLIGHT
TZOFFSETFROM:-0700
TZOFFSETTO:-0600
TZNAME:MDT
DTSTART:20260308T090000
END:DAYLIGHT
BEGIN:STANDARD
TZOFFSETFROM:-0600
TZOFFSETTO:-0700
TZNAME:MST
DTSTART:20261101T080000
END:STANDARD
BEGIN:DAYLIGHT
TZOFFSETFROM:-0700
TZOFFSETTO:-0600
TZNAME:MDT
DTSTART:20270314T090000
END:DAYLIGHT
BEGIN:STANDARD
TZOFFSETFROM:-0600
TZOFFSETTO:-0700
TZNAME:MST
DTSTART:20271107T080000
END:STANDARD
END:VTIMEZONE
BEGIN:VEVENT
DTSTART;TZID=America/Denver:20260209T160000
DTEND;TZID=America/Denver:20260209T180000
DTSTAMP:20260420T210911
CREATED:20260115T204502Z
LAST-MODIFIED:20260115T204502Z
UID:10001405-1770652800-1770660000@www.frcs.org
SUMMARY:MS Girls Basketball at St John’s
DESCRIPTION:The Falcons vs St John’s Lutheran \nSilver: 4pm\nBlack: 5pm \nGo\, Falcons!
URL:https://www.frcs.org/event/ms-girls-basketball-at-st-johns/
LOCATION:St. John’s Lutheran School\, 700 S Franklin St\, Denver\, CO\, 80209
CATEGORIES:Athletic Calendar
ATTACH;FMTTYPE=image/jpeg:https://www.frcs.org/wp-content/uploads/2025/03/basketball-abhishek-chandra-unsplash-TKACMN.tmp_-Ipc8k8.tmp_.jpg
END:VEVENT
BEGIN:VEVENT
DTSTART;TZID=America/Denver:20251203T160000
DTEND;TZID=America/Denver:20251203T180000
DTSTAMP:20260420T210911
CREATED:20250930T191334Z
LAST-MODIFIED:20250930T191334Z
UID:10001295-1764777600-1764784800@www.frcs.org
SUMMARY:MS Boys Basketball at St John’s
DESCRIPTION:The Falcons vs St John’s Lutheran \nSilver: 4pm\nBlack: 5pm \nGo\, Falcons!
URL:https://www.frcs.org/event/ms-boys-basketball-at-st-johns/
LOCATION:St. John’s Lutheran School\, 700 S Franklin St\, Denver\, CO\, 80209
CATEGORIES:Athletic Calendar
ATTACH;FMTTYPE=image/jpeg:https://www.frcs.org/wp-content/uploads/2025/03/basketball-abhishek-chandra-unsplash-TKACMN.tmp_-Ipc8k8.tmp_.jpg
END:VEVENT
BEGIN:VEVENT
DTSTART;TZID=America/Denver:20250915T160000
DTEND;TZID=America/Denver:20250915T180000
DTSTAMP:20260420T210911
CREATED:20250821T191437Z
LAST-MODIFIED:20250821T191437Z
UID:10001219-1757952000-1757959200@www.frcs.org
SUMMARY:MS Volleyball at St. John's
DESCRIPTION:The Falcons vs St. John’s Lutheran School \nSilver: 4pm\nBlack: 5pm \nGo\, Falcons!
URL:https://www.frcs.org/event/ms-volleyball-at-st-johns/
LOCATION:St. John’s Lutheran School\, 700 S Franklin St\, Denver\, CO\, 80209
CATEGORIES:Athletic Calendar
ATTACH;FMTTYPE=image/jpeg:https://www.frcs.org/wp-content/uploads/2022/04/volleyball-iStock.jpg
END:VEVENT
END:VCALENDAR