BEGIN:VCALENDAR
VERSION:2.0
PRODID:-//Front Range Christian School - ECPv6.15.20//NONSGML v1.0//EN
CALSCALE:GREGORIAN
METHOD:PUBLISH
X-WR-CALNAME:Front Range Christian School
X-ORIGINAL-URL:https://www.frcs.org
X-WR-CALDESC:Events for Front Range Christian School
REFRESH-INTERVAL;VALUE=DURATION:PT1H
X-Robots-Tag:noindex
X-PUBLISHED-TTL:PT1H
BEGIN:VTIMEZONE
TZID:America/Denver
BEGIN:DAYLIGHT
TZOFFSETFROM:-0700
TZOFFSETTO:-0600
TZNAME:MDT
DTSTART:20250309T090000
END:DAYLIGHT
BEGIN:STANDARD
TZOFFSETFROM:-0600
TZOFFSETTO:-0700
TZNAME:MST
DTSTART:20251102T080000
END:STANDARD
BEGIN:DAYLIGHT
TZOFFSETFROM:-0700
TZOFFSETTO:-0600
TZNAME:MDT
DTSTART:20260308T090000
END:DAYLIGHT
BEGIN:STANDARD
TZOFFSETFROM:-0600
TZOFFSETTO:-0700
TZNAME:MST
DTSTART:20261101T080000
END:STANDARD
BEGIN:DAYLIGHT
TZOFFSETFROM:-0700
TZOFFSETTO:-0600
TZNAME:MDT
DTSTART:20270314T090000
END:DAYLIGHT
BEGIN:STANDARD
TZOFFSETFROM:-0600
TZOFFSETTO:-0700
TZNAME:MST
DTSTART:20271107T080000
END:STANDARD
END:VTIMEZONE
BEGIN:VEVENT
DTSTART;VALUE=DATE:20260413
DTEND;VALUE=DATE:20260417
DTSTAMP:20260424T032643
CREATED:20250401T193702Z
LAST-MODIFIED:20251107T212748Z
UID:10001068-1776038400-1776383999@www.frcs.org
SUMMARY:Iowa Assessments (grades 3-6)
DESCRIPTION:Students grades 3-6 will take the Iowa Assessments standardized test this week. Questions should be directed to your child’s teacher.
URL:https://www.frcs.org/event/iowa-assessments-grades-3-6/
LOCATION:FRCS Elementary\, 6657 W Ottawa Ave\, Ste A-18\, Littleton\, CO\, 80128\, United States
CATEGORIES:Elementary Calendar,Parent Dashboard
ATTACH;FMTTYPE=image/jpeg:https://www.frcs.org/wp-content/uploads/2021/07/frcs-campus.jpg
END:VEVENT
BEGIN:VEVENT
DTSTART;VALUE=DATE:20260413
DTEND;VALUE=DATE:20260418
DTSTAMP:20260424T032643
CREATED:20250401T194909Z
LAST-MODIFIED:20260410T170611Z
UID:10001073-1776038400-1776470399@www.frcs.org
SUMMARY:Spirit Week
DESCRIPTION:It’s spirit week at the junior and senior high! \nMonday: PJs Day\nTuesday: Hawaiian Day\nWednesday: Adam Sandler Day\nThursday: Superhero vs Villain Day\nFriday: Class color day \nHave fun (and keep it within dress code).
URL:https://www.frcs.org/event/spirit-week/
LOCATION:FRCS Jr/Sr High\, 6637 W Ottawa Ave\, Littleton\, CO\, 80128\, United States
CATEGORIES:Jr/Sr High Calendar
ATTACH;FMTTYPE=image/jpeg:https://www.frcs.org/wp-content/uploads/2025/04/campus.jpg
END:VEVENT
BEGIN:VEVENT
DTSTART;TZID=America/Denver:20260413T153000
DTEND;TZID=America/Denver:20260413T163000
DTSTAMP:20260424T032643
CREATED:20250319T162144Z
LAST-MODIFIED:20260220T185808Z
UID:10000954-1776094200-1776097800@www.frcs.org
SUMMARY:MS Girls Soccer\, home vs Denver Christian
DESCRIPTION:The Falcons host Denver Christian \n3:30pm \nGo\, Falcons!
URL:https://www.frcs.org/event/ms-girls-soccer-home-vs-denver-christian/
LOCATION:Falcon Field\, 6548 W Ottawa Ave\, Littleton\, CO\, 80128
CATEGORIES:Athletic Calendar
ATTACH;FMTTYPE=image/jpeg:https://www.frcs.org/wp-content/uploads/2025/03/soccer-near-goal-mick-haupt-unsplash-1150x450-1.jpg
END:VEVENT
BEGIN:VEVENT
DTSTART;TZID=America/Denver:20260413T160000
DTEND;TZID=America/Denver:20260413T173000
DTSTAMP:20260424T032643
CREATED:20260218T190114Z
LAST-MODIFIED:20260218T190114Z
UID:10001431-1776096000-1776101400@www.frcs.org
SUMMARY:JV Girls Soccer at Mile High
DESCRIPTION:The Falcons vs Mile High Academy \nJV: 4pm \nGo\, Falcons!
URL:https://www.frcs.org/event/jv-girls-soccer-at-mile-high/
LOCATION:Mile High Academy\, 1733 Dad Clark Drive\, Highlands Ranch\, CO\, 80126\, United States
CATEGORIES:Athletic Calendar
ATTACH;FMTTYPE=image/jpeg:https://www.frcs.org/wp-content/uploads/2025/03/soccer-wesley-tingey-unsplash-1150x450-1-SxJpQE.tmp_.jpg
END:VEVENT
BEGIN:VEVENT
DTSTART;TZID=America/Denver:20260414T123500
DTEND;TZID=America/Denver:20260414T131500
DTSTAMP:20260424T032643
CREATED:20250401T195421Z
LAST-MODIFIED:20250401T195421Z
UID:10001074-1776170100-1776172500@www.frcs.org
SUMMARY:Vicious Volleyball
DESCRIPTION:During lunch\, senior high boys fight to become vicious volleyball champions! Coached by Varsity girls\, who will lead their class to victory? \n\nDay 1: Freshmen vs Juniors\nDay 2: Sophomores vs Seniors\nDay 3: winners from previous games face off for the championship
URL:https://www.frcs.org/event/vicious-volleyball/2026-04-14/
LOCATION:FRCS Gym\, 6637 W Ottawa Ave 1\, Littleton\, CO\, 80128\, United States
CATEGORIES:Jr/Sr High Calendar
ATTACH;FMTTYPE=image/jpeg:https://www.frcs.org/wp-content/uploads/2021/03/volleyball-and-net.jpg
GEO:1;1
X-APPLE-STRUCTURED-LOCATION;VALUE=URI;X-ADDRESS=FRCS Gym 6637 W Ottawa Ave 1 Littleton CO 80128 United States;X-APPLE-RADIUS=500;X-TITLE=6637 W Ottawa Ave 1:geo:1,1
END:VEVENT
BEGIN:VEVENT
DTSTART;TZID=America/Denver:20260414T160000
DTEND;TZID=America/Denver:20260414T173000
DTSTAMP:20260424T032643
CREATED:20260218T181920Z
LAST-MODIFIED:20260218T181920Z
UID:10001420-1776182400-1776187800@www.frcs.org
SUMMARY:Girls Soccer at Dawson
DESCRIPTION:The Falcons vs Dawson \nV: 4pm \nGo\, Falcons!
URL:https://www.frcs.org/event/girls-soccer-at-dawson/
LOCATION:Dawson School\, 10455 Dawson Dr\, Lafayette\, CO\, 80026\, United States
CATEGORIES:Athletic Calendar
ATTACH;FMTTYPE=image/jpeg:https://www.frcs.org/wp-content/uploads/2025/03/soccer-wesley-tingey-unsplash-1150x450-1-SxJpQE.tmp_.jpg
END:VEVENT
BEGIN:VEVENT
DTSTART;TZID=America/Denver:20260414T160000
DTEND;TZID=America/Denver:20260414T180000
DTSTAMP:20260424T032643
CREATED:20260220T202357Z
LAST-MODIFIED:20260220T202357Z
UID:10001449-1776182400-1776189600@www.frcs.org
SUMMARY:Baseball at Colorado Springs Christian
DESCRIPTION:The Falcons vs Colorado Springs Christian School \nV: 4pm \nGo\, Falcons!
URL:https://www.frcs.org/event/baseball-at-colorado-springs-christian/
LOCATION:El Pomar Youth Sports Park\, 2212 Executive Cir\, Colorado Springs\, CO\, 80906\, United States
CATEGORIES:Athletic Calendar
ATTACH;FMTTYPE=image/jpeg:https://www.frcs.org/wp-content/uploads/2021/05/baseball-in-the-grass-chris-collins-free-images.jpg
END:VEVENT
BEGIN:VEVENT
DTSTART;TZID=America/Denver:20260414T161500
DTEND;TZID=America/Denver:20260414T174500
DTSTAMP:20260424T032643
CREATED:20260220T211220Z
LAST-MODIFIED:20260220T211220Z
UID:10001460-1776183300-1776188700@www.frcs.org
SUMMARY:MS Baseball at Denver Jewish Day
DESCRIPTION:The Falcons vs Denver Jewish Day School \n4:15pm \nGo\, Falcons!
URL:https://www.frcs.org/event/ms-baseball-at-denver-jewish-day/
LOCATION:Denver Jewis Day School\, 2450 S Wabash St\, Denver\, CO\, 80231
CATEGORIES:Athletic Calendar
ATTACH;FMTTYPE=image/jpeg:https://www.frcs.org/wp-content/uploads/2025/03/baseball-mike-bowman-unsplash-1150x450-1.jpg
END:VEVENT
BEGIN:VEVENT
DTSTART;TZID=America/Denver:20260415T123500
DTEND;TZID=America/Denver:20260415T131500
DTSTAMP:20260424T032643
CREATED:20250401T195421Z
LAST-MODIFIED:20250401T195421Z
UID:10001075-1776256500-1776258900@www.frcs.org
SUMMARY:Vicious Volleyball
DESCRIPTION:During lunch\, senior high boys fight to become vicious volleyball champions! Coached by Varsity girls\, who will lead their class to victory? \n\nDay 1: Freshmen vs Juniors\nDay 2: Sophomores vs Seniors\nDay 3: winners from previous games face off for the championship
URL:https://www.frcs.org/event/vicious-volleyball/2026-04-15/
LOCATION:FRCS Gym\, 6637 W Ottawa Ave 1\, Littleton\, CO\, 80128\, United States
CATEGORIES:Jr/Sr High Calendar
ATTACH;FMTTYPE=image/jpeg:https://www.frcs.org/wp-content/uploads/2021/03/volleyball-and-net.jpg
GEO:1;1
X-APPLE-STRUCTURED-LOCATION;VALUE=URI;X-ADDRESS=FRCS Gym 6637 W Ottawa Ave 1 Littleton CO 80128 United States;X-APPLE-RADIUS=500;X-TITLE=6637 W Ottawa Ave 1:geo:1,1
END:VEVENT
BEGIN:VEVENT
DTSTART;TZID=America/Denver:20260415T153000
DTEND;TZID=America/Denver:20260415T163000
DTSTAMP:20260424T032643
CREATED:20250319T163147Z
LAST-MODIFIED:20260220T185917Z
UID:10000960-1776267000-1776270600@www.frcs.org
SUMMARY:MS Girls Soccer\, home vs Aspen Academy
DESCRIPTION:The Falcons host Aspen Academy \n3:30pm \nGo\, Falcons!
URL:https://www.frcs.org/event/ms-girls-soccer-home-vs-aspen-academy/
LOCATION:Falcon Field\, 6548 W Ottawa Ave\, Littleton\, CO\, 80128
CATEGORIES:Athletic Calendar
ATTACH;FMTTYPE=image/jpeg:https://www.frcs.org/wp-content/uploads/2025/03/soccer-near-goal-mick-haupt-unsplash-1150x450-1.jpg
END:VEVENT
BEGIN:VEVENT
DTSTART;TZID=America/Denver:20260416T123500
DTEND;TZID=America/Denver:20260416T131500
DTSTAMP:20260424T032643
CREATED:20250401T195421Z
LAST-MODIFIED:20250401T195421Z
UID:10001076-1776342900-1776345300@www.frcs.org
SUMMARY:Vicious Volleyball
DESCRIPTION:During lunch\, senior high boys fight to become vicious volleyball champions! Coached by Varsity girls\, who will lead their class to victory? \n\nDay 1: Freshmen vs Juniors\nDay 2: Sophomores vs Seniors\nDay 3: winners from previous games face off for the championship
URL:https://www.frcs.org/event/vicious-volleyball/2026-04-16/
LOCATION:FRCS Gym\, 6637 W Ottawa Ave 1\, Littleton\, CO\, 80128\, United States
CATEGORIES:Jr/Sr High Calendar
ATTACH;FMTTYPE=image/jpeg:https://www.frcs.org/wp-content/uploads/2021/03/volleyball-and-net.jpg
GEO:1;1
X-APPLE-STRUCTURED-LOCATION;VALUE=URI;X-ADDRESS=FRCS Gym 6637 W Ottawa Ave 1 Littleton CO 80128 United States;X-APPLE-RADIUS=500;X-TITLE=6637 W Ottawa Ave 1:geo:1,1
END:VEVENT
BEGIN:VEVENT
DTSTART;TZID=America/Denver:20260416T160000
DTEND;TZID=America/Denver:20260416T170000
DTSTAMP:20260424T032643
CREATED:20260220T185101Z
LAST-MODIFIED:20260320T190349Z
UID:10001439-1776355200-1776358800@www.frcs.org
SUMMARY:MS Girls Soccer at Clear Creek
DESCRIPTION:The Falcons vs. Clear Creek Middle School \n4pm \nGo\, Falcons!
URL:https://www.frcs.org/event/ms-girls-soccer-at-clear-creek-2/
LOCATION:Clear Creek Middle/High School\, 185 Beaver Brook Canyon Rd\, Evergreen\, CO\, 80439\, United States
CATEGORIES:Athletic Calendar
ATTACH;FMTTYPE=image/jpeg:https://www.frcs.org/wp-content/uploads/2025/03/soccer-near-goal-mick-haupt-unsplash-1150x450-1.jpg
END:VEVENT
BEGIN:VEVENT
DTSTART;TZID=America/Denver:20260416T160000
DTEND;TZID=America/Denver:20260416T173000
DTSTAMP:20260424T032643
CREATED:20250318T194116Z
LAST-MODIFIED:20260220T211326Z
UID:10000908-1776355200-1776360600@www.frcs.org
SUMMARY:MS Baseball at Denver Academy
DESCRIPTION:The Falcons vs Denver Academy \n4pm \nGo\, Falcons!
URL:https://www.frcs.org/event/ms-baseball-at-denver-academy/
LOCATION:Denver Academy\, 4400 E. Iliff Ave.\, Denver\, CO\, 80222\, United States
CATEGORIES:Athletic Calendar
ATTACH;FMTTYPE=image/jpeg:https://www.frcs.org/wp-content/uploads/2025/03/baseball-mike-bowman-unsplash-1150x450-1.jpg
END:VEVENT
BEGIN:VEVENT
DTSTART;TZID=America/Denver:20260416T160000
DTEND;TZID=America/Denver:20260416T190000
DTSTAMP:20260424T032643
CREATED:20260218T182038Z
LAST-MODIFIED:20260305T211755Z
UID:10001421-1776355200-1776366000@www.frcs.org
SUMMARY:Girls Soccer\, home vs Flatirons
DESCRIPTION:The Falcons host Flatirons Academy \nV: 4pm\nJV: 5:30pm \nGo\, Falcons!
URL:https://www.frcs.org/event/girls-soccer-home-vs-flatirons/
LOCATION:CO
CATEGORIES:Athletic Calendar
ATTACH;FMTTYPE=image/jpeg:https://www.frcs.org/wp-content/uploads/2025/03/soccer-wesley-tingey-unsplash-1150x450-1-SxJpQE.tmp_.jpg
END:VEVENT
BEGIN:VEVENT
DTSTART;TZID=America/Denver:20260416T160000
DTEND;TZID=America/Denver:20260416T190000
DTSTAMP:20260424T032643
CREATED:20260220T202553Z
LAST-MODIFIED:20260320T200812Z
UID:10001450-1776355200-1776366000@www.frcs.org
SUMMARY:Baseball\, home vs Dayspring Christian
DESCRIPTION:The Falcons host Dayspring Christian \nV: 4pm\nJV: 6pm \nGo\, Falcons!
URL:https://www.frcs.org/event/baseball-home-vs-dayspring-christian/
LOCATION:Lilley Gulch Baseball Field\, 6147 S. Holland Way\, Littleton\, CO\, 80123\, United States
CATEGORIES:Athletic Calendar
ATTACH;FMTTYPE=image/jpeg:https://www.frcs.org/wp-content/uploads/2021/05/baseball-in-the-grass-chris-collins-free-images.jpg
END:VEVENT
BEGIN:VEVENT
DTSTART;VALUE=DATE:20260417
DTEND;VALUE=DATE:20260418
DTSTAMP:20260424T032643
CREATED:20250401T195617Z
LAST-MODIFIED:20250401T195617Z
UID:10001077-1776384000-1776470399@www.frcs.org
SUMMARY:Vicious Volleyball Camps vs Teachers
DESCRIPTION:There is an adjusted schedule this day to accommodate the game. We will post it and other details here when it is available.
URL:https://www.frcs.org/event/vicious-volleyball-camps-vs-teachers/
LOCATION:FRCS Gym\, 6637 W Ottawa Ave 1\, Littleton\, CO\, 80128\, United States
CATEGORIES:Jr/Sr High Calendar
ATTACH;FMTTYPE=image/jpeg:https://www.frcs.org/wp-content/uploads/2022/04/volleyball-iStock.jpg
GEO:1;1
X-APPLE-STRUCTURED-LOCATION;VALUE=URI;X-ADDRESS=FRCS Gym 6637 W Ottawa Ave 1 Littleton CO 80128 United States;X-APPLE-RADIUS=500;X-TITLE=6637 W Ottawa Ave 1:geo:1,1
END:VEVENT
BEGIN:VEVENT
DTSTART;TZID=America/Denver:20260418T100000
DTEND;TZID=America/Denver:20260418T110000
DTSTAMP:20260424T032643
CREATED:20260220T190412Z
LAST-MODIFIED:20260220T190412Z
UID:10001440-1776506400-1776510000@www.frcs.org
SUMMARY:MS Girls Soccer\, home vs Banning Lewis
DESCRIPTION:The Falcons host Banning Lewis Preparatory Academy \n10am \nGo\, Falcons!
URL:https://www.frcs.org/event/ms-girls-soccer-home-vs-banning-lewis/
LOCATION:Falcon Field\, 6548 W Ottawa Ave\, Littleton\, CO\, 80128
CATEGORIES:Athletic Calendar
ATTACH;FMTTYPE=image/jpeg:https://www.frcs.org/wp-content/uploads/2025/03/soccer-near-goal-mick-haupt-unsplash-1150x450-1.jpg
END:VEVENT
BEGIN:VEVENT
DTSTART;TZID=America/Denver:20260418T110000
DTEND;TZID=America/Denver:20260418T130000
DTSTAMP:20260424T032643
CREATED:20260220T202744Z
LAST-MODIFIED:20260220T202744Z
UID:10001451-1776510000-1776517200@www.frcs.org
SUMMARY:Baseball\, home vs Clear Creek
DESCRIPTION:The Falcons host Clear Creek High School \nV: 11am \nGo\, Falcons!
URL:https://www.frcs.org/event/baseball-home-vs-clear-creek/
LOCATION:Lilley Gulch Baseball Field\, 6147 S. Holland Way\, Littleton\, CO\, 80123\, United States
CATEGORIES:Athletic Calendar
ATTACH;FMTTYPE=image/jpeg:https://www.frcs.org/wp-content/uploads/2021/05/baseball-in-the-grass-chris-collins-free-images.jpg
END:VEVENT
BEGIN:VEVENT
DTSTART;TZID=America/Denver:20260418T120000
DTEND;TZID=America/Denver:20260418T133000
DTSTAMP:20260424T032643
CREATED:20260218T182235Z
LAST-MODIFIED:20260415T164159Z
UID:10001422-1776513600-1776519000@www.frcs.org
SUMMARY:Girls Soccer\, home vs Banning Lewis
DESCRIPTION:The Falcons host Banning Lewis Preparatory Academy \nV: 12pm\nJV: 1:45pm The JV game has been canceled as Banning Lewis will not have a JV team. \nGo\, Falcons!
URL:https://www.frcs.org/event/girls-soccer-home-vs-banning-lewis/
LOCATION:Falcon Field\, 6548 W Ottawa Ave\, Littleton\, CO\, 80128
CATEGORIES:Athletic Calendar
ATTACH;FMTTYPE=image/jpeg:https://www.frcs.org/wp-content/uploads/2025/03/soccer-wesley-tingey-unsplash-1150x450-1-SxJpQE.tmp_.jpg
END:VEVENT
END:VCALENDAR