BEGIN:VCALENDAR
VERSION:2.0
PRODID:-//Front Range Christian School - ECPv6.15.20//NONSGML v1.0//EN
CALSCALE:GREGORIAN
METHOD:PUBLISH
X-WR-CALNAME:Front Range Christian School
X-ORIGINAL-URL:https://www.frcs.org
X-WR-CALDESC:Events for Front Range Christian School
REFRESH-INTERVAL;VALUE=DURATION:PT1H
X-Robots-Tag:noindex
X-PUBLISHED-TTL:PT1H
BEGIN:VTIMEZONE
TZID:America/Denver
BEGIN:DAYLIGHT
TZOFFSETFROM:-0700
TZOFFSETTO:-0600
TZNAME:MDT
DTSTART:20250309T090000
END:DAYLIGHT
BEGIN:STANDARD
TZOFFSETFROM:-0600
TZOFFSETTO:-0700
TZNAME:MST
DTSTART:20251102T080000
END:STANDARD
BEGIN:DAYLIGHT
TZOFFSETFROM:-0700
TZOFFSETTO:-0600
TZNAME:MDT
DTSTART:20260308T090000
END:DAYLIGHT
BEGIN:STANDARD
TZOFFSETFROM:-0600
TZOFFSETTO:-0700
TZNAME:MST
DTSTART:20261101T080000
END:STANDARD
BEGIN:DAYLIGHT
TZOFFSETFROM:-0700
TZOFFSETTO:-0600
TZNAME:MDT
DTSTART:20270314T090000
END:DAYLIGHT
BEGIN:STANDARD
TZOFFSETFROM:-0600
TZOFFSETTO:-0700
TZNAME:MST
DTSTART:20271107T080000
END:STANDARD
END:VTIMEZONE
BEGIN:VEVENT
DTSTART;TZID=America/Denver:20260202T160000
DTEND;TZID=America/Denver:20260202T190000
DTSTAMP:20260421T123541
CREATED:20260115T203954Z
LAST-MODIFIED:20260115T203954Z
UID:10001402-1770048000-1770058800@www.frcs.org
SUMMARY:MS Girls Basketball\, home vs Englewood
DESCRIPTION:The Falcons host Englewood Middle School \nPurple: 4pm\nSilver: 5pm\nBlack: 6pm \nGo\, Falcons!
URL:https://www.frcs.org/event/ms-girls-basketball-home-vs-englewood/
LOCATION:FRCS Gym\, 6637 W Ottawa Ave 1\, Littleton\, CO\, 80128\, United States
CATEGORIES:Athletic Calendar
ATTACH;FMTTYPE=image/jpeg:https://www.frcs.org/wp-content/uploads/2025/03/basketball-abhishek-chandra-unsplash-TKACMN.tmp_-Ipc8k8.tmp_.jpg
GEO:1;1
X-APPLE-STRUCTURED-LOCATION;VALUE=URI;X-ADDRESS=FRCS Gym 6637 W Ottawa Ave 1 Littleton CO 80128 United States;X-APPLE-RADIUS=500;X-TITLE=6637 W Ottawa Ave 1:geo:1,1
END:VEVENT
BEGIN:VEVENT
DTSTART;TZID=America/Denver:20260203T150000
DTEND;TZID=America/Denver:20260203T163000
DTSTAMP:20260421T123541
CREATED:20260113T175453Z
LAST-MODIFIED:20260401T155205Z
UID:10001341-1770130800-1770136200@www.frcs.org
SUMMARY:Elementary Art Club
DESCRIPTION:Dates: Tuesdays from January 20 through March 31\, 3-4:30pm\nLocation: Elementary art room\nStudents: 3rd-6th grades — minimum 5; maximum 15\nCost: $270 per student (includes all supplies and snacks) \nStudents will dive deep into two different topics (5 weeks on each). Activities include various art projects related to each theme\, reading books\, and exploring simple studies on the theme. Topics are still to be determined\, but two early contenders include nature and outer space. This club is open to all 3rd-6th grade students\, no matter their current skill level. Register using the form below. If you have questions\, email club coordinator and elementary art teacher Cassie Elmer. Use the form below to sign your student up for the club. \nPlease enable JavaScript in your browser to complete this form.Please enable JavaScript in your browser to complete this form.Parent name *FirstLastParent email *Student name *FirstLastStudent grade *--- Select Choice ---6th5th4th3rd		\n			email name name\n			\n		\n		Payment Agreement *I understand that payment for this club will be charged to my FACTS account on January 20 and be automatically processed 10 days later.Submit
URL:https://www.frcs.org/event/elementary-art-club/2026-02-03/
LOCATION:FRCS Elementary\, 6657 W Ottawa Ave\, Ste A-18\, Littleton\, CO\, 80128\, United States
CATEGORIES:Arts Calendar,Elementary Calendar
ATTACH;FMTTYPE=image/jpeg:https://www.frcs.org/wp-content/uploads/2024/05/painting-rhondak-native-florida-folk-artist-unsplash.jpg
END:VEVENT
BEGIN:VEVENT
DTSTART;TZID=America/Denver:20260203T160000
DTEND;TZID=America/Denver:20260203T203000
DTSTAMP:20260421T123541
CREATED:20251027T205758Z
LAST-MODIFIED:20251027T205758Z
UID:10001320-1770134400-1770150600@www.frcs.org
SUMMARY:Basketball at Belleview Christian
DESCRIPTION:The Falcons vs. Belleview Christian School \nBoys JV: 4pm\nGirls V: 5:30pm\nBoys V: 7pm \nGo\, Falcons!
URL:https://www.frcs.org/event/basketball-at-belleview-christian/
LOCATION:Belleview Christian School\, 3455 W 83rd Ave.\, Westminster\, CO\, 80031\, United States
CATEGORIES:Athletic Calendar
ATTACH;FMTTYPE=image/jpeg:https://www.frcs.org/wp-content/uploads/2021/03/basketball-score-markus-spiske-unsplash.jpg
END:VEVENT
BEGIN:VEVENT
DTSTART;TZID=America/Denver:20260204T160000
DTEND;TZID=America/Denver:20260204T190000
DTSTAMP:20260421T123541
CREATED:20260115T204119Z
LAST-MODIFIED:20260115T204119Z
UID:10001403-1770220800-1770231600@www.frcs.org
SUMMARY:MS Girls Basketball\, home vs Bear Creek
DESCRIPTION:The Falcons host Bear Creek \nSilver: 4pm\nBlack: 5pm\nPurple: 6pm \nGo\, Falcons!
URL:https://www.frcs.org/event/ms-girls-basketball-home-vs-bear-creek/
LOCATION:FRCS Gym\, 6637 W Ottawa Ave 1\, Littleton\, CO\, 80128\, United States
CATEGORIES:Athletic Calendar
ATTACH;FMTTYPE=image/jpeg:https://www.frcs.org/wp-content/uploads/2025/03/basketball-abhishek-chandra-unsplash-TKACMN.tmp_-Ipc8k8.tmp_.jpg
GEO:1;1
X-APPLE-STRUCTURED-LOCATION;VALUE=URI;X-ADDRESS=FRCS Gym 6637 W Ottawa Ave 1 Littleton CO 80128 United States;X-APPLE-RADIUS=500;X-TITLE=6637 W Ottawa Ave 1:geo:1,1
END:VEVENT
BEGIN:VEVENT
DTSTART;TZID=America/Denver:20260205T180000
DTEND;TZID=America/Denver:20260205T200000
DTSTAMP:20260421T123541
CREATED:20250401T182703Z
LAST-MODIFIED:20250401T182703Z
UID:10001044-1770314400-1770321600@www.frcs.org
SUMMARY:Spring FRCS Open House
DESCRIPTION:Come\, see what makes FRCS different!\nOpen House Grades 1-12: Thursday\, February 5; 6-8pm \nImagine a school where your child’s education extends beyond traditional lessons and becomes an integral part of a vibrant community\, rooted in love for Jesus and care for one another. At Front Range Christian School\, we take pride in our role of educating children\, recognizing that each student is unique and deeply loved by God. We partner with you to prepare your child for life\, helping them embrace their faith as their own and equipping them to make a positive impact in the world for Christ. \nIf you’d like to learn more\, you are invited to our open house. You’ll meet some of our teachers and the Head of School\, as well as a few FRCS families. You can ask questions\, take a tour of the school\, and more. Use the link below to register\, or email our admissions team to learn more. \nREGISTER HERE
URL:https://www.frcs.org/event/spring-frcs-open-house/
LOCATION:FRCS Campus\, 6657 W Ottawa Ave\, Littleton\, CO\, 80128\, United States
CATEGORIES:Admissions Calendar
ATTACH;FMTTYPE=image/jpeg:https://www.frcs.org/wp-content/uploads/2021/07/frcs-campus.jpg
GEO:1;1
X-APPLE-STRUCTURED-LOCATION;VALUE=URI;X-ADDRESS=FRCS Campus 6657 W Ottawa Ave Littleton CO 80128 United States;X-APPLE-RADIUS=500;X-TITLE=6657 W Ottawa Ave:geo:1,1
END:VEVENT
BEGIN:VEVENT
DTSTART;TZID=America/Denver:20260206T160000
DTEND;TZID=America/Denver:20260206T190000
DTSTAMP:20260421T123541
CREATED:20260115T204240Z
LAST-MODIFIED:20260115T204240Z
UID:10001404-1770393600-1770404400@www.frcs.org
SUMMARY:MS Girls Basketball\, home vs Fitzsimmons
DESCRIPTION:The Falcons host Fitzsimmons Middle School \nPurple: 4pm\nSilver: 5pm\nBlack: 6pm \nGo\, Falcons!
URL:https://www.frcs.org/event/ms-girls-basketball-home-vs-fitzsimmons/
LOCATION:CO
CATEGORIES:Athletic Calendar
ATTACH;FMTTYPE=image/jpeg:https://www.frcs.org/wp-content/uploads/2025/03/basketball-abhishek-chandra-unsplash-TKACMN.tmp_-Ipc8k8.tmp_.jpg
END:VEVENT
BEGIN:VEVENT
DTSTART;TZID=America/Denver:20260206T183000
DTEND;TZID=America/Denver:20260206T200000
DTSTAMP:20260421T123541
CREATED:20250401T182826Z
LAST-MODIFIED:20260116T213448Z
UID:10001045-1770402600-1770408000@www.frcs.org
SUMMARY:Cafe Concert
DESCRIPTION:An intimate evening of musical performances from junior and senior high students. This event is completely free\, though drinks and desserts will be available for purchase from Holy Grounds. \nStudents must audition to be included in the concert (see details here). \nPlease join us for this unique experience highlighting some of the best musical talent at FRCS Jr/Sr High.
URL:https://www.frcs.org/event/cafe-concert/
LOCATION:Holy Grounds Cafe\, 6657 W Ottawa Ave\, Ste A-19\, Littleton\, CO\, 80128\, United States
CATEGORIES:Arts Calendar,Jr/Sr High Calendar,Parent Dashboard
ATTACH;FMTTYPE=image/jpeg:https://www.frcs.org/wp-content/uploads/2024/02/intimate-stage-john-matychuk-unsplash.jpg
GEO:1;1
X-APPLE-STRUCTURED-LOCATION;VALUE=URI;X-ADDRESS=Holy Grounds Cafe 6657 W Ottawa Ave Ste A-19 Littleton CO 80128 United States;X-APPLE-RADIUS=500;X-TITLE=6657 W Ottawa Ave\, Ste A-19:geo:1,1
END:VEVENT
BEGIN:VEVENT
DTSTART;TZID=America/Denver:20260207T100000
DTEND;TZID=America/Denver:20260207T143000
DTSTAMP:20260421T123541
CREATED:20251027T210341Z
LAST-MODIFIED:20251208T183717Z
UID:10001322-1770458400-1770474600@www.frcs.org
SUMMARY:Basketball\, home vs Pikes Peak Christian
DESCRIPTION:The Falcons host Pikes Peak Christian School \nBoys JV: 10am\nGirls V: 11:30am\nBoys V: 1pm \nGo\, Falcons!
URL:https://www.frcs.org/event/basketball-at-pikes-peak-christian/
LOCATION:FRCS Gym\, 6637 W Ottawa Ave 1\, Littleton\, CO\, 80128\, United States
CATEGORIES:Athletic Calendar
ATTACH;FMTTYPE=image/jpeg:https://www.frcs.org/wp-content/uploads/2021/03/basketball-score-markus-spiske-unsplash.jpg
GEO:1;1
X-APPLE-STRUCTURED-LOCATION;VALUE=URI;X-ADDRESS=FRCS Gym 6637 W Ottawa Ave 1 Littleton CO 80128 United States;X-APPLE-RADIUS=500;X-TITLE=6637 W Ottawa Ave 1:geo:1,1
END:VEVENT
BEGIN:VEVENT
DTSTART;TZID=America/Denver:20260207T183000
DTEND;TZID=America/Denver:20260207T203000
DTSTAMP:20260421T123541
CREATED:20250331T185346Z
LAST-MODIFIED:20260108T194123Z
UID:10001041-1770489000-1770496200@www.frcs.org
SUMMARY:Father/Daughter Dance
DESCRIPTION:Fathers and father-figures — we encourage you to invite your daughter to the annual father/daughter dance at FRCS. This year is a Hoedown\, complete with line dancing (and instruction!)\, a photo booth\, dessert\, games\, and a fun time with other fathers and daughters! \nThis dance is open to all FRCS daughters grades 1-6 and their father or father-figure. The cost is $40 per father (includes any number of daughters); one ticket per household. \nTickets are exclusively available in the Falcons App\, so if you haven’t yet downloaded the app\, do so today! \n   
URL:https://www.frcs.org/event/father-daughter-dance/
LOCATION:Holy Grounds Cafe\, 6657 W Ottawa Ave\, Ste A-19\, Littleton\, CO\, 80128\, United States
CATEGORIES:Elementary Calendar,Parent Dashboard,Registration Events for app
ATTACH;FMTTYPE=image/jpeg:https://www.frcs.org/wp-content/uploads/2025/03/boots-hat-lasso-josephhershmedia-unsplash-extended.jpg
GEO:1;1
X-APPLE-STRUCTURED-LOCATION;VALUE=URI;X-ADDRESS=Holy Grounds Cafe 6657 W Ottawa Ave Ste A-19 Littleton CO 80128 United States;X-APPLE-RADIUS=500;X-TITLE=6657 W Ottawa Ave\, Ste A-19:geo:1,1
END:VEVENT
END:VCALENDAR