BEGIN:VCALENDAR
VERSION:2.0
PRODID:-//Front Range Christian School - ECPv6.15.20//NONSGML v1.0//EN
CALSCALE:GREGORIAN
METHOD:PUBLISH
X-ORIGINAL-URL:https://www.frcs.org
X-WR-CALDESC:Events for Front Range Christian School
REFRESH-INTERVAL;VALUE=DURATION:PT1H
X-Robots-Tag:noindex
X-PUBLISHED-TTL:PT1H
BEGIN:VTIMEZONE
TZID:America/Denver
BEGIN:DAYLIGHT
TZOFFSETFROM:-0700
TZOFFSETTO:-0600
TZNAME:MDT
DTSTART:20250309T090000
END:DAYLIGHT
BEGIN:STANDARD
TZOFFSETFROM:-0600
TZOFFSETTO:-0700
TZNAME:MST
DTSTART:20251102T080000
END:STANDARD
BEGIN:DAYLIGHT
TZOFFSETFROM:-0700
TZOFFSETTO:-0600
TZNAME:MDT
DTSTART:20260308T090000
END:DAYLIGHT
BEGIN:STANDARD
TZOFFSETFROM:-0600
TZOFFSETTO:-0700
TZNAME:MST
DTSTART:20261101T080000
END:STANDARD
BEGIN:DAYLIGHT
TZOFFSETFROM:-0700
TZOFFSETTO:-0600
TZNAME:MDT
DTSTART:20270314T090000
END:DAYLIGHT
BEGIN:STANDARD
TZOFFSETFROM:-0600
TZOFFSETTO:-0700
TZNAME:MST
DTSTART:20271107T080000
END:STANDARD
END:VTIMEZONE
BEGIN:VEVENT
DTSTART;VALUE=DATE:20260119
DTEND;VALUE=DATE:20260120
DTSTAMP:20260421T055748
CREATED:20250331T184938Z
LAST-MODIFIED:20250331T184938Z
UID:10001040-1768780800-1768867199@www.frcs.org
SUMMARY:Martin Luther King\, Jr. Day - No School
DESCRIPTION:There is no school for all students\, and all FRCS offices are closed in observance of Martin Luther King\, Jr. Day.
URL:https://www.frcs.org/event/martin-luther-king-jr-day-no-school/
LOCATION:CO
CATEGORIES:Academics Calendar,ECE Calendar,Elementary Calendar,Jr/Sr High Calendar,Parent Dashboard
ATTACH;FMTTYPE=image/jpeg:https://www.frcs.org/wp-content/uploads/2025/03/mlk-memorial-suzy-brooks-unsplash-0YiShS.tmp_-F6Tc8l.tmp_.jpg
END:VEVENT
BEGIN:VEVENT
DTSTART;TZID=America/Denver:20260120T150000
DTEND;TZID=America/Denver:20260120T163000
DTSTAMP:20260421T055748
CREATED:20260113T175453Z
LAST-MODIFIED:20260401T155205Z
UID:10001339-1768921200-1768926600@www.frcs.org
SUMMARY:Elementary Art Club
DESCRIPTION:Dates: Tuesdays from January 20 through March 31\, 3-4:30pm\nLocation: Elementary art room\nStudents: 3rd-6th grades — minimum 5; maximum 15\nCost: $270 per student (includes all supplies and snacks) \nStudents will dive deep into two different topics (5 weeks on each). Activities include various art projects related to each theme\, reading books\, and exploring simple studies on the theme. Topics are still to be determined\, but two early contenders include nature and outer space. This club is open to all 3rd-6th grade students\, no matter their current skill level. Register using the form below. If you have questions\, email club coordinator and elementary art teacher Cassie Elmer. Use the form below to sign your student up for the club. \nPlease enable JavaScript in your browser to complete this form.Please enable JavaScript in your browser to complete this form.Parent name *FirstLastParent email *		\n			email Parent grade\n			\n		\n		Student name *FirstLastStudent grade *--- Select Choice ---6th5th4th3rdPayment Agreement *I understand that payment for this club will be charged to my FACTS account on January 20 and be automatically processed 10 days later.Submit
URL:https://www.frcs.org/event/elementary-art-club/2026-01-20/
LOCATION:FRCS Elementary\, 6657 W Ottawa Ave\, Ste A-18\, Littleton\, CO\, 80128\, United States
CATEGORIES:Arts Calendar,Elementary Calendar
ATTACH;FMTTYPE=image/jpeg:https://www.frcs.org/wp-content/uploads/2024/05/painting-rhondak-native-florida-folk-artist-unsplash.jpg
END:VEVENT
BEGIN:VEVENT
DTSTART;TZID=America/Denver:20260120T163000
DTEND;TZID=America/Denver:20260120T190000
DTSTAMP:20260421T055748
CREATED:20251027T205005Z
LAST-MODIFIED:20251027T205005Z
UID:10001316-1768926600-1768935600@www.frcs.org
SUMMARY:Basketball\, home vs Denver Academy
DESCRIPTION:The Falcons host Denver Academy \nBoys JV: 4:30pm\nGirls JV: 5:30pm\nBoys V: 7pm \nGo\, Falcons!
URL:https://www.frcs.org/event/basketball-home-vs-denver-academy/
LOCATION:CO
CATEGORIES:Athletic Calendar
ATTACH;FMTTYPE=image/jpeg:https://www.frcs.org/wp-content/uploads/2021/03/basketball-score-markus-spiske-unsplash.jpg
END:VEVENT
BEGIN:VEVENT
DTSTART;TZID=America/Denver:20260121T160000
DTEND;TZID=America/Denver:20260121T190000
DTSTAMP:20260421T055748
CREATED:20260115T203214Z
LAST-MODIFIED:20260115T203214Z
UID:10001397-1769011200-1769022000@www.frcs.org
SUMMARY:MS Girls Basketball\, home vs St. John’s
DESCRIPTION:The Falcons host St John’s Lutheran \nSilver: 4pm\nBlack: 5pm\nPurple: 6pm \nGo\, Falcons!
URL:https://www.frcs.org/event/ms-girls-basketball-home-vs-st-johns/
LOCATION:FRCS Gym\, 6637 W Ottawa Ave 1\, Littleton\, CO\, 80128\, United States
CATEGORIES:Athletic Calendar
ATTACH;FMTTYPE=image/jpeg:https://www.frcs.org/wp-content/uploads/2025/03/basketball-abhishek-chandra-unsplash-TKACMN.tmp_-Ipc8k8.tmp_.jpg
GEO:1;1
X-APPLE-STRUCTURED-LOCATION;VALUE=URI;X-ADDRESS=FRCS Gym 6637 W Ottawa Ave 1 Littleton CO 80128 United States;X-APPLE-RADIUS=500;X-TITLE=6637 W Ottawa Ave 1:geo:1,1
END:VEVENT
BEGIN:VEVENT
DTSTART;TZID=America/Denver:20260122T160000
DTEND;TZID=America/Denver:20260122T210000
DTSTAMP:20260421T055748
CREATED:20251027T205200Z
LAST-MODIFIED:20251201T175015Z
UID:10001317-1769097600-1769115600@www.frcs.org
SUMMARY:Basketball\, home vs Dawson
DESCRIPTION:The Falcons host Dawson \nGirls JV: 4pm\nBoys JV: 4:30pm\nGirls V: 6pm\nBoys V: 7:30pm \nGo\, Falcons!
URL:https://www.frcs.org/event/basketball-home-vs-dawson/
LOCATION:FRCS Gym\, 6637 W Ottawa Ave 1\, Littleton\, CO\, 80128\, United States
CATEGORIES:Athletic Calendar
ATTACH;FMTTYPE=image/jpeg:https://www.frcs.org/wp-content/uploads/2021/03/basketball-score-markus-spiske-unsplash.jpg
GEO:1;1
X-APPLE-STRUCTURED-LOCATION;VALUE=URI;X-ADDRESS=FRCS Gym 6637 W Ottawa Ave 1 Littleton CO 80128 United States;X-APPLE-RADIUS=500;X-TITLE=6637 W Ottawa Ave 1:geo:1,1
END:VEVENT
BEGIN:VEVENT
DTSTART;TZID=America/Denver:20260122T163000
DTEND;TZID=America/Denver:20260122T180000
DTSTAMP:20260421T055748
CREATED:20250331T185956Z
LAST-MODIFIED:20250331T185956Z
UID:10001042-1769099400-1769104800@www.frcs.org
SUMMARY:ECE Open House
DESCRIPTION:Imagine a school where your child’s education extends beyond traditional lessons and becomes an integral part of a vibrant community\, rooted in love for Jesus and care for one another. At Front Range Christian School\, we take pride in our role of educating children\, recognizing that each student is unique and deeply loved by God. We partner with you to prepare your child for life\, helping them embrace their faith as their own and equipping them to make a positive impact in the world for Christ. \nFamilies with children entering preschool or pre-kindergarten are invited to join us for an open house. Take a tour of our facility\, meet teachers and staff\, and learn more about our incredible early childhood education programs. Use the link below to register\, or email our admissions team to learn more. \nREGISTER HERE
URL:https://www.frcs.org/event/ece-open-house/
LOCATION:FRCS Early Childhood Education Center\, 6657 W Ottawa Ave\, Ste C3\, Littleton\, CO\, 80128\, United States
CATEGORIES:Admissions Calendar,ECE Calendar
ATTACH;FMTTYPE=image/jpeg:https://www.frcs.org/wp-content/uploads/2025/03/ece-entry-1150x450-1.jpg
GEO:1;1
X-APPLE-STRUCTURED-LOCATION;VALUE=URI;X-ADDRESS=FRCS Early Childhood Education Center 6657 W Ottawa Ave Ste C3 Littleton CO 80128 United States;X-APPLE-RADIUS=500;X-TITLE=6657 W Ottawa Ave\, Ste C3:geo:1,1
END:VEVENT
BEGIN:VEVENT
DTSTART;TZID=America/Denver:20260122T173000
DTEND;TZID=America/Denver:20260122T190000
DTSTAMP:20260421T055748
CREATED:20251211T183900Z
LAST-MODIFIED:20260115T213215Z
UID:10001337-1769103000-1769108400@www.frcs.org
SUMMARY:Learning Services Workshop
DESCRIPTION:At FRCS\, our mission is “to partner with the Christian home and the church in training children for life and equipping them to impact the world for Christ.” \nWithin Learning Services\, we strongly believe that our students are most successful when we are able to partner with the home because learning happens everywhere. Each of our parents has already made a significantly impactful decision in choosing FRCS’s teachers and community to come alongside them in raising up their students in an academically rigorous environment. \nTo further the partnership between home and the school\, the Learning Services invites parents to participate in a 3-part series of workshops geared toward understanding how your child’s brain works and providing practical tools and strategies to support them at home. \nDuring the first workshop\, we will outline the structure of our Learning Services department and help you understand the types of support and resources we offer from preschool through 12th grade. \nAt the second workshop\, we will dive deep into the mind of students with dyslexia using a simulation designed by the Dyslexia Training Institute. \nTo conclude the series\, we will explore a variety of different learning differences including ADHD\, anxiety\, dyscalculia and more. This exploration includes ways in which you can support these learning differences at home\, reinforcing what students experience at school. \nYou are not required to attend all 3 sessions if you register for the workshop. You are invited to all three\, but are welcome to attend whichever best fits your needs as a parent. Sessions are in January on Thursdays (15\, 22\, and 29)\, from 5:30-7pm. Childcare is available for $5 per family\, with the option to donate more to support our school programs. \nRSVP FOR WORKSHOP
URL:https://www.frcs.org/event/learning-services-workshop/2026-01-22/
LOCATION:Wiersma Center (Jr/Sr High Campus)\, 6637 W Ottawa Ave\, Littleton\, CO\, 80128
CATEGORIES:Parent Dashboard
ATTACH;FMTTYPE=image/jpeg:https://www.frcs.org/wp-content/uploads/2021/06/multiple-intelligences.jpg
END:VEVENT
BEGIN:VEVENT
DTSTART;VALUE=DATE:20260123
DTEND;VALUE=DATE:20260124
DTSTAMP:20260421T055748
CREATED:20250827T155654Z
LAST-MODIFIED:20250827T155654Z
UID:10001247-1769126400-1769212799@www.frcs.org
SUMMARY:Senior Ad Final Deadline
DESCRIPTION:Parents\, honor your soon-to-be high school graduate with an ad in the FRCS yearbook. To purchase an ad\, use the button below to create an account on Josten’s website then follow the prompts. If you already have an account\, you can use the button to login. If you have questions\, please email Melissa Meleski for more information. \nToday is the last day to order an ad for your senior. \nBuy an Ad
URL:https://www.frcs.org/event/senior-ad-final-deadline/
LOCATION:CO
CATEGORIES:Parent Dashboard
ATTACH;FMTTYPE=image/jpeg:https://www.frcs.org/wp-content/uploads/2025/08/yearbook-open-edge.jpg
END:VEVENT
BEGIN:VEVENT
DTSTART;TZID=America/Denver:20260123T160000
DTEND;TZID=America/Denver:20260123T190000
DTSTAMP:20260421T055748
CREATED:20260115T203344Z
LAST-MODIFIED:20260115T203344Z
UID:10001398-1769184000-1769194800@www.frcs.org
SUMMARY:MS Girls Basketball at Fitzsimmons
DESCRIPTION:The Falcons vs. Fitzsimmons Middle School \nPurple: 4pm\nSilver: 5pm\nBlack: 6pm \nGo\, Falcons!
URL:https://www.frcs.org/event/ms-girls-basketball-at-fitzsimmons/
LOCATION:CO
CATEGORIES:Athletic Calendar
ATTACH;FMTTYPE=image/jpeg:https://www.frcs.org/wp-content/uploads/2025/03/basketball-abhishek-chandra-unsplash-TKACMN.tmp_-Ipc8k8.tmp_.jpg
END:VEVENT
BEGIN:VEVENT
DTSTART;TZID=America/Denver:20260124T100000
DTEND;TZID=America/Denver:20260124T150000
DTSTAMP:20260421T055748
CREATED:20251027T205408Z
LAST-MODIFIED:20251201T175202Z
UID:10001318-1769248800-1769266800@www.frcs.org
SUMMARY:Basketball\, home vs Platte Canyon
DESCRIPTION:The Falcons host Platte Canyon \nGirls JV: 10am\nBoys JV: 10:30am\nGirls V: 12pm\nBoys V: 1:30pm \nGo\, Falcons!
URL:https://www.frcs.org/event/basketball-home-vs-platte-canyon/
LOCATION:FRCS Gym\, 6637 W Ottawa Ave 1\, Littleton\, CO\, 80128\, United States
CATEGORIES:Athletic Calendar
ATTACH;FMTTYPE=image/jpeg:https://www.frcs.org/wp-content/uploads/2021/03/basketball-score-markus-spiske-unsplash.jpg
GEO:1;1
X-APPLE-STRUCTURED-LOCATION;VALUE=URI;X-ADDRESS=FRCS Gym 6637 W Ottawa Ave 1 Littleton CO 80128 United States;X-APPLE-RADIUS=500;X-TITLE=6637 W Ottawa Ave 1:geo:1,1
END:VEVENT
END:VCALENDAR