BEGIN:VCALENDAR
VERSION:2.0
PRODID:-//Front Range Christian School - ECPv6.15.20//NONSGML v1.0//EN
CALSCALE:GREGORIAN
METHOD:PUBLISH
X-ORIGINAL-URL:https://www.frcs.org
X-WR-CALDESC:Events for Front Range Christian School
REFRESH-INTERVAL;VALUE=DURATION:PT1H
X-Robots-Tag:noindex
X-PUBLISHED-TTL:PT1H
BEGIN:VTIMEZONE
TZID:America/Denver
BEGIN:DAYLIGHT
TZOFFSETFROM:-0700
TZOFFSETTO:-0600
TZNAME:MDT
DTSTART:20240310T090000
END:DAYLIGHT
BEGIN:STANDARD
TZOFFSETFROM:-0600
TZOFFSETTO:-0700
TZNAME:MST
DTSTART:20241103T080000
END:STANDARD
BEGIN:DAYLIGHT
TZOFFSETFROM:-0700
TZOFFSETTO:-0600
TZNAME:MDT
DTSTART:20250309T090000
END:DAYLIGHT
BEGIN:STANDARD
TZOFFSETFROM:-0600
TZOFFSETTO:-0700
TZNAME:MST
DTSTART:20251102T080000
END:STANDARD
BEGIN:DAYLIGHT
TZOFFSETFROM:-0700
TZOFFSETTO:-0600
TZNAME:MDT
DTSTART:20260308T090000
END:DAYLIGHT
BEGIN:STANDARD
TZOFFSETFROM:-0600
TZOFFSETTO:-0700
TZNAME:MST
DTSTART:20261101T080000
END:STANDARD
END:VTIMEZONE
BEGIN:VEVENT
DTSTART;VALUE=DATE:20251201
DTEND;VALUE=DATE:20251202
DTSTAMP:20260421T073149
CREATED:20250827T155142Z
LAST-MODIFIED:20250827T155142Z
UID:10001246-1764547200-1764633599@www.frcs.org
SUMMARY:Senior Quote Due
DESCRIPTION:We ask seniors to submit a quote for the yearbook. The quote should be something meaningful to the senior. When quoting an individual or book\, please include the name of the author or speaker. \nQuotes should be emailed to Melissa Meleski with the subject line “[Name]’s Senior Quote”.
URL:https://www.frcs.org/event/senior-quote-due/
LOCATION:CO
CATEGORIES:Jr/Sr High Calendar
ATTACH;FMTTYPE=image/jpeg:https://www.frcs.org/wp-content/uploads/2025/08/life-is-short-manasvita-s-unsplash-1150x450-1.jpg
END:VEVENT
BEGIN:VEVENT
DTSTART;TZID=America/Denver:20251201T160000
DTEND;TZID=America/Denver:20251201T180000
DTSTAMP:20260421T073149
CREATED:20250930T191142Z
LAST-MODIFIED:20250930T191142Z
UID:10001294-1764604800-1764612000@www.frcs.org
SUMMARY:MS Boys Basketball\, home vs Bear Creek
DESCRIPTION:The Falcons host Bear Creek K-8 \nSilver: 4pm\nBlack: 5pm \nGo\, Falcons!
URL:https://www.frcs.org/event/ms-boys-basketball-home-vs-bear-creek/
LOCATION:CO
CATEGORIES:Athletic Calendar
ATTACH;FMTTYPE=image/jpeg:https://www.frcs.org/wp-content/uploads/2025/03/basketball-abhishek-chandra-unsplash-TKACMN.tmp_-Ipc8k8.tmp_.jpg
END:VEVENT
BEGIN:VEVENT
DTSTART;TZID=America/Denver:20251202T160000
DTEND;TZID=America/Denver:20251202T210000
DTSTAMP:20260421T073149
CREATED:20251027T194936Z
LAST-MODIFIED:20251201T174241Z
UID:10001308-1764691200-1764709200@www.frcs.org
SUMMARY:Basketball\, home vs. Twin Peaks Charter
DESCRIPTION:The Falcons host Twin Peaks Charter school \nGirls JV: 4pm\nBoys JV: 4:30pm\nGirls V: 6pm\nBoys V: 7:30pm \nGo\, Falcons!
URL:https://www.frcs.org/event/basketball-home-vs-twin-peaks-charter/
LOCATION:FRCS Gym\, 6637 W Ottawa Ave 1\, Littleton\, CO\, 80128\, United States
CATEGORIES:Athletic Calendar
ATTACH;FMTTYPE=image/jpeg:https://www.frcs.org/wp-content/uploads/2021/03/basketball-score-markus-spiske-unsplash.jpg
GEO:1;1
X-APPLE-STRUCTURED-LOCATION;VALUE=URI;X-ADDRESS=FRCS Gym 6637 W Ottawa Ave 1 Littleton CO 80128 United States;X-APPLE-RADIUS=500;X-TITLE=6637 W Ottawa Ave 1:geo:1,1
END:VEVENT
BEGIN:VEVENT
DTSTART;TZID=America/Denver:20251203T085500
DTEND;TZID=America/Denver:20251203T094500
DTSTAMP:20260421T073149
CREATED:20250331T173327Z
LAST-MODIFIED:20251107T210532Z
UID:10001026-1764752100-1764755100@www.frcs.org
SUMMARY:All School Christmas Chapel
DESCRIPTION:All students gather in the PAC for the traditional reading of the Christmas story and a celebration of music. This chapel replaces the elementary chapel normally held on Thursday mornings for the week.
URL:https://www.frcs.org/event/all-school-christmas-chapel/
LOCATION:Performing Arts Center\, 6637 W Ottawa Ave.\, Littleton\, CO\, 80128\, United States
CATEGORIES:Elementary Calendar,Jr/Sr High Calendar
ATTACH;FMTTYPE=image/jpeg:https://www.frcs.org/wp-content/uploads/2021/12/nativity-figurines-gareth-harper-unsplash.jpg
GEO:1;1
X-APPLE-STRUCTURED-LOCATION;VALUE=URI;X-ADDRESS=Performing Arts Center 6637 W Ottawa Ave. Littleton CO 80128 United States;X-APPLE-RADIUS=500;X-TITLE=6637 W Ottawa Ave.:geo:1,1
END:VEVENT
BEGIN:VEVENT
DTSTART;TZID=America/Denver:20251203T160000
DTEND;TZID=America/Denver:20251203T180000
DTSTAMP:20260421T073149
CREATED:20250930T191334Z
LAST-MODIFIED:20250930T191334Z
UID:10001295-1764777600-1764784800@www.frcs.org
SUMMARY:MS Boys Basketball at St John’s
DESCRIPTION:The Falcons vs St John’s Lutheran \nSilver: 4pm\nBlack: 5pm \nGo\, Falcons!
URL:https://www.frcs.org/event/ms-boys-basketball-at-st-johns/
LOCATION:St. John’s Lutheran School\, 700 S Franklin St\, Denver\, CO\, 80209
CATEGORIES:Athletic Calendar
ATTACH;FMTTYPE=image/jpeg:https://www.frcs.org/wp-content/uploads/2025/03/basketball-abhishek-chandra-unsplash-TKACMN.tmp_-Ipc8k8.tmp_.jpg
END:VEVENT
BEGIN:VEVENT
DTSTART;TZID=America/Denver:20251205T161500
DTEND;TZID=America/Denver:20251205T191500
DTSTAMP:20260421T073149
CREATED:20250930T191702Z
LAST-MODIFIED:20250930T191702Z
UID:10001296-1764951300-1764962100@www.frcs.org
SUMMARY:MS Boys Basketball at Cherry Hills
DESCRIPTION:The Falcons vs. Cherry Hills Christian School \nBlack: 4:15pm\nSilver: 5:15pm\nPurple: 6:15pm \nGo\, Falcons!
URL:https://www.frcs.org/event/ms-boys-basketball-at-cherry-hills/
LOCATION:Cherry Hills Christian School\, 3900 Grace Blvd\, Highlands Ranch\, Colorado\, 80126
CATEGORIES:Athletic Calendar
ATTACH;FMTTYPE=image/jpeg:https://www.frcs.org/wp-content/uploads/2025/03/basketball-abhishek-chandra-unsplash-TKACMN.tmp_-Ipc8k8.tmp_.jpg
END:VEVENT
BEGIN:VEVENT
DTSTART;TZID=America/Denver:20251206T093000
DTEND;TZID=America/Denver:20251206T133000
DTSTAMP:20260421T073149
CREATED:20251024T203743Z
LAST-MODIFIED:20251204T205248Z
UID:10001306-1765013400-1765027800@www.frcs.org
SUMMARY:Holy Grounds Craft Fair
DESCRIPTION:Join us for the 2nd Annual Holy Grounds Craft Fair!\nSaturday\, December 6\, from 9:30am-1:30pm\nJoin us for an array of handmade and handcrafted goods — there’s sure to be a little something for everyone at this FREE event. Shop unique and handmade gifts for everyone on your list and enjoy full coffee service at Holy Grounds. You can preview the vendors and some of their goods below. We hope to see you there! \nPS – we still have a few spots open for vendors; if you’re a crafter who is interested in joining us as a vendor\, the registration form is at the bottom of this page. \n\nThe Vendors (listed alphabetically)\n303 Creative Artisan\nTypes of goods: handcrafted artisan soap\, earrings\, hats\nContact info: https://303creative.com • 720-263-CMYK • info@303creative.com \n   \nCassie Elmer\nTypes of goods: handmade cards\, hand drawn and painted pictures\nContact info: cassie.elmer@frcs.org \nphotos not provided \nCherry Bean Coffee\nTypes of goods: Coquito (eggnog)\, lemonades\, and bread\nContact info: https://www.cherrybeancoffee.co/ • 720-877-5367 \n  \nChristine’s Curated NOVELties\nTypes of goods: “Blind Date with a Book” packages (wrapped books with bookish goodies like bookmarks\, stickers\, annotating tabs\, tea/cocoa\, etc.)\nContact info: 720-233-4254 • cpbraun59@yahoo.com \n \nDan & Shiela’s Creations\nTypes of goods: 3D printed toys\, sublimation printed tumblers\, cutting boards\, wall decor\nContact info: phone or text 303-570-5797 • sheilamw@gmail.com \n   \nDouglas Huner Photography\nTypes of goods: photo magnets; coasters; 5×7\, 8×10\, and 11×14 photo prints\nContact info: Instagram: photos_by_douglas • text 303-598-1522 \n   \nGerri Cameron\nTypes of goods: salsa\, Christmas jam\, Christmas cranberry chutney\nContact info: gcameron@frcs.org • 303-525-0467 \nphotos not provided \njenna grace creations\nTypes of goods: hair bows\, several different styles of Nativity decor (including candles\, wooden blocks\, and sun catchers)\, small bags & pouches\nContact info: jennagracecreations@gmail.com • Facebook messenger @jenna grace creations \n   \nJoyArtists\nTypes of goods: wood burnings\, crochet items\, artwork\nContact info: JoyArtists.etsy.com • Joyful-Occasion.com • Dinae.joy.designs@gmail.com • 303-621-4549 \nphotos not provided \nKaty Betz Studio: Creation Space for Imagination\nTypes of goods: greeting cards\, fine art prints\, and original paintings\, hand-painted ornaments\, stickers\, and gift certificates\nContact info: Instagram: katybetzstudio • https://www.katybetz.com • katybetzstudio@gmail.com \nphotos not provided \nL6 Events Co.\nTypes of goods: permanent jewelry\nContact info: Instagram: https://l6eventsco.com \nphotos not provided \nLight and Crunchy\nTypes of goods: freeze dried snacks\nContact info: https://www.facebook.com/profile.php?id=61581493097484 \nphotos not provided \nLinda’s Crafts\nTypes of goods: custom crocheted items\nContact info: 303-933-5332 \nphotos not provided \nLittle Wooden Tree Farm\nTypes of goods: handmade wooden Christmas trees AND blanket ladders\nContact info: rjkoch@gmail.com \n  \nMaggie Moo Minis\nTypes of goods: crocheted loveys\nContact info: Instagram: maggiemoominis • maggiemooknits@gmail.com \nphotos not provided \nMariya Vigil\nTypes of goods: mental health and affirmation bracelets and swag\, as well as Colorado swag and stickers and lots of Christmas sublimated items (ornaments\, dish towels\, etc.)\nContact info: https://endless-trails.com \nphotos not provided \nMegan Givvin\nTypes of goods: cards and ornaments\nContact info: delmontequality@gmail.com • 303-523-8328 \nphotos not provided \nRevive Wellness Center\nTypes of goods: homemade heat packs\, oil blends\, massage gift certificates\nContact info: https://www.massagebook.com/biz/revive-wellness-center • Kellie.revivewellnesscenter@gmail.com • text 720-519-8617 \nphotos not provided \nRoxborough Woodworks\nTypes of goods: cutting boards\, charcuterie boards\, bowls\nContact info: jimjimson65@gmail.com • 303-656-7039 \n \nSage Mountain Freeze-Dry\, LLC\nTypes of goods: freeze-dried fruits\, veggies\, and candy\nContact info: https://sagemountainfreezedry.com \nphotos not provided \nSalt + Sabbath\nTypes of goods: Christian apparel\, hand-poured candles inspired by the gospel\, prayer journals\, notebooks\nContact info: https://saltandsabbath.com • email: hello@saltandsabbath.com \n   \nSnitches get Stitches Crochet Co.\nTypes of goods: crocheted items\nContact info: none provided \n   \nThree Dogs Art\nTypes of goods: wood art\nContact info: https://three-dogs-art.myshopify.com/ • Social media: @threedogsart • email: threedogsart20@gmail.com \nphotos not provided \nTikka’s House\nTypes of goods: jewelry\, candies\, hats\nContact info: https://tikkashouse.org/ • Instagram: @tikkas.house \n   \n \n\nAre you a crafter who wants to register?\nWe still have room for a few more vendors. If you’d like to be a vendor at the Holy Grounds Craft Fair\, please complete the form below. Note that this event is only for vendors age 18+ (we will have a kids craft fair in April) and it is only for those making handmade or handcrafted goods (no MLMs). If you have questions\, please email holygrounds@frcs.org\, events@frcs.org\, or comm@frcs.org. \nPlease enable JavaScript in your browser to complete this form.Please enable JavaScript in your browser to complete this form.Email *Registrant Name *FirstLastWhat is your relationship with FRCS? *--- Select Choice ---Parent of FRCS studentGrandparent\, aunt\, uncle of FRCS studentFRCS staff member/coachFriend of an FRCS family or staff memberOther“Other” description  *you selected "other"; please specify your relationship with FRCSVendor nameIf different from your registration name. This will be used in promoting the craft fair.What type of goods do you plan to sell at the craft fair? *e.g.\, soap\, woodcrafts\, pottery\, jewelry\, knit or crochet items\, etc.Are your goods handmade/handcrafted?Yes\, by meYes\, by someone other than meNoWho made your goods? *You indicated that someone else made your goods or that they are not handmade. Specify who made your goods. Please remember that ALL goods must be handmade or handcrafted\, and absolutely NO MLMs allowed.Do you need electricity at your table *NoYes; I must have electricityI would like to have electricity\, but it is not requiredPlease note that tables with access to electricity are very limited. You will need to bring your own extension cords and power strips\, if needed.How many chairs do you need for your table *--- Select Choice ---0123Tables are 6' wide\, so there will not be room for more than three chairs at each table.Do you have items to display that will not fit on a standard 6' table? *--- Select Choice ---No\, everything will fit on my tableYes\, I have product that is too large for the tableYes\, I display my product on something that won't fit on a table.Yes\, I have a large backdrop I'd like to use behind my table.Yes (other or combination of the above)This includes product and displays. We will try to accommodate you\, but please keep in mind that the show is designed for everything to be displayed on a table.Website / URLIf you have a website to sell or promote your goods\, please list it here. This information will be shared with shoppers.Phone *This is for our records and will not be shared with shoppers.If shoppers have questions\, please list the ways in which they may contact you outside of the craft fair.This information will be published to shoppers; you may want to include social media handles\, phone number\, email address\, etc. This field is optional but recommended.How are your goods sold? *--- Select Choice ---I will sell actual\, physical goods at the fairI will take orders for custom\, crafted goods at the fairI will sell physical goods and take custom ordersOtherPlease describe *You selected "Other"; please describe how your goods are sold.Photos of your goods\n	\n		\n			\n		\n\n		\n							Drag & Drop Files\, 				Choose Files to Upload\n					\n\n					You can upload up to 3 files.\n			\n\n\n\nIf you would like\, please include 1-3 photos of yours goods or samples of your goods. Uploading photos grants FRCS permission to use these photos to promote this craft fair.		\n			describe not chairs\n			\n		\n		Vendor Agreement\nAs a vendor at the Holy Grounds Craft Fair at Front Range Christian School (FRCS)\, I: \n\nagree to conduct myself in a manner consistent with Christian values while on campus\nconfirm that I am at least 18 years of age and that those who will work my table are at least 18 years of age (please no students)\nunderstand that being a vendor at the fair does not constitute a legal or binding business relationship with FRCS outside that of event host (FRCS) and entity renting space at the event (vendor)\nwill bring sufficient inventory or samples of my goods to sell or take orders during the fair\nacknowledge that I am wholly responsible for accepting payments for my goods\ntake responsibility for any tax reporting or payments that may arise as a result of me selling goods at the Craft Fair\nwaive any liability of FRCS in the event of theft\, damage\, or injury as per the Waiver of Liability signed by all FRCS parents (if you are not an FRCS parent or staff member\, you will be asked to sign the Waiver before setting up your table for the Craft Fair)\nunderstand that FRCS makes no claims or guarantees about the number of shoppers who will attend the Craft Fair or how much each vendor may sell during the fair\n\nSignature *\n				\n					\n				\n				Clear Signature\n			Number of tables you need for the Fair *1 table - $30.002 tables - $45.00Tables are 6' wide. If you need more than two tables\, please contact holygrounds@frcs.org to see if we can accommodate your request before submitting this form.Secure Square Payment *CardName on CardCredit Card Billing Address *Address Line 1Address Line 2City--- Select state ---AlabamaAlaskaArizonaArkansasCaliforniaColoradoConnecticutDelawareDistrict of ColumbiaFloridaGeorgiaHawaiiIdahoIllinoisIndianaIowaKansasKentuckyLouisianaMaineMarylandMassachusettsMichiganMinnesotaMississippiMissouriMontanaNebraskaNevadaNew HampshireNew JerseyNew MexicoNew YorkNorth CarolinaNorth DakotaOhioOklahomaOregonPennsylvaniaRhode IslandSouth CarolinaSouth DakotaTennesseeTexasUtahVermontVirginiaWashingtonWest VirginiaWisconsinWyomingStateZip CodeThis information is only used for your payment.Register
URL:https://www.frcs.org/event/holy-grounds-craft-fair/
LOCATION:Holy Grounds Cafe\, 6657 W Ottawa Ave\, Ste A-19\, Littleton\, CO\, 80128\, United States
CATEGORIES:Parent Dashboard
ATTACH;FMTTYPE=image/jpeg:https://www.frcs.org/wp-content/uploads/2025/10/craft-fair-web-banner.jpg
GEO:1;1
X-APPLE-STRUCTURED-LOCATION;VALUE=URI;X-ADDRESS=Holy Grounds Cafe 6657 W Ottawa Ave Ste A-19 Littleton CO 80128 United States;X-APPLE-RADIUS=500;X-TITLE=6657 W Ottawa Ave\, Ste A-19:geo:1,1
END:VEVENT
END:VCALENDAR