BEGIN:VCALENDAR
VERSION:2.0
PRODID:-//Front Range Christian School - ECPv6.15.20//NONSGML v1.0//EN
CALSCALE:GREGORIAN
METHOD:PUBLISH
X-ORIGINAL-URL:https://www.frcs.org
X-WR-CALDESC:Events for Front Range Christian School
REFRESH-INTERVAL;VALUE=DURATION:PT1H
X-Robots-Tag:noindex
X-PUBLISHED-TTL:PT1H
BEGIN:VTIMEZONE
TZID:America/Denver
BEGIN:DAYLIGHT
TZOFFSETFROM:-0700
TZOFFSETTO:-0600
TZNAME:MDT
DTSTART:20240310T090000
END:DAYLIGHT
BEGIN:STANDARD
TZOFFSETFROM:-0600
TZOFFSETTO:-0700
TZNAME:MST
DTSTART:20241103T080000
END:STANDARD
BEGIN:DAYLIGHT
TZOFFSETFROM:-0700
TZOFFSETTO:-0600
TZNAME:MDT
DTSTART:20250309T090000
END:DAYLIGHT
BEGIN:STANDARD
TZOFFSETFROM:-0600
TZOFFSETTO:-0700
TZNAME:MST
DTSTART:20251102T080000
END:STANDARD
BEGIN:DAYLIGHT
TZOFFSETFROM:-0700
TZOFFSETTO:-0600
TZNAME:MDT
DTSTART:20260308T090000
END:DAYLIGHT
BEGIN:STANDARD
TZOFFSETFROM:-0600
TZOFFSETTO:-0700
TZNAME:MST
DTSTART:20261101T080000
END:STANDARD
END:VTIMEZONE
BEGIN:VEVENT
DTSTART;TZID=America/Denver:20251116T123000
DTEND;TZID=America/Denver:20251116T150000
DTSTAMP:20260422T054809
CREATED:20250916T194101Z
LAST-MODIFIED:20251007T183218Z
UID:10001279-1763296200-1763305200@www.frcs.org
SUMMARY:Godly Sexuality Conference - Grades 6-8
DESCRIPTION:UPDATE: The date for this conference has been updated. The speaker had to adjust the date due to unforeseen circumstances. Everything else about the event remains unchanged. \nFront Range Christian School is excited to partner with Authentic Life Church to bring you two conferences around the topic of godly sexuality. Both conferences will feature Shelly Donahue\, a decorated guest speaker on this topic\, and in both sessions Shelly teaches parents to overcome fear and talk to their kids about sexuality with confidence and competence. At the same time\, teens gain a clear vision of the physical\, emotional\, spiritual\, financial\, and relational benefits of waiting until marriage. It’s a wholistic approach to relationship education. \nWe believe that this topic is important\, and we see a profound opportunity here for the church and the school to partner together. The focus of this time is to help students reflect about how to love well\, how to live well\, and how to find their identity in Jesus Christ. \nThis session is specifically intended for middle school and junior high students (grades 6-8) and parents (there is another on October 5 for senior high students and parents). The session is designed so that parents or guardians should attend alongside students (don’t worry — it won’t be totally awkward!). Please note that this event is not exclusive to FRCS\, and others from outside our school community will also attend. In fact\, feel free to invite friends or others in the Littleton area! The cost is FREE\, but we ask that you register in advance by using the button below. A pizza lunch will be served at the conference. \nREGISTER \n\nIt is also worth mentioning that we are incredibly grateful for the opportunity to partner with Authentic Life Church to bring this event to you. If you see other opportunities for FRCS to partner with local area churches\, then please let Mr. Spector or Mrs. Hart know.
URL:https://www.frcs.org/event/godly-sexuality-conference-grades-6-8/
LOCATION:Authentic Life Church\, 6500 W Coal Mine Ave\, Littleton\, CO\, 80123\, United States
CATEGORIES:Elementary Calendar,Jr/Sr High Calendar,Parent Dashboard
ATTACH;FMTTYPE=image/jpeg:https://www.frcs.org/wp-content/uploads/2025/07/cross-on-rope.jpg
END:VEVENT
BEGIN:VEVENT
DTSTART;TZID=America/Denver:20251117T163000
DTEND;TZID=America/Denver:20251117T183000
DTSTAMP:20260422T054809
CREATED:20250930T190209Z
LAST-MODIFIED:20250930T190209Z
UID:10001290-1763397000-1763404200@www.frcs.org
SUMMARY:MS Boys Basketball at Bear Creek
DESCRIPTION:The Falcons vs Bear Creek K-8 \nSilver: 4:30pm\nBlack: 5:30pm \nGo\, Falcons!
URL:https://www.frcs.org/event/ms-boys-basketball-at-bear-creek/
LOCATION:Bear Creek K-8 School\, 9601 W Dartmouth Pl\, Lakewood\, CO\, 80227
CATEGORIES:Athletic Calendar
ATTACH;FMTTYPE=image/jpeg:https://www.frcs.org/wp-content/uploads/2025/03/basketball-abhishek-chandra-unsplash-TKACMN.tmp_-Ipc8k8.tmp_.jpg
END:VEVENT
BEGIN:VEVENT
DTSTART;TZID=America/Denver:20251120T160000
DTEND;TZID=America/Denver:20251120T190000
DTSTAMP:20260422T054809
CREATED:20250930T190801Z
LAST-MODIFIED:20250930T190801Z
UID:10001292-1763654400-1763665200@www.frcs.org
SUMMARY:MS Boys Basketball\, home vs Flatirons
DESCRIPTION:The Falcons host Flatirons Academy \nPurple: 4pm\nSilver: 5pm\nBlack: 6pm \nGo\, Falcons!
URL:https://www.frcs.org/event/ms-boys-basketball-home-vs-flatirons/
LOCATION:FRCS Gym\, 6637 W Ottawa Ave 1\, Littleton\, CO\, 80128\, United States
CATEGORIES:Athletic Calendar
ATTACH;FMTTYPE=image/jpeg:https://www.frcs.org/wp-content/uploads/2025/03/basketball-abhishek-chandra-unsplash-TKACMN.tmp_-Ipc8k8.tmp_.jpg
GEO:1;1
X-APPLE-STRUCTURED-LOCATION;VALUE=URI;X-ADDRESS=FRCS Gym 6637 W Ottawa Ave 1 Littleton CO 80128 United States;X-APPLE-RADIUS=500;X-TITLE=6637 W Ottawa Ave 1:geo:1,1
END:VEVENT
BEGIN:VEVENT
DTSTART;TZID=America/Denver:20251120T190000
DTEND;TZID=America/Denver:20251120T213000
DTSTAMP:20260422T054809
CREATED:20250331T165439Z
LAST-MODIFIED:20251020T200328Z
UID:10001018-1763665200-1763674200@www.frcs.org
SUMMARY:Fall Play
DESCRIPTION:Join us for FRCS senior high production of the The Play that Goes Wrong\, the award winning comedy that has been a smash hit in both Britain and on Broadway. The play begins on opening night of The Murder at Haversham Manor where things quickly go from bad to utterly disastrous. With an unconscious leading lady\, a corpse that can’t play dead\, and actors who trip over everything (including their lines)\, this comedy of errors will have you laughing throughout the night. \nBUY TICKETS \n\nTHE PLAY THAT GOES WRONG is produced by special arrangement with Dramatists Play Service under license from Mischief Worldwide Ltd.
URL:https://www.frcs.org/event/fall-play/2025-11-20/
LOCATION:Performing Arts Center\, 6637 W Ottawa Ave.\, Littleton\, CO\, 80128\, United States
CATEGORIES:Arts Calendar,Jr/Sr High Calendar,Parent Dashboard,Registration Events for app
ATTACH;FMTTYPE=image/jpeg:https://www.frcs.org/wp-content/uploads/2025/03/red-curtain-rob-laughter-unsplash-1150x450-1-IBWELt.tmp_.jpg
GEO:1;1
X-APPLE-STRUCTURED-LOCATION;VALUE=URI;X-ADDRESS=Performing Arts Center 6637 W Ottawa Ave. Littleton CO 80128 United States;X-APPLE-RADIUS=500;X-TITLE=6637 W Ottawa Ave.:geo:1,1
END:VEVENT
BEGIN:VEVENT
DTSTART;TZID=America/Denver:20251121T190000
DTEND;TZID=America/Denver:20251121T213000
DTSTAMP:20260422T054809
CREATED:20250331T165439Z
LAST-MODIFIED:20251020T200328Z
UID:10001019-1763751600-1763760600@www.frcs.org
SUMMARY:Fall Play
DESCRIPTION:Join us for FRCS senior high production of the The Play that Goes Wrong\, the award winning comedy that has been a smash hit in both Britain and on Broadway. The play begins on opening night of The Murder at Haversham Manor where things quickly go from bad to utterly disastrous. With an unconscious leading lady\, a corpse that can’t play dead\, and actors who trip over everything (including their lines)\, this comedy of errors will have you laughing throughout the night. \nBUY TICKETS \n\nTHE PLAY THAT GOES WRONG is produced by special arrangement with Dramatists Play Service under license from Mischief Worldwide Ltd.
URL:https://www.frcs.org/event/fall-play/2025-11-21/
LOCATION:Performing Arts Center\, 6637 W Ottawa Ave.\, Littleton\, CO\, 80128\, United States
CATEGORIES:Arts Calendar,Jr/Sr High Calendar,Parent Dashboard,Registration Events for app
ATTACH;FMTTYPE=image/jpeg:https://www.frcs.org/wp-content/uploads/2025/03/red-curtain-rob-laughter-unsplash-1150x450-1-IBWELt.tmp_.jpg
GEO:1;1
X-APPLE-STRUCTURED-LOCATION;VALUE=URI;X-ADDRESS=Performing Arts Center 6637 W Ottawa Ave. Littleton CO 80128 United States;X-APPLE-RADIUS=500;X-TITLE=6637 W Ottawa Ave.:geo:1,1
END:VEVENT
BEGIN:VEVENT
DTSTART;TZID=America/Denver:20251122T190000
DTEND;TZID=America/Denver:20251122T213000
DTSTAMP:20260422T054809
CREATED:20250331T165439Z
LAST-MODIFIED:20251020T200328Z
UID:10001020-1763838000-1763847000@www.frcs.org
SUMMARY:Fall Play
DESCRIPTION:Join us for FRCS senior high production of the The Play that Goes Wrong\, the award winning comedy that has been a smash hit in both Britain and on Broadway. The play begins on opening night of The Murder at Haversham Manor where things quickly go from bad to utterly disastrous. With an unconscious leading lady\, a corpse that can’t play dead\, and actors who trip over everything (including their lines)\, this comedy of errors will have you laughing throughout the night. \nBUY TICKETS \n\nTHE PLAY THAT GOES WRONG is produced by special arrangement with Dramatists Play Service under license from Mischief Worldwide Ltd.
URL:https://www.frcs.org/event/fall-play/2025-11-22/
LOCATION:Performing Arts Center\, 6637 W Ottawa Ave.\, Littleton\, CO\, 80128\, United States
CATEGORIES:Arts Calendar,Jr/Sr High Calendar,Parent Dashboard,Registration Events for app
ATTACH;FMTTYPE=image/jpeg:https://www.frcs.org/wp-content/uploads/2025/03/red-curtain-rob-laughter-unsplash-1150x450-1-IBWELt.tmp_.jpg
GEO:1;1
X-APPLE-STRUCTURED-LOCATION;VALUE=URI;X-ADDRESS=Performing Arts Center 6637 W Ottawa Ave. Littleton CO 80128 United States;X-APPLE-RADIUS=500;X-TITLE=6637 W Ottawa Ave.:geo:1,1
END:VEVENT
END:VCALENDAR