BEGIN:VCALENDAR
VERSION:2.0
PRODID:-//Front Range Christian School - ECPv6.15.20//NONSGML v1.0//EN
CALSCALE:GREGORIAN
METHOD:PUBLISH
X-WR-CALNAME:Front Range Christian School
X-ORIGINAL-URL:https://www.frcs.org
X-WR-CALDESC:Events for Front Range Christian School
REFRESH-INTERVAL;VALUE=DURATION:PT1H
X-Robots-Tag:noindex
X-PUBLISHED-TTL:PT1H
BEGIN:VTIMEZONE
TZID:America/Denver
BEGIN:DAYLIGHT
TZOFFSETFROM:-0700
TZOFFSETTO:-0600
TZNAME:MDT
DTSTART:20240310T090000
END:DAYLIGHT
BEGIN:STANDARD
TZOFFSETFROM:-0600
TZOFFSETTO:-0700
TZNAME:MST
DTSTART:20241103T080000
END:STANDARD
BEGIN:DAYLIGHT
TZOFFSETFROM:-0700
TZOFFSETTO:-0600
TZNAME:MDT
DTSTART:20250309T090000
END:DAYLIGHT
BEGIN:STANDARD
TZOFFSETFROM:-0600
TZOFFSETTO:-0700
TZNAME:MST
DTSTART:20251102T080000
END:STANDARD
BEGIN:DAYLIGHT
TZOFFSETFROM:-0700
TZOFFSETTO:-0600
TZNAME:MDT
DTSTART:20260308T090000
END:DAYLIGHT
BEGIN:STANDARD
TZOFFSETFROM:-0600
TZOFFSETTO:-0700
TZNAME:MST
DTSTART:20261101T080000
END:STANDARD
END:VTIMEZONE
BEGIN:VEVENT
DTSTART;VALUE=DATE:20251110
DTEND;VALUE=DATE:20251111
DTSTAMP:20260422T033126
CREATED:20251007T162710Z
LAST-MODIFIED:20251007T162710Z
UID:10001299-1762732800-1762819199@www.frcs.org
SUMMARY:Scheduled Snow Day
DESCRIPTION:As an item for the Auction last spring\, we auctioned an opportunity to call a snow day for the school in the fall. The date for this scheduled snow day is set for Monday\, November 10. There will be no school this day. \nWhy are we letting a family call a snow day?\nCalling a snow is a fun\, unique item made available at the FRCS Auction. Several families bid on the item\, which makes it a great fundraiser for the school — similar to items like the teacher outings or “be a teacher for a day.” The chosen date must be approved by FRCS Administration to ensure it does not disrupt learning or already scheduled activities. Unlike other snow days\, planning one allows us to notify families in advance. \nAll schools in Colorado build in a contingency for a certain number of snow days each year\, to ensure that all required days of learning remain available to students in the schedule\, even in cases of bad weather. Being able to auction one of these contingency days is a fun way for the school to raise some money and give a family the chance to create a planned day off for all students. This auction item is planned and designed to NOT interrupt instruction and learning time for students. \nMy child is in the ECE program\, and I still need care for that day. Can I bring my child to school?\nYes! For our preschool\, PreK\, and kindergarten students\, it is an optional snow day. If you need care on these days\, you can bring your young students in for a great day of learning and fun. If you would like to have a snow day and stay home\, have fun! We do ask that you let ECE staff know what your plans are so that they can staff the ECE accordingly. \nWill FRCS offices also be closed?\nYes; it is\, after all\, a snow day!
URL:https://www.frcs.org/event/scheduled-snow-day/
LOCATION:CO
CATEGORIES:ECE Calendar,Elementary Calendar,Jr/Sr High Calendar,Parent Dashboard
ATTACH;FMTTYPE=image/jpeg:https://www.frcs.org/wp-content/uploads/2025/03/slider-snowflake-closeup-N6WokJ.tmp_.jpg
END:VEVENT
BEGIN:VEVENT
DTSTART;TZID=America/Denver:20251110T160000
DTEND;TZID=America/Denver:20251110T180000
DTSTAMP:20260422T033126
CREATED:20250930T185804Z
LAST-MODIFIED:20250930T185804Z
UID:10001288-1762790400-1762797600@www.frcs.org
SUMMARY:MS Basketball\, home vs St John’s
DESCRIPTION:The Falcons host St. John’s Lutheran \nSilver: 4pm\nBlack: 5pm \nGo\, Falcons!
URL:https://www.frcs.org/event/ms-basketball-home-vs-st-johns/
LOCATION:FRCS Gym\, 6637 W Ottawa Ave 1\, Littleton\, CO\, 80128\, United States
CATEGORIES:Athletic Calendar
ATTACH;FMTTYPE=image/jpeg:https://www.frcs.org/wp-content/uploads/2025/03/basketball-abhishek-chandra-unsplash-TKACMN.tmp_-Ipc8k8.tmp_.jpg
GEO:1;1
X-APPLE-STRUCTURED-LOCATION;VALUE=URI;X-ADDRESS=FRCS Gym 6637 W Ottawa Ave 1 Littleton CO 80128 United States;X-APPLE-RADIUS=500;X-TITLE=6637 W Ottawa Ave 1:geo:1,1
END:VEVENT
BEGIN:VEVENT
DTSTART;TZID=America/Denver:20251111T074000
DTEND;TZID=America/Denver:20251111T080000
DTSTAMP:20260422T033126
CREATED:20250331T163902Z
LAST-MODIFIED:20250331T163902Z
UID:10001016-1762846800-1762848000@www.frcs.org
SUMMARY:Donuts for Dad (ECE)
DESCRIPTION:Dads are invited to drop-off their ECE students and grab a donut as they do. This is one way we thank and encourage FRCS dads (and father figures) of our energetic and amazing ECE students. We are so glad you’re part of our community!
URL:https://www.frcs.org/event/donuts-for-dad-ece/
LOCATION:FRCS Early Childhood Education Center\, 6657 W Ottawa Ave\, Ste C3\, Littleton\, CO\, 80128\, United States
CATEGORIES:ECE Calendar,Parent Dashboard
ATTACH;FMTTYPE=image/jpeg:https://www.frcs.org/wp-content/uploads/2025/03/donuts-shayna-douglas-unsplash-1150x450-1.jpg
GEO:1;1
X-APPLE-STRUCTURED-LOCATION;VALUE=URI;X-ADDRESS=FRCS Early Childhood Education Center 6657 W Ottawa Ave Ste C3 Littleton CO 80128 United States;X-APPLE-RADIUS=500;X-TITLE=6657 W Ottawa Ave\, Ste C3:geo:1,1
END:VEVENT
BEGIN:VEVENT
DTSTART;TZID=America/Denver:20251111T080000
DTEND;TZID=America/Denver:20251111T090000
DTSTAMP:20260422T033126
CREATED:20251105T184704Z
LAST-MODIFIED:20251105T185042Z
UID:10001330-1762848000-1762851600@www.frcs.org
SUMMARY:KI Partners Session
DESCRIPTION:Kingdom Impact Partners! Join us on Tuesday\, November 11\, for our second gathering where we welcome Dustin Knutson as our special guest. His expertise spans strategic planning\, organizational design\, leadership\, and futures research. Feel free to invite a friend! \nWe’ll start at 8am in the multi-purpose room (next to Holy Grounds)\, so come early\, grab a coffee in the Café\, and join us for another stimulating conversation and fellowship with other business leaders. \nLearn more about Kingdom Impact Partners and register for this event
URL:https://www.frcs.org/event/ki-partners-gathering/
LOCATION:FRCS Multi-Purpose Room\, 6657 W Ottawa Ave\, Littleton\, CO\, 80128
CATEGORIES:Parent Dashboard
ATTACH;FMTTYPE=image/png:https://www.frcs.org/wp-content/uploads/2025/10/KIP_logo.png
END:VEVENT
BEGIN:VEVENT
DTSTART;TZID=America/Denver:20251113T180000
DTEND;TZID=America/Denver:20251113T200000
DTSTAMP:20260422T033126
CREATED:20250331T165130Z
LAST-MODIFIED:20250331T165130Z
UID:10001017-1763056800-1763064000@www.frcs.org
SUMMARY:FRCS Open House
DESCRIPTION:Come\, see what makes FRCS different!\nOpen House Grades 1-12: Thursday\, November 13; 6-8pm \nImagine a school where your child’s education extends beyond traditional lessons and becomes an integral part of a vibrant community\, rooted in love for Jesus and care for one another. At Front Range Christian School\, we take pride in our role of educating children\, recognizing that each student is unique and deeply loved by God. We partner with you to prepare your child for life\, helping them embrace their faith as their own and equipping them to make a positive impact in the world for Christ. \nIf you’d like to learn more\, you are invited to our open house. You’ll meet some of our teachers and the Head of School\, as well as a few FRCS families. You can ask questions\, take a tour of the school\, and more. Use the link below to register\, or email our admissions team to learn more. \nREGISTER HERE
URL:https://www.frcs.org/event/frcs-open-house/
LOCATION:FRCS Campus\, 6657 W Ottawa Ave\, Littleton\, CO\, 80128\, United States
CATEGORIES:Admissions Calendar
ATTACH;FMTTYPE=image/jpeg:https://www.frcs.org/wp-content/uploads/2021/07/frcs-campus.jpg
GEO:1;1
X-APPLE-STRUCTURED-LOCATION;VALUE=URI;X-ADDRESS=FRCS Campus 6657 W Ottawa Ave Littleton CO 80128 United States;X-APPLE-RADIUS=500;X-TITLE=6657 W Ottawa Ave:geo:1,1
END:VEVENT
BEGIN:VEVENT
DTSTART;TZID=America/Denver:20251114T160000
DTEND;TZID=America/Denver:20251114T190000
DTSTAMP:20260422T033126
CREATED:20250930T190617Z
LAST-MODIFIED:20250930T190617Z
UID:10001291-1763136000-1763146800@www.frcs.org
SUMMARY:MS Boys Basketball\, home vs Englewood
DESCRIPTION:The Falcons host Englewood Middle School \nPurple: 4pm\nSilver: 5pm\nBlack: 6pm \nGo\, Falcons!
URL:https://www.frcs.org/event/ms-boys-basketball-home-vs-englewood/
LOCATION:FRCS Gym\, 6637 W Ottawa Ave 1\, Littleton\, CO\, 80128\, United States
CATEGORIES:Athletic Calendar
ATTACH;FMTTYPE=image/jpeg:https://www.frcs.org/wp-content/uploads/2025/03/basketball-abhishek-chandra-unsplash-TKACMN.tmp_-Ipc8k8.tmp_.jpg
GEO:1;1
X-APPLE-STRUCTURED-LOCATION;VALUE=URI;X-ADDRESS=FRCS Gym 6637 W Ottawa Ave 1 Littleton CO 80128 United States;X-APPLE-RADIUS=500;X-TITLE=6637 W Ottawa Ave 1:geo:1,1
END:VEVENT
BEGIN:VEVENT
DTSTART;TZID=America/Denver:20251115T080000
DTEND;TZID=America/Denver:20251115T150000
DTSTAMP:20260422T033126
CREATED:20250930T190004Z
LAST-MODIFIED:20250930T190004Z
UID:10001289-1763193600-1763218800@www.frcs.org
SUMMARY:MS Boys Basketball at Estes Park
DESCRIPTION:The Falcons participate in a round-robin tournament at Estes Park. \nPurple: all day event \nGo\, Falcons!
URL:https://www.frcs.org/event/ms-boys-basketball-at-estes-park/
LOCATION:Estes Park High School\, 1600 Manford Ave\, Estes Park\, CO
CATEGORIES:Athletic Calendar
ATTACH;FMTTYPE=image/jpeg:https://www.frcs.org/wp-content/uploads/2025/03/basketball-abhishek-chandra-unsplash-TKACMN.tmp_-Ipc8k8.tmp_.jpg
END:VEVENT
END:VCALENDAR