BEGIN:VCALENDAR
VERSION:2.0
PRODID:-//Front Range Christian School - ECPv6.15.20//NONSGML v1.0//EN
CALSCALE:GREGORIAN
METHOD:PUBLISH
X-ORIGINAL-URL:https://www.frcs.org
X-WR-CALDESC:Events for Front Range Christian School
REFRESH-INTERVAL;VALUE=DURATION:PT1H
X-Robots-Tag:noindex
X-PUBLISHED-TTL:PT1H
BEGIN:VTIMEZONE
TZID:America/Denver
BEGIN:DAYLIGHT
TZOFFSETFROM:-0700
TZOFFSETTO:-0600
TZNAME:MDT
DTSTART:20240310T090000
END:DAYLIGHT
BEGIN:STANDARD
TZOFFSETFROM:-0600
TZOFFSETTO:-0700
TZNAME:MST
DTSTART:20241103T080000
END:STANDARD
BEGIN:DAYLIGHT
TZOFFSETFROM:-0700
TZOFFSETTO:-0600
TZNAME:MDT
DTSTART:20250309T090000
END:DAYLIGHT
BEGIN:STANDARD
TZOFFSETFROM:-0600
TZOFFSETTO:-0700
TZNAME:MST
DTSTART:20251102T080000
END:STANDARD
BEGIN:DAYLIGHT
TZOFFSETFROM:-0700
TZOFFSETTO:-0600
TZNAME:MDT
DTSTART:20260308T090000
END:DAYLIGHT
BEGIN:STANDARD
TZOFFSETFROM:-0600
TZOFFSETTO:-0700
TZNAME:MST
DTSTART:20261101T080000
END:STANDARD
END:VTIMEZONE
BEGIN:VEVENT
DTSTART;VALUE=DATE:20251103
DTEND;VALUE=DATE:20251104
DTSTAMP:20260422T001605
CREATED:20250826T194146Z
LAST-MODIFIED:20250827T154128Z
UID:10001244-1762128000-1762214399@www.frcs.org
SUMMARY:Senior Photos Due
DESCRIPTION:Seniors must submit their yearbook photo and baby picture by this date. To upload your photos\, use the button below and create an account with Josten’s website. Then follow the prompts. If you already have an account\, you can use the button and login. \nUpload pictures
URL:https://www.frcs.org/event/senior-photos-due/
LOCATION:CO
CATEGORIES:Jr/Sr High Calendar
ATTACH;FMTTYPE=image/jpeg:https://www.frcs.org/wp-content/uploads/2025/08/yearbook-open-edge.jpg
END:VEVENT
BEGIN:VEVENT
DTSTART;TZID=America/Denver:20251103T080000
DTEND;TZID=America/Denver:20251103T114000
DTSTAMP:20260422T001605
CREATED:20250331T160844Z
LAST-MODIFIED:20250331T160938Z
UID:10001009-1762156800-1762170000@www.frcs.org
SUMMARY:Half Day\, grades K-12
DESCRIPTION:To accommodate parent/teacher conferences in the afternoon\, students kindergarten through 12th grade have a half day. Students K-6 are dismissed at 11:30am and students 7-12 are dismissed at 11:40am. \nPreschool and pre-kindergarten students have classes as normal this day (no early dismissal). \nStudents are not allowed to remain on campus during conferences (unless they have a scheduled extracurricular)\, as there will be no supervision.
URL:https://www.frcs.org/event/half-day-grades-k-12/2025-11-03/
LOCATION:FRCS Campus\, 6657 W Ottawa Ave\, Littleton\, CO\, 80128\, United States
CATEGORIES:ECE Calendar,Elementary Calendar,Jr/Sr High Calendar,Parent Dashboard
ATTACH;FMTTYPE=image/jpeg:https://www.frcs.org/wp-content/uploads/2021/07/frcs-campus.jpg
GEO:1;1
X-APPLE-STRUCTURED-LOCATION;VALUE=URI;X-ADDRESS=FRCS Campus 6657 W Ottawa Ave Littleton CO 80128 United States;X-APPLE-RADIUS=500;X-TITLE=6657 W Ottawa Ave:geo:1,1
END:VEVENT
BEGIN:VEVENT
DTSTART;TZID=America/Denver:20251103T120000
DTEND;TZID=America/Denver:20251103T170000
DTSTAMP:20260422T001605
CREATED:20250331T161519Z
LAST-MODIFIED:20251114T013913Z
UID:10001011-1762171200-1762189200@www.frcs.org
SUMMARY:Fall Parent/Teacher Conferences
DESCRIPTION:Fall Parent/Teacher Conferences are scheduled for the afternoons of Monday\, November 3\, and Tuesday\, November 4. All students grades K-12 have a half day on both of these days. \nTo schedule a conference\, select the appropriate teacher’s name from the lists below\, then select an available date and time slot\, and follow onscreen instructions. (Please note that Kindergarten teachers will communicate separately about their conferences.) \nIf you do not see a teacher’s name below\, or if a teacher’s scheduler is full\, please contact the teacher directly to arrange a conference time. \n\n\n\n\nElementary\nAll FRCS Elementary families should schedule a conference with their child’s teacher. They are an important part of our partnership with you. \n1st Grade \n\nHeather Curd\nMaloriee Horstman\n\n2nd Grade \n\nShayla Osgood\nCami Rogers\nKristin Tillery\n\n3rd Grade \n\nHannah Lopez\nRebecca Pettett\nKatherine Pra\n\n4th Grade \n\nMeryl Delano\nJessica Koch\n\n5th Grade \n\nMelaine Downs\nMadisyn Greer\n\n6th Grade \n\nNicole Corman\nLindsey Nordby\n\n\n\nJr/Sr High\nConferences are optional but encouraged at the junior and senior high\, especially if your students struggles in a particular class. \nBible Teachers \n\nNicole Funk\nBrian Gehr\nPhil Schulz\n\nHistory Teachers \n\nKevin O’Melia\nRobyn Wise\nChristina Zudock\n\nLanguage Arts Teachers \n\nCarlie O’Keefe\nStephanie Sanburn\nRob Stadick\n\nLearning Specialists \n(both learning specialists use a Google scheduler\, so it may look different than other teacher’s schedulers) \n\nHeather Hapke\nKaley Sferra\n\nMath Teachers \n\nCara Matthies\nLeah Pirozzi (goes to Google scheduler)\nCoree Snyder\n\nScience Teachers \n\nKim Hammons\nKatherine Richardson\nCollin Sutherland\n\nSpanish Teacher \n\nLiz Bayne\n\nOthers \n\nMatt Freddolino\nKatie Knestis\nErin Mittoo (RISE)\nJoEllen Nikkel\nAubren Self
URL:https://www.frcs.org/event/fall-parent-teacher-conferences/2025-11-03/
LOCATION:FRCS Campus\, 6657 W Ottawa Ave\, Littleton\, CO\, 80128\, United States
CATEGORIES:ECE Calendar,Elementary Calendar,Jr/Sr High Calendar,Parent Dashboard
ATTACH;FMTTYPE=image/jpeg:https://www.frcs.org/wp-content/uploads/2021/07/frcs-campus.jpg
GEO:1;1
X-APPLE-STRUCTURED-LOCATION;VALUE=URI;X-ADDRESS=FRCS Campus 6657 W Ottawa Ave Littleton CO 80128 United States;X-APPLE-RADIUS=500;X-TITLE=6657 W Ottawa Ave:geo:1,1
END:VEVENT
BEGIN:VEVENT
DTSTART;VALUE=DATE:20251103
DTEND;VALUE=DATE:20251104
DTSTAMP:20260422T001605
CREATED:20251009T180818Z
LAST-MODIFIED:20251009T180818Z
UID:10001302-1762171200-1762189200@www.frcs.org
SUMMARY:Book Fair
DESCRIPTION:Dear FRCS Family\, \nI can’t think of a more important life skill than reading! Reading touches every area of our lives and deepens our understanding of the world around us. Books take us on adventures\, teach us history\, share others’ stories\, and reveal God’s truth in His Word. \nThat’s why we dedicate four special days each fall to our annual Book Fair! I invite you to be part of this wonderful event. The selection will be extensive\, with something for every reader. As we approach the holiday season\, it’s the perfect time to consider giving the gift of books to your emerging reader. \nThis year\, we are excited to announce a change. After careful consideration\, we have decided to partner with a new organization\, I:55\, whose vision is “to see every child delight in books that grow their minds\, shape their hearts\, and point them toward lasting truth— inspiring the next generation of readers.” Over the past few years\, we have grown increasingly concerned with some of the content Scholastic has promoted\, and we believe I:55 provides a more aligned alternative. We invite you to come to the Book Fair in person and experience the change for yourself! \nWhile we are confident in the high quality of I:55’s books\, we will not be able to offer the same incentive programs we previously could through Scholastic. In past years\, those programs helped us build our classroom libraries\, provide discounts to students and staff\, and buy hundreds of books for our FDC. If you are able\, we invite you to consider purchasing books for classroom libraries and the FDC this year—your support will make a meaningful difference! \nThe Book Fair is always a highlight for our students and a great opportunity for our community to come together. To make it all happen\, we need your help! Please visit the P3 Portal to see volunteer opportunities and sign up for a time that fits your schedule. \nBook Fair Details:\n\nStudent Shopping: During regular FDC times\, Thursday\, October 30\, and Friday\, October 31.\nParent Shopping: Friday\, October 31 (after school)\, November 3 (during parent/teacher conferences)\, and November 4 from 7:40-10am.\n\nYou can also explore the Book Fair website to learn more about I:55. We will share a link to our specific Book Fair 1-2 weeks before the Fair opens\, so you can also shop online. \nI’m looking forward to celebrating another great year of reading with you at the Book Fair! \nSincerely\, \nJill Hart\nElementary Principal
URL:https://www.frcs.org/event/book-fair/2025-11-03/
LOCATION:CO
CATEGORIES:Elementary Calendar
ATTACH;FMTTYPE=image/jpeg:https://www.frcs.org/wp-content/uploads/2025/10/i55-adventure-awaits-banner.jpg
END:VEVENT
BEGIN:VEVENT
DTSTART;TZID=America/Denver:20251103T160000
DTEND;TZID=America/Denver:20251103T190000
DTSTAMP:20260422T001605
CREATED:20250930T185239Z
LAST-MODIFIED:20250930T185239Z
UID:10001285-1762185600-1762196400@www.frcs.org
SUMMARY:MS Boys Basketball\, home vs Aspen Academy
DESCRIPTION:The Falcons host Aspen Academy \nPurple: 4pm\nSilver: 5pm\nBlack: 6pm \nGo\, Falcons!
URL:https://www.frcs.org/event/ms-boys-basketball-home-vs-aspen-academy/
LOCATION:FRCS Gym\, 6637 W Ottawa Ave 1\, Littleton\, CO\, 80128\, United States
CATEGORIES:Athletic Calendar
ATTACH;FMTTYPE=image/jpeg:https://www.frcs.org/wp-content/uploads/2025/03/basketball-abhishek-chandra-unsplash-TKACMN.tmp_-Ipc8k8.tmp_.jpg
GEO:1;1
X-APPLE-STRUCTURED-LOCATION;VALUE=URI;X-ADDRESS=FRCS Gym 6637 W Ottawa Ave 1 Littleton CO 80128 United States;X-APPLE-RADIUS=500;X-TITLE=6637 W Ottawa Ave 1:geo:1,1
END:VEVENT
BEGIN:VEVENT
DTSTART;VALUE=DATE:20251104
DTEND;VALUE=DATE:20251105
DTSTAMP:20260422T001605
CREATED:20251009T180818Z
LAST-MODIFIED:20251009T180818Z
UID:10001303-1762242000-1762250400@www.frcs.org
SUMMARY:Book Fair
DESCRIPTION:Dear FRCS Family\, \nI can’t think of a more important life skill than reading! Reading touches every area of our lives and deepens our understanding of the world around us. Books take us on adventures\, teach us history\, share others’ stories\, and reveal God’s truth in His Word. \nThat’s why we dedicate four special days each fall to our annual Book Fair! I invite you to be part of this wonderful event. The selection will be extensive\, with something for every reader. As we approach the holiday season\, it’s the perfect time to consider giving the gift of books to your emerging reader. \nThis year\, we are excited to announce a change. After careful consideration\, we have decided to partner with a new organization\, I:55\, whose vision is “to see every child delight in books that grow their minds\, shape their hearts\, and point them toward lasting truth— inspiring the next generation of readers.” Over the past few years\, we have grown increasingly concerned with some of the content Scholastic has promoted\, and we believe I:55 provides a more aligned alternative. We invite you to come to the Book Fair in person and experience the change for yourself! \nWhile we are confident in the high quality of I:55’s books\, we will not be able to offer the same incentive programs we previously could through Scholastic. In past years\, those programs helped us build our classroom libraries\, provide discounts to students and staff\, and buy hundreds of books for our FDC. If you are able\, we invite you to consider purchasing books for classroom libraries and the FDC this year—your support will make a meaningful difference! \nThe Book Fair is always a highlight for our students and a great opportunity for our community to come together. To make it all happen\, we need your help! Please visit the P3 Portal to see volunteer opportunities and sign up for a time that fits your schedule. \nBook Fair Details:\n\nStudent Shopping: During regular FDC times\, Thursday\, October 30\, and Friday\, October 31.\nParent Shopping: Friday\, October 31 (after school)\, November 3 (during parent/teacher conferences)\, and November 4 from 7:40-10am.\n\nYou can also explore the Book Fair website to learn more about I:55. We will share a link to our specific Book Fair 1-2 weeks before the Fair opens\, so you can also shop online. \nI’m looking forward to celebrating another great year of reading with you at the Book Fair! \nSincerely\, \nJill Hart\nElementary Principal
URL:https://www.frcs.org/event/book-fair/2025-11-04/
LOCATION:CO
CATEGORIES:Elementary Calendar
ATTACH;FMTTYPE=image/jpeg:https://www.frcs.org/wp-content/uploads/2025/10/i55-adventure-awaits-banner.jpg
END:VEVENT
BEGIN:VEVENT
DTSTART;TZID=America/Denver:20251104T080000
DTEND;TZID=America/Denver:20251104T114000
DTSTAMP:20260422T001605
CREATED:20250331T160844Z
LAST-MODIFIED:20250331T160938Z
UID:10001010-1762243200-1762256400@www.frcs.org
SUMMARY:Half Day\, grades K-12
DESCRIPTION:To accommodate parent/teacher conferences in the afternoon\, students kindergarten through 12th grade have a half day. Students K-6 are dismissed at 11:30am and students 7-12 are dismissed at 11:40am. \nPreschool and pre-kindergarten students have classes as normal this day (no early dismissal). \nStudents are not allowed to remain on campus during conferences (unless they have a scheduled extracurricular)\, as there will be no supervision.
URL:https://www.frcs.org/event/half-day-grades-k-12/2025-11-04/
LOCATION:FRCS Campus\, 6657 W Ottawa Ave\, Littleton\, CO\, 80128\, United States
CATEGORIES:ECE Calendar,Elementary Calendar,Jr/Sr High Calendar,Parent Dashboard
ATTACH;FMTTYPE=image/jpeg:https://www.frcs.org/wp-content/uploads/2021/07/frcs-campus.jpg
GEO:1;1
X-APPLE-STRUCTURED-LOCATION;VALUE=URI;X-ADDRESS=FRCS Campus 6657 W Ottawa Ave Littleton CO 80128 United States;X-APPLE-RADIUS=500;X-TITLE=6657 W Ottawa Ave:geo:1,1
END:VEVENT
BEGIN:VEVENT
DTSTART;TZID=America/Denver:20251104T120000
DTEND;TZID=America/Denver:20251104T170000
DTSTAMP:20260422T001605
CREATED:20250331T161519Z
LAST-MODIFIED:20251114T013913Z
UID:10001012-1762257600-1762275600@www.frcs.org
SUMMARY:Fall Parent/Teacher Conferences
DESCRIPTION:Fall Parent/Teacher Conferences are scheduled for the afternoons of Monday\, November 3\, and Tuesday\, November 4. All students grades K-12 have a half day on both of these days. \nTo schedule a conference\, select the appropriate teacher’s name from the lists below\, then select an available date and time slot\, and follow onscreen instructions. (Please note that Kindergarten teachers will communicate separately about their conferences.) \nIf you do not see a teacher’s name below\, or if a teacher’s scheduler is full\, please contact the teacher directly to arrange a conference time. \n\n\n\n\nElementary\nAll FRCS Elementary families should schedule a conference with their child’s teacher. They are an important part of our partnership with you. \n1st Grade \n\nHeather Curd\nMaloriee Horstman\n\n2nd Grade \n\nShayla Osgood\nCami Rogers\nKristin Tillery\n\n3rd Grade \n\nHannah Lopez\nRebecca Pettett\nKatherine Pra\n\n4th Grade \n\nMeryl Delano\nJessica Koch\n\n5th Grade \n\nMelaine Downs\nMadisyn Greer\n\n6th Grade \n\nNicole Corman\nLindsey Nordby\n\n\n\nJr/Sr High\nConferences are optional but encouraged at the junior and senior high\, especially if your students struggles in a particular class. \nBible Teachers \n\nNicole Funk\nBrian Gehr\nPhil Schulz\n\nHistory Teachers \n\nKevin O’Melia\nRobyn Wise\nChristina Zudock\n\nLanguage Arts Teachers \n\nCarlie O’Keefe\nStephanie Sanburn\nRob Stadick\n\nLearning Specialists \n(both learning specialists use a Google scheduler\, so it may look different than other teacher’s schedulers) \n\nHeather Hapke\nKaley Sferra\n\nMath Teachers \n\nCara Matthies\nLeah Pirozzi (goes to Google scheduler)\nCoree Snyder\n\nScience Teachers \n\nKim Hammons\nKatherine Richardson\nCollin Sutherland\n\nSpanish Teacher \n\nLiz Bayne\n\nOthers \n\nMatt Freddolino\nKatie Knestis\nErin Mittoo (RISE)\nJoEllen Nikkel\nAubren Self
URL:https://www.frcs.org/event/fall-parent-teacher-conferences/2025-11-04/
LOCATION:FRCS Campus\, 6657 W Ottawa Ave\, Littleton\, CO\, 80128\, United States
CATEGORIES:ECE Calendar,Elementary Calendar,Jr/Sr High Calendar,Parent Dashboard
ATTACH;FMTTYPE=image/jpeg:https://www.frcs.org/wp-content/uploads/2021/07/frcs-campus.jpg
GEO:1;1
X-APPLE-STRUCTURED-LOCATION;VALUE=URI;X-ADDRESS=FRCS Campus 6657 W Ottawa Ave Littleton CO 80128 United States;X-APPLE-RADIUS=500;X-TITLE=6657 W Ottawa Ave:geo:1,1
END:VEVENT
BEGIN:VEVENT
DTSTART;TZID=America/Denver:20251105T160000
DTEND;TZID=America/Denver:20251105T190000
DTSTAMP:20260422T001605
CREATED:20250930T185421Z
LAST-MODIFIED:20250930T185421Z
UID:10001286-1762358400-1762369200@www.frcs.org
SUMMARY:MS Boys Basketball at Englewood
DESCRIPTION:The Falcons vs Englewood Middle School \nSilver: 4pm\nBlack: 5pm\nPurple: 6pm \nGo\, Falcons!
URL:https://www.frcs.org/event/ms-boys-basketball-at-englewood/
LOCATION:Englewood Middle/High School\, 3800 S Logan St\, Englewood\, CO\, 80113\, United States
CATEGORIES:Athletic Calendar
ATTACH;FMTTYPE=image/jpeg:https://www.frcs.org/wp-content/uploads/2025/03/basketball-abhishek-chandra-unsplash-TKACMN.tmp_-Ipc8k8.tmp_.jpg
END:VEVENT
BEGIN:VEVENT
DTSTART;TZID=America/Denver:20251106T163000
DTEND;TZID=America/Denver:20251106T180000
DTSTAMP:20260422T001605
CREATED:20250923T165134Z
LAST-MODIFIED:20250925T192831Z
UID:10001280-1762446600-1762452000@www.frcs.org
SUMMARY:Preschool-Kindergarten Open House
DESCRIPTION:Are you considering preschool\, pre-kindergarten\, or kindergarten options for your child? We invite you to the Preschool-Kindergarten Open House at Front Range Christian School. You’ll have the opportunity to tour the facility\, meet the teachers\, and ask questions about our fully accredited program. \nThursday\, November 6\, from 4:30-6pm in the Early Childhood Education Center on FRCS’s campus.
URL:https://www.frcs.org/event/preschool-kindergarten-open-house/
LOCATION:FRCS Early Childhood Education Center\, 6657 W Ottawa Ave\, Ste C3\, Littleton\, CO\, 80128\, United States
CATEGORIES:Admissions Calendar
ATTACH;FMTTYPE=image/jpeg:https://www.frcs.org/wp-content/uploads/2025/03/ece-entry-1150x450-1.jpg
GEO:1;1
X-APPLE-STRUCTURED-LOCATION;VALUE=URI;X-ADDRESS=FRCS Early Childhood Education Center 6657 W Ottawa Ave Ste C3 Littleton CO 80128 United States;X-APPLE-RADIUS=500;X-TITLE=6657 W Ottawa Ave\, Ste C3:geo:1,1
END:VEVENT
BEGIN:VEVENT
DTSTART;VALUE=DATE:20251107
DTEND;VALUE=DATE:20251108
DTSTAMP:20260422T001605
CREATED:20250826T194504Z
LAST-MODIFIED:20250827T153827Z
UID:10001245-1762473600-1762559999@www.frcs.org
SUMMARY:Senior Ad Early Deadline
DESCRIPTION:Parents\, honor your soon-to-be high school graduate with an ad in the FRCS yearbook. To purchase an ad\, use the button below to create an account on Josten’s website then follow the prompts. If you have questions\, you can email Melissa Meleski for more information. \nOrder by today to get the best pricing! \nBuy an Ad
URL:https://www.frcs.org/event/senior-ad-early-deadline/
LOCATION:CO
CATEGORIES:Parent Dashboard
ATTACH;FMTTYPE=image/jpeg:https://www.frcs.org/wp-content/uploads/2025/08/yearbook-open-edge.jpg
END:VEVENT
BEGIN:VEVENT
DTSTART;TZID=America/Denver:20251107T160000
DTEND;TZID=America/Denver:20251107T190000
DTSTAMP:20260422T001605
CREATED:20250930T185608Z
LAST-MODIFIED:20250930T185608Z
UID:10001287-1762531200-1762542000@www.frcs.org
SUMMARY:MS Boys Basketball\, home vs. Denver Christian
DESCRIPTION:The Falcons host Denver Christian Schools \nPurple: 4pm\nSilver: 5pm\nBlack: 6pm \nGo\, Falcons!
URL:https://www.frcs.org/event/ms-boys-basketball-home-vs-denver-christian/
LOCATION:FRCS Gym\, 6637 W Ottawa Ave 1\, Littleton\, CO\, 80128\, United States
CATEGORIES:Athletic Calendar
ATTACH;FMTTYPE=image/jpeg:https://www.frcs.org/wp-content/uploads/2025/03/basketball-abhishek-chandra-unsplash-TKACMN.tmp_-Ipc8k8.tmp_.jpg
GEO:1;1
X-APPLE-STRUCTURED-LOCATION;VALUE=URI;X-ADDRESS=FRCS Gym 6637 W Ottawa Ave 1 Littleton CO 80128 United States;X-APPLE-RADIUS=500;X-TITLE=6637 W Ottawa Ave 1:geo:1,1
END:VEVENT
BEGIN:VEVENT
DTSTART;TZID=America/Denver:20251107T183000
DTEND;TZID=America/Denver:20251107T200000
DTSTAMP:20260422T001605
CREATED:20250331T162122Z
LAST-MODIFIED:20251016T184020Z
UID:10001201-1762540200-1762545600@www.frcs.org
SUMMARY:Elementary Musical
DESCRIPTION:Join us for FRCS elementary’s musical production based on the classic Disney Pixar film\, Finding Nemo — a show that’s fun for all ages! \nMarlin\, an anxious and over-protective clownfish\, lives in the Great Barrier Reef with his kid Nemo\, who longs to explore the world beyond their anemone home. But when Nemo is captured and taken to Sydney\, Marlin faces his fears and sets off on an epic adventure across the ocean. With the help of lovable characters such as optimistic Dory\, laid-back sea turtle Crush\, and the supportive Tank Gang\, Marlin and Nemo both overcome challenges on their journey to find each other and themselves. \nBUY TICKETS \n\nDISNEY’S FINDING NEMO KIDS is presented through special arrangement with Music Theatre International (MTI). All authorized performance materials are also supplied by MTI. mtishows.com
URL:https://www.frcs.org/event/elementary-musical/2025-11-07/
LOCATION:Performing Arts Center\, 6637 W Ottawa Ave.\, Littleton\, CO\, 80128\, United States
CATEGORIES:Arts Calendar,Elementary Calendar,Parent Dashboard,Registration Events for app
ATTACH;FMTTYPE=image/jpeg:https://www.frcs.org/wp-content/uploads/2025/03/finding-nemo-head1.jpg
GEO:1;1
X-APPLE-STRUCTURED-LOCATION;VALUE=URI;X-ADDRESS=Performing Arts Center 6637 W Ottawa Ave. Littleton CO 80128 United States;X-APPLE-RADIUS=500;X-TITLE=6637 W Ottawa Ave.:geo:1,1
END:VEVENT
BEGIN:VEVENT
DTSTART;TZID=America/Denver:20251108T110000
DTEND;TZID=America/Denver:20251108T120000
DTSTAMP:20260422T001605
CREATED:20251003T044442Z
LAST-MODIFIED:20251003T044451Z
UID:10001202-1762599600-1762603200@www.frcs.org
SUMMARY:Elementary Musical
DESCRIPTION:Details about the musical will be posted here as they are available. \nTickets to any FRCS event can be purchased at frcs.org/tickets.
URL:https://www.frcs.org/event/elementary-musical-2/
LOCATION:Performing Arts Center\, 6637 W Ottawa Ave.\, Littleton\, CO\, 80128\, United States
CATEGORIES:Arts Calendar,Elementary Calendar,Parent Dashboard,Registration Events for app
ATTACH;FMTTYPE=image/jpeg:https://www.frcs.org/wp-content/uploads/2025/03/red-curtain-rob-laughter-unsplash-1150x450-1-IBWELt.tmp_.jpg
GEO:1;1
X-APPLE-STRUCTURED-LOCATION;VALUE=URI;X-ADDRESS=Performing Arts Center 6637 W Ottawa Ave. Littleton CO 80128 United States;X-APPLE-RADIUS=500;X-TITLE=6637 W Ottawa Ave.:geo:1,1
END:VEVENT
BEGIN:VEVENT
DTSTART;TZID=America/Denver:20251108T140000
DTEND;TZID=America/Denver:20251108T153000
DTSTAMP:20260422T001605
CREATED:20250331T162122Z
LAST-MODIFIED:20251016T184020Z
UID:10001203-1762610400-1762615800@www.frcs.org
SUMMARY:Elementary Musical
DESCRIPTION:Join us for FRCS elementary’s musical production based on the classic Disney Pixar film\, Finding Nemo — a show that’s fun for all ages! \nMarlin\, an anxious and over-protective clownfish\, lives in the Great Barrier Reef with his kid Nemo\, who longs to explore the world beyond their anemone home. But when Nemo is captured and taken to Sydney\, Marlin faces his fears and sets off on an epic adventure across the ocean. With the help of lovable characters such as optimistic Dory\, laid-back sea turtle Crush\, and the supportive Tank Gang\, Marlin and Nemo both overcome challenges on their journey to find each other and themselves. \nBUY TICKETS \n\nDISNEY’S FINDING NEMO KIDS is presented through special arrangement with Music Theatre International (MTI). All authorized performance materials are also supplied by MTI. mtishows.com
URL:https://www.frcs.org/event/elementary-musical/2025-11-08/
LOCATION:Performing Arts Center\, 6637 W Ottawa Ave.\, Littleton\, CO\, 80128\, United States
CATEGORIES:Arts Calendar,Elementary Calendar,Parent Dashboard,Registration Events for app
ATTACH;FMTTYPE=image/jpeg:https://www.frcs.org/wp-content/uploads/2025/03/finding-nemo-head1.jpg
GEO:1;1
X-APPLE-STRUCTURED-LOCATION;VALUE=URI;X-ADDRESS=Performing Arts Center 6637 W Ottawa Ave. Littleton CO 80128 United States;X-APPLE-RADIUS=500;X-TITLE=6637 W Ottawa Ave.:geo:1,1
END:VEVENT
END:VCALENDAR