BEGIN:VCALENDAR
VERSION:2.0
PRODID:-//Front Range Christian School - ECPv6.15.20//NONSGML v1.0//EN
CALSCALE:GREGORIAN
METHOD:PUBLISH
X-ORIGINAL-URL:https://www.frcs.org
X-WR-CALDESC:Events for Front Range Christian School
REFRESH-INTERVAL;VALUE=DURATION:PT1H
X-Robots-Tag:noindex
X-PUBLISHED-TTL:PT1H
BEGIN:VTIMEZONE
TZID:America/Denver
BEGIN:DAYLIGHT
TZOFFSETFROM:-0700
TZOFFSETTO:-0600
TZNAME:MDT
DTSTART:20240310T090000
END:DAYLIGHT
BEGIN:STANDARD
TZOFFSETFROM:-0600
TZOFFSETTO:-0700
TZNAME:MST
DTSTART:20241103T080000
END:STANDARD
BEGIN:DAYLIGHT
TZOFFSETFROM:-0700
TZOFFSETTO:-0600
TZNAME:MDT
DTSTART:20250309T090000
END:DAYLIGHT
BEGIN:STANDARD
TZOFFSETFROM:-0600
TZOFFSETTO:-0700
TZNAME:MST
DTSTART:20251102T080000
END:STANDARD
BEGIN:DAYLIGHT
TZOFFSETFROM:-0700
TZOFFSETTO:-0600
TZNAME:MDT
DTSTART:20260308T090000
END:DAYLIGHT
BEGIN:STANDARD
TZOFFSETFROM:-0600
TZOFFSETTO:-0700
TZNAME:MST
DTSTART:20261101T080000
END:STANDARD
END:VTIMEZONE
BEGIN:VEVENT
DTSTART;TZID=America/Denver:20251027T080000
DTEND;TZID=America/Denver:20251027T090000
DTSTAMP:20260422T001548
CREATED:20251007T185737Z
LAST-MODIFIED:20251007T185737Z
UID:10001300-1761552000-1761555600@www.frcs.org
SUMMARY:Kingdom Impact Partners Session
DESCRIPTION:Entrepreneurs\, business leaders\, and business owners — you are invited to join us for a gathering of like-minded individuals as we explore the topic of making your business your ministry. The session includes a devotional time led by John DeYoung\, a short presentation by Blake Fry on the topic\, followed by a facilitated group discussion. \nThe session is free\, but we do ask that you register to let us know you’re coming. Scroll up on the registration page to learn more about Kingdom Impact Partners. \nREGISTER
URL:https://www.frcs.org/event/kingdom-impact-partners-session/
LOCATION:Holy Grounds Cafe\, 6657 W Ottawa Ave\, Ste A-19\, Littleton\, CO\, 80128\, United States
CATEGORIES:Parent Dashboard
ATTACH;FMTTYPE=image/png:https://www.frcs.org/wp-content/uploads/2025/10/KI-event-header.png
GEO:1;1
X-APPLE-STRUCTURED-LOCATION;VALUE=URI;X-ADDRESS=Holy Grounds Cafe 6657 W Ottawa Ave Ste A-19 Littleton CO 80128 United States;X-APPLE-RADIUS=500;X-TITLE=6657 W Ottawa Ave\, Ste A-19:geo:1,1
END:VEVENT
BEGIN:VEVENT
DTSTART;TZID=America/Denver:20251027T080000
DTEND;TZID=America/Denver:20251027T093000
DTSTAMP:20260422T001548
CREATED:20250911T203417Z
LAST-MODIFIED:20250911T203540Z
UID:10001259-1761552000-1761557400@www.frcs.org
SUMMARY:College Chats & Coffee
DESCRIPTION:If you have questions about college preparedness for your senior high student — anything from financial aid to testing to applications and more — you’re invited to drop in for an informal chat with College Guidance Counselor Aubren Self. She’ll be in Holy Grounds the last Monday of each month (when school is in session) from 8-9:30am.
URL:https://www.frcs.org/event/college-chats-coffee/2025-10-27/
LOCATION:Holy Grounds Cafe\, 6657 W Ottawa Ave\, Ste A-19\, Littleton\, CO\, 80128\, United States
CATEGORIES:Parent Dashboard
ATTACH;FMTTYPE=image/jpeg:https://www.frcs.org/wp-content/uploads/2025/03/coffee-lex-sirikiat-unsplash-1150x450-1.jpg
GEO:1;1
X-APPLE-STRUCTURED-LOCATION;VALUE=URI;X-ADDRESS=Holy Grounds Cafe 6657 W Ottawa Ave Ste A-19 Littleton CO 80128 United States;X-APPLE-RADIUS=500;X-TITLE=6657 W Ottawa Ave\, Ste A-19:geo:1,1
END:VEVENT
BEGIN:VEVENT
DTSTART;TZID=America/Denver:20251027T160000
DTEND;TZID=America/Denver:20251027T180000
DTSTAMP:20260422T001548
CREATED:20250905T191206Z
LAST-MODIFIED:20250908T160544Z
UID:10001256-1761580800-1761588000@www.frcs.org
SUMMARY:FRCS Skate City Night
DESCRIPTION:All FRCS families are invited to join us for a night of skating at Skate City in Littleton! Admission is just $7 for 2 hours of skating (skate rental is extra). We look forward to seeing you there! \nIf you have questions\, please email Kelsey Hoak (dkhoak@icloud.com). \nOctober 27 from 4-6pm
URL:https://www.frcs.org/event/frcs-skate-city-night/
LOCATION:Skate City\, 5801 S Lowell Way\, Littleton\, CO\, 80123
CATEGORIES:Parent Dashboard
ATTACH;FMTTYPE=image/jpeg:https://www.frcs.org/wp-content/uploads/2025/03/roller-skating-andi-bocsardi-unsplash-HjmqBZ.tmp_.jpg
END:VEVENT
BEGIN:VEVENT
DTSTART;TZID=America/Denver:20251027T160000
DTEND;TZID=America/Denver:20251027T190000
DTSTAMP:20260422T001548
CREATED:20250717T171243Z
LAST-MODIFIED:20250717T171243Z
UID:10001158-1761580800-1761591600@www.frcs.org
SUMMARY:Volleyball at SkyView
DESCRIPTION:The Falcons vs. SkyView Academy \nC: 4pm\nJV: 5pm\nV: 6pm \nGo\, Falcons!
URL:https://www.frcs.org/event/volleyball-at-skyview/
LOCATION:SkyView Academy\, 6161 Business Center Dr\, Highlands Ranch\, CO
CATEGORIES:Athletic Calendar
ATTACH;FMTTYPE=image/jpeg:https://www.frcs.org/wp-content/uploads/2021/03/volleyball-and-net.jpg
END:VEVENT
BEGIN:VEVENT
DTSTART;VALUE=DATE:20251028
DTEND;VALUE=DATE:20251029
DTSTAMP:20260422T001548
CREATED:20250331T155916Z
LAST-MODIFIED:20251016T182944Z
UID:10001007-1761609600-1761695999@www.frcs.org
SUMMARY:PSAT - grades 7-11
DESCRIPTION:Students grades 7-11 will take the PSAT appropriate for their grade level. \nTuesday\, October 28\, will be a different day at FRCS Jr/Sr High — it is both a late start day and a half day for junior and senior high students. All students grades 7-11 will take the PSAT and seniors have the time to work on college prep tasks. Read on for specifics for each grade level. If you have questions\, please email Aubren Self at aubren.self@frcs.org. \nGrades 7-9 \n\nStudents take the PSAT 8/9\nTesting begins promptly at 8:40am and ends at 11:30am\n\nGrades 10-11 \n\nStudents take the PSAT/NMSQT\nTesting begins promptly at 8:40am and ends at 11:30am\n\nGrade 12 \nCollege Day: Seniors work on college applications\, visits\, or FAFSA \nAbout the PSAT\nThe test prepares students grades 7-10 for the standardized testing process and allows us to assess test-taking strengths and weaknesses for the PSAT\, ACT\, and SAT\, \nTest results provide guidance for placement in honors and AP level classes. \nFor Juniors\, the test is also an opportunity to qualify for several scholarships\, including the National Merit Scholarship. \nYou can visit the PSAT website for more information\, including info about preparing for the PSAT. \nDigital Test\nThe test is digital\, so senior high students should bring their fully-charged device (iPad\, laptop\, Chromebook) to school on October 28. Junior high students will use school-provided Chromebooks. \nSenior high students must also download Bluebook to their device in order to take the test. \nLate Start & Half Day\nPlan to drop students off at the school around 8:20am. They will need to be in their assigned testing area by 8:40am. The PSAT concludes around 11:30am\, and there are no afternoon classes on October 28. It is a half day for all Jr/Sr High students. Please plan to pick up your student at 11:30am\, as there is no supervision after 11:45. \nFor Seniors\nSeniors are not required to be on campus this day. Instead\, they are encouraged to use this as a day to work on college applications\, schedule campus visits (it’s a great opportunity for seniors to visit local college campuses)\, complete the FAFSA\, or complete any other college prep tasks needed. Please take advantage of this time\, and plan accordingly. \nWHAT TO BRING ON OCTOBER 28\n\nYour fully charged device; you must have the Bluebook app installed and exam setup complete BEFORE test day (senior high only)\nA power cord and/or portable charger; we cannot guarantee that you will have access to an outlet during testing. Your device should be able to hold a charge for 3-4 hours. (senior high only)\nA pencil or pen (scratch paper will be provided\, you should not bring your own)\nAn approved calculator (optional\, as there is a graphing calculator built into the app)
URL:https://www.frcs.org/event/psat-grades-7-11/
LOCATION:FRCS Jr/Sr High\, 6637 W Ottawa Ave\, Littleton\, CO\, 80128\, United States
CATEGORIES:Jr/Sr High Calendar,Parent Dashboard
ATTACH;FMTTYPE=image/jpeg:https://www.frcs.org/wp-content/uploads/2021/07/frcs-campus.jpg
END:VEVENT
BEGIN:VEVENT
DTSTART;VALUE=DATE:20251028
DTEND;VALUE=DATE:20251029
DTSTAMP:20260422T001548
CREATED:20250331T160246Z
LAST-MODIFIED:20250331T160246Z
UID:10001008-1761609600-1761695999@www.frcs.org
SUMMARY:Senior College Day
DESCRIPTION:While students grades 7-11 take the PSAT\, seniors use this day for completing tasks related to their pursuit of college or other post-graduation plans. This may include touring college campuses\, completing the FAFSA or college applications\, writing entrance essays\, and more. Seniors do not need to report to campus on this day.
URL:https://www.frcs.org/event/senior-college-day/
LOCATION:CO
CATEGORIES:Jr/Sr High Calendar,Parent Dashboard
ATTACH;FMTTYPE=image/jpeg:https://www.frcs.org/wp-content/uploads/2021/07/frcs-campus.jpg
END:VEVENT
BEGIN:VEVENT
DTSTART;VALUE=DATE:20251028
DTEND;VALUE=DATE:20251029
DTSTAMP:20260422T001548
CREATED:20251010T222834Z
LAST-MODIFIED:20251028T203259Z
UID:10001304-1761609600-1761695999@www.frcs.org
SUMMARY:Practicum Selection Deadline
DESCRIPTION:DOWNLOAD PRACTICUM CATALOG \n\nPlease complete this form by October 28\, 2025. Students are assigned a Practicum option based on their selections on this form with priority given to those who turn in the form on time. Late forms are assigned after all others in the order they were received. \nThe selection form is now closed. \n 
URL:https://www.frcs.org/event/practicum-selection-deadline/
LOCATION:CO
CATEGORIES:Jr/Sr High Calendar,Parent Dashboard
ATTACH;FMTTYPE=image/jpeg:https://www.frcs.org/wp-content/uploads/2025/10/catalog-cover.jpg
END:VEVENT
BEGIN:VEVENT
DTSTART;TZID=America/Denver:20251029T085500
DTEND;TZID=America/Denver:20251029T094500
DTSTAMP:20260422T001548
CREATED:20250912T164949Z
LAST-MODIFIED:20250912T164949Z
UID:10001276-1761728100-1761731100@www.frcs.org
SUMMARY:Senior Chapel
DESCRIPTION:Parents of seniors are invited to a special chapel event at FRCS. This particular chapel service is planned\, run\, and led by seniors — from the speaker (or selection of the speaker) to the worship team. \nWe will post more details here as they are available.
URL:https://www.frcs.org/event/senior-chapel/
LOCATION:Performing Arts Center\, 6637 W Ottawa Ave.\, Littleton\, CO\, 80128\, United States
CATEGORIES:Jr/Sr High Calendar
ATTACH;FMTTYPE=image/jpeg:https://www.frcs.org/wp-content/uploads/2025/08/stage-lights-1150x450-1.jpg
GEO:1;1
X-APPLE-STRUCTURED-LOCATION;VALUE=URI;X-ADDRESS=Performing Arts Center 6637 W Ottawa Ave. Littleton CO 80128 United States;X-APPLE-RADIUS=500;X-TITLE=6637 W Ottawa Ave.:geo:1,1
END:VEVENT
BEGIN:VEVENT
DTSTART;VALUE=DATE:20251030
DTEND;VALUE=DATE:20251031
DTSTAMP:20260422T001548
CREATED:20251016T202747Z
LAST-MODIFIED:20251016T202829Z
UID:10001305-1761782400-1761868799@www.frcs.org
SUMMARY:Picture Retakes
DESCRIPTION:Students who were not present for picture days will have their photos taken on October 30. Families do not need to sign up for new students or students who were gone on their picture day. \nFamilies who wish to have their student’s photos retaken may sign up to have retakes on October 30\, as well. Please sign up before noon on October 29. \nSIGN UP FOR RETAKES \n\nThese photos are used in school yearbooks and parents and family may purchase student portraits for personal use. Details about purchasing photos are available on the photographer’s website.
URL:https://www.frcs.org/event/picture-retakes/
LOCATION:CO
CATEGORIES:ECE Calendar,Elementary Calendar,Jr/Sr High Calendar,Parent Dashboard
ATTACH;FMTTYPE=image/jpeg:https://www.frcs.org/wp-content/uploads/2025/03/aperture-TdB4LZ.tmp_.jpg
END:VEVENT
BEGIN:VEVENT
DTSTART;VALUE=DATE:20251030
DTEND;VALUE=DATE:20251101
DTSTAMP:20260422T001548
CREATED:20251009T180818Z
LAST-MODIFIED:20251009T180818Z
UID:10001301-1761782400-1761955199@www.frcs.org
SUMMARY:Book Fair
DESCRIPTION:Dear FRCS Family\, \nI can’t think of a more important life skill than reading! Reading touches every area of our lives and deepens our understanding of the world around us. Books take us on adventures\, teach us history\, share others’ stories\, and reveal God’s truth in His Word. \nThat’s why we dedicate four special days each fall to our annual Book Fair! I invite you to be part of this wonderful event. The selection will be extensive\, with something for every reader. As we approach the holiday season\, it’s the perfect time to consider giving the gift of books to your emerging reader. \nThis year\, we are excited to announce a change. After careful consideration\, we have decided to partner with a new organization\, I:55\, whose vision is “to see every child delight in books that grow their minds\, shape their hearts\, and point them toward lasting truth— inspiring the next generation of readers.” Over the past few years\, we have grown increasingly concerned with some of the content Scholastic has promoted\, and we believe I:55 provides a more aligned alternative. We invite you to come to the Book Fair in person and experience the change for yourself! \nWhile we are confident in the high quality of I:55’s books\, we will not be able to offer the same incentive programs we previously could through Scholastic. In past years\, those programs helped us build our classroom libraries\, provide discounts to students and staff\, and buy hundreds of books for our FDC. If you are able\, we invite you to consider purchasing books for classroom libraries and the FDC this year—your support will make a meaningful difference! \nThe Book Fair is always a highlight for our students and a great opportunity for our community to come together. To make it all happen\, we need your help! Please visit the P3 Portal to see volunteer opportunities and sign up for a time that fits your schedule. \nBook Fair Details:\n\nStudent Shopping: During regular FDC times\, Thursday\, October 30\, and Friday\, October 31.\nParent Shopping: Friday\, October 31 (after school)\, November 3 (during parent/teacher conferences)\, and November 4 from 7:40-10am.\n\nYou can also explore the Book Fair website to learn more about I:55. We will share a link to our specific Book Fair 1-2 weeks before the Fair opens\, so you can also shop online. \nI’m looking forward to celebrating another great year of reading with you at the Book Fair! \nSincerely\, \nJill Hart\nElementary Principal
URL:https://www.frcs.org/event/book-fair/2025-10-30/
LOCATION:CO
CATEGORIES:Elementary Calendar
ATTACH;FMTTYPE=image/jpeg:https://www.frcs.org/wp-content/uploads/2025/10/i55-adventure-awaits-banner.jpg
END:VEVENT
BEGIN:VEVENT
DTSTART;TZID=America/Denver:20251030T160000
DTEND;TZID=America/Denver:20251030T190000
DTSTAMP:20260422T001548
CREATED:20250930T185050Z
LAST-MODIFIED:20251030T154557Z
UID:10001284-1761840000-1761850800@www.frcs.org
SUMMARY:MS Boys Basketball at Flatirons
DESCRIPTION:The Falcons vs. Flatirons Academy \nBlack: 4pm\nSilver: 5pm\nPurple: 6pm \nGo\, Falcons!
URL:https://www.frcs.org/event/ms-boys-basketball-at-flatirons/
LOCATION:Flatirons Academy\, 12000 N Zuni St #100\, Westminster\, 80234\, United States
CATEGORIES:Athletic Calendar
ATTACH;FMTTYPE=image/jpeg:https://www.frcs.org/wp-content/uploads/2025/03/basketball-abhishek-chandra-unsplash-TKACMN.tmp_-Ipc8k8.tmp_.jpg
END:VEVENT
BEGIN:VEVENT
DTSTART;TZID=America/Denver:20251101T100000
DTEND;TZID=America/Denver:20251101T123000
DTSTAMP:20260422T001548
CREATED:20250717T184853Z
LAST-MODIFIED:20251027T164257Z
UID:10001197-1761991200-1762000200@www.frcs.org
SUMMARY:Football\, home vs Clear Creek
DESCRIPTION:The Falcons host Clear Creek High School \n10am \nGo\, Falcons!
URL:https://www.frcs.org/event/football-home-vs-clear-creek/
LOCATION:Falcon Field\, 6548 W Ottawa Ave\, Littleton\, CO\, 80128
CATEGORIES:Athletic Calendar
ATTACH;FMTTYPE=image/jpeg:https://www.frcs.org/wp-content/uploads/2025/04/football-dave-adamson-unsplash-600sq.jpg
END:VEVENT
END:VCALENDAR