BEGIN:VCALENDAR
VERSION:2.0
PRODID:-//Front Range Christian School - ECPv6.15.20//NONSGML v1.0//EN
CALSCALE:GREGORIAN
METHOD:PUBLISH
X-WR-CALNAME:Front Range Christian School
X-ORIGINAL-URL:https://www.frcs.org
X-WR-CALDESC:Events for Front Range Christian School
REFRESH-INTERVAL;VALUE=DURATION:PT1H
X-Robots-Tag:noindex
X-PUBLISHED-TTL:PT1H
BEGIN:VTIMEZONE
TZID:America/Denver
BEGIN:DAYLIGHT
TZOFFSETFROM:-0700
TZOFFSETTO:-0600
TZNAME:MDT
DTSTART:20240310T090000
END:DAYLIGHT
BEGIN:STANDARD
TZOFFSETFROM:-0600
TZOFFSETTO:-0700
TZNAME:MST
DTSTART:20241103T080000
END:STANDARD
BEGIN:DAYLIGHT
TZOFFSETFROM:-0700
TZOFFSETTO:-0600
TZNAME:MDT
DTSTART:20250309T090000
END:DAYLIGHT
BEGIN:STANDARD
TZOFFSETFROM:-0600
TZOFFSETTO:-0700
TZNAME:MST
DTSTART:20251102T080000
END:STANDARD
BEGIN:DAYLIGHT
TZOFFSETFROM:-0700
TZOFFSETTO:-0600
TZNAME:MDT
DTSTART:20260308T090000
END:DAYLIGHT
BEGIN:STANDARD
TZOFFSETFROM:-0600
TZOFFSETTO:-0700
TZNAME:MST
DTSTART:20261101T080000
END:STANDARD
END:VTIMEZONE
BEGIN:VEVENT
DTSTART;VALUE=DATE:20251013
DTEND;VALUE=DATE:20251018
DTSTAMP:20260419T064126
CREATED:20250331T154524Z
LAST-MODIFIED:20250331T154524Z
UID:10001003-1760313600-1760745599@www.frcs.org
SUMMARY:Fall Break
DESCRIPTION:There is no school for all students\, preschool through 12th grade\, and campus offices are closed. The administration offices are still open.
URL:https://www.frcs.org/event/fall-break/
LOCATION:CO
CATEGORIES:Academics Calendar,ECE Calendar,Elementary Calendar,Jr/Sr High Calendar,Parent Dashboard
ATTACH;FMTTYPE=image/jpeg:https://www.frcs.org/wp-content/uploads/2021/07/frcs-campus.jpg
END:VEVENT
BEGIN:VEVENT
DTSTART;TZID=America/Denver:20251016T150000
DTEND;TZID=America/Denver:20251016T163000
DTSTAMP:20260419T064126
CREATED:20250717T184519Z
LAST-MODIFIED:20250820T161737Z
UID:10001195-1760626800-1760632200@www.frcs.org
SUMMARY:Football\, home vs Justice
DESCRIPTION:The Falcons host Justice High School \n3pm \nGo\, Falcons!
URL:https://www.frcs.org/event/football-home-vs-justice/
LOCATION:Falcon Field\, 6548 W Ottawa Ave\, Littleton\, CO\, 80128
CATEGORIES:Athletic Calendar
ATTACH;FMTTYPE=image/jpeg:https://www.frcs.org/wp-content/uploads/2025/04/football-dave-adamson-unsplash-600sq.jpg
END:VEVENT
BEGIN:VEVENT
DTSTART;TZID=America/Denver:20251018T090000
DTEND;TZID=America/Denver:20251018T150000
DTSTAMP:20260419T064126
CREATED:20250821T193433Z
LAST-MODIFIED:20250829T172620Z
UID:10001230-1760778000-1760799600@www.frcs.org
SUMMARY:MS Volleyball at Denver Christian Tournament
DESCRIPTION:The Falcons participate in a tournament hosted by Denver Christian. Games for Black\, Silver\, and Purple/White teams will occur between 9am-3pm. \nGo\, Falcons!
URL:https://www.frcs.org/event/ms-volleyball-at-denver-christian-tournament/
LOCATION:Denver Christian\, 3898 S Teller St.\, Lakewood\, CO\, 80235\, United States
CATEGORIES:Athletic Calendar
ATTACH;FMTTYPE=image/jpeg:https://www.frcs.org/wp-content/uploads/2022/04/volleyball-iStock.jpg
END:VEVENT
END:VCALENDAR