BEGIN:VCALENDAR
VERSION:2.0
PRODID:-//Front Range Christian School - ECPv6.15.20//NONSGML v1.0//EN
CALSCALE:GREGORIAN
METHOD:PUBLISH
X-ORIGINAL-URL:https://www.frcs.org
X-WR-CALDESC:Events for Front Range Christian School
REFRESH-INTERVAL;VALUE=DURATION:PT1H
X-Robots-Tag:noindex
X-PUBLISHED-TTL:PT1H
BEGIN:VTIMEZONE
TZID:America/Denver
BEGIN:DAYLIGHT
TZOFFSETFROM:-0700
TZOFFSETTO:-0600
TZNAME:MDT
DTSTART:20240310T090000
END:DAYLIGHT
BEGIN:STANDARD
TZOFFSETFROM:-0600
TZOFFSETTO:-0700
TZNAME:MST
DTSTART:20241103T080000
END:STANDARD
BEGIN:DAYLIGHT
TZOFFSETFROM:-0700
TZOFFSETTO:-0600
TZNAME:MDT
DTSTART:20250309T090000
END:DAYLIGHT
BEGIN:STANDARD
TZOFFSETFROM:-0600
TZOFFSETTO:-0700
TZNAME:MST
DTSTART:20251102T080000
END:STANDARD
BEGIN:DAYLIGHT
TZOFFSETFROM:-0700
TZOFFSETTO:-0600
TZNAME:MDT
DTSTART:20260308T090000
END:DAYLIGHT
BEGIN:STANDARD
TZOFFSETFROM:-0600
TZOFFSETTO:-0700
TZNAME:MST
DTSTART:20261101T080000
END:STANDARD
END:VTIMEZONE
BEGIN:VEVENT
DTSTART;VALUE=DATE:20250818
DTEND;VALUE=DATE:20250819
DTSTAMP:20260421T180837
CREATED:20250328T170521Z
LAST-MODIFIED:20250328T170521Z
UID:10000980-1755475200-1755561599@www.frcs.org
SUMMARY:First Day of School (ECE)
DESCRIPTION:This is the first day of school for preschool\, pre-kindergarten\, and kindergarten students at FRCS.
URL:https://www.frcs.org/event/first-day-of-school-ece/
LOCATION:FRCS Early Childhood Education Center\, 6657 W Ottawa Ave\, Ste C3\, Littleton\, CO\, 80128\, United States
CATEGORIES:ECE Calendar
ATTACH;FMTTYPE=image/jpeg:https://www.frcs.org/wp-content/uploads/2025/03/ece-entry-1150x450-1.jpg
GEO:1;1
X-APPLE-STRUCTURED-LOCATION;VALUE=URI;X-ADDRESS=FRCS Early Childhood Education Center 6657 W Ottawa Ave Ste C3 Littleton CO 80128 United States;X-APPLE-RADIUS=500;X-TITLE=6657 W Ottawa Ave\, Ste C3:geo:1,1
END:VEVENT
BEGIN:VEVENT
DTSTART;TZID=America/Denver:20250818T160000
DTEND;TZID=America/Denver:20250818T173000
DTSTAMP:20260421T180837
CREATED:20250717T171909Z
LAST-MODIFIED:20250717T171909Z
UID:10001160-1755532800-1755538200@www.frcs.org
SUMMARY:Boys Soccer\, home vs Denver Eagles
DESCRIPTION:The Falcons host a scrimmage against the Denver Eagles \n4pm \nGo\, Falcons!
URL:https://www.frcs.org/event/boys-soccer-home-vs-denver-eagles/
LOCATION:Falcon Field\, 6548 W Ottawa Ave\, Littleton\, CO\, 80128
CATEGORIES:Athletic Calendar
ATTACH;FMTTYPE=image/jpeg:https://www.frcs.org/wp-content/uploads/2025/03/soccer-wesley-tingey-unsplash-1150x450-1-SxJpQE.tmp_.jpg
END:VEVENT
BEGIN:VEVENT
DTSTART;TZID=America/Denver:20250818T160000
DTEND;TZID=America/Denver:20250818T180000
DTSTAMP:20260421T180837
CREATED:20250717T155431Z
LAST-MODIFIED:20250717T155431Z
UID:10001141-1755532800-1755540000@www.frcs.org
SUMMARY:Volleyball\, home vs Denver Eagles
DESCRIPTION:The Falcons host the Denver Eagles for two scrimmage games. \nJV: 4pm\nV: 5pm \nGo\, Falcons!
URL:https://www.frcs.org/event/volleyball-home-vs-denver-eagles/
LOCATION:FRCS Gym\, 6637 W Ottawa Ave 1\, Littleton\, CO\, 80128\, United States
CATEGORIES:Athletic Calendar
ATTACH;FMTTYPE=image/jpeg:https://www.frcs.org/wp-content/uploads/2021/03/volleyball-and-net.jpg
GEO:1;1
X-APPLE-STRUCTURED-LOCATION;VALUE=URI;X-ADDRESS=FRCS Gym 6637 W Ottawa Ave 1 Littleton CO 80128 United States;X-APPLE-RADIUS=500;X-TITLE=6637 W Ottawa Ave 1:geo:1,1
END:VEVENT
BEGIN:VEVENT
DTSTART;TZID=America/Denver:20250819T080000
DTEND;TZID=America/Denver:20250819T120000
DTSTAMP:20260421T180838
CREATED:20250717T180941Z
LAST-MODIFIED:20250717T180941Z
UID:10001181-1755590400-1755604800@www.frcs.org
SUMMARY:Golf at Addenbrooke Invitational
DESCRIPTION:Falcons Golf competes in the Addenbrooke Invitational \n8am \nGo\, Falcons!
URL:https://www.frcs.org/event/golf-at-addenbrooke-invitational/
LOCATION:Broken Tee GC\, 2101 W Oxford Ave\, Englewood\, CO\, 80110
CATEGORIES:Athletic Calendar
ATTACH;FMTTYPE=image/jpeg:https://www.frcs.org/wp-content/uploads/2025/03/golf-putt-1150x450-1.jpg
END:VEVENT
BEGIN:VEVENT
DTSTART;TZID=America/Denver:20250820T151500
DTEND;TZID=America/Denver:20250820T173000
DTSTAMP:20260421T180838
CREATED:20250724T161626Z
LAST-MODIFIED:20250801T170232Z
UID:10001199-1755702900-1755711000@www.frcs.org
SUMMARY:Elementary Musical Auditions
DESCRIPTION:We’re excited to announce that the 2025 elementary musical is Finding Nemo! \nAuditions are Wednesday\, August 20\, after school. They are open to students grades 4-6. Students who wish to audition can sign up on registration day (August 11) or at the elementary front office. Audition packets are available using the button below; they will also be available on registration day. \nThere are over 25 named roles in this musical and great featured ensembles for which students can audition! \nPerformances run November 7-8. \nDOWNLOAD AUDITION PACKET
URL:https://www.frcs.org/event/elementary-musical-auditions/
LOCATION:Performing Arts Center\, 6637 W Ottawa Ave.\, Littleton\, CO\, 80128\, United States
CATEGORIES:Elementary Calendar,Parent Dashboard
ATTACH;FMTTYPE=image/jpeg:https://www.frcs.org/wp-content/uploads/2025/07/finding-nemo-head1.jpg
GEO:1;1
X-APPLE-STRUCTURED-LOCATION;VALUE=URI;X-ADDRESS=Performing Arts Center 6637 W Ottawa Ave. Littleton CO 80128 United States;X-APPLE-RADIUS=500;X-TITLE=6637 W Ottawa Ave.:geo:1,1
END:VEVENT
BEGIN:VEVENT
DTSTART;VALUE=DATE:20250821
DTEND;VALUE=DATE:20250823
DTSTAMP:20260421T180838
CREATED:20250328T171832Z
LAST-MODIFIED:20250808T195159Z
UID:10000982-1755734400-1755907199@www.frcs.org
SUMMARY:Senior High Retreats
DESCRIPTION:Students grades 9-11 retreat with their classes for two days of community building\, adventure\, and setting the tone for the coming school year. Only the junior’s retreat is an overnight experience. \nJump to: 9th grade details | 10th grade details | 11th grade details | dress code specifics \n\n9th Grade Retreat Details\nThe focus of the 9th Grade Adventure and Community Building Retreat is Problem Solving. Through team challenges\, students develop skills in decision-making\, leadership\, goal-setting\, and conflict resolution. \nFor this retreat\, freshmen are divided into two groups. \nThursday\, August 21; 8am-3pm\n\nStudents meet at FRCS shortly before 8am and then ride together to their group’s experience\nGroup 1: Orienteering in Evergreen\nGroup 2: Escape Room in Denver\n\nFriday\, August 22; 8am-3pm\n\nStudents meet at FRCS shortly before 8am and then ride together to their group’s experience\nGroup 1: Escape Room in Denver\nGroup 2: Orienteering in Evergreen\n\nSpecifics for each experience:\n\nOrienteering day\n\nWhat students should bring:\n\nDay back pack with the items listed below\nFULL water bottle\nSnacks\nSack lunch\nAthletic shoes with closed toe and closed heel (REQUIRED)\nComfortable\, weather appropriate attire for an active day outside\nLayers for variable temperatures\nSun protection (sunglasses\, sunscreen\, hat\, etc.)\n\n\nStudents should not bring:\n\nSandals\, flip-flops\, crocs\, open-toe or open-heel shoes\ndangling jewelry and small valuables that might get lost\n\n\n\n\nEscape Room day\n\nWhat students should bring:\n\nWater bottle\nAthletic shoes (we will be walking quite a bit this day)\nSun protection\nMoney for lunch or a sack lunch\n\n\n\n\n\n \nNotes for parents:\n\nA waiver is required for the Orienteering experience\, and it must be completed by Friday\, August 15 (download the waiver)\nIf you have questions or concerns\, email  Jeremy Wall.\n\n\n10th Grade Retreat Details\nThe focus of the 10th Grade Adventure and Community Building Retreat is Problem Solving. Problem-Solving encourages students and groups to move beyond the comfortable. These challenges are for students to solve together through decision-making\, group goals\, leadership\, and conflict resolution. \nIf you have concerns or questions\, please email Coree Snyder or Jeremy Wall. \nThursday\, August 21; 5:45am-3pm\n\nWhite water rafting with Raft Masters Rafting in Cañon City\nMeet at the school at 5:45am; we return to the school by 3pm\nA waiver is required for this day. Please complete the waiver by Friday\, August 15.\nWhat to bring:\n\nswimsuit/swim trunks (within dress code)\nrafting shoes (NO flip-flops or Crocs)\nwater bottle\nsunscreen\ndry clothing for after rafting\n\n\nLunch is provided (hamburgers or hot dogs and chips) after rafting; if your child has dietary restrictions\, please send your student with a sack lunch\n\nFriday\, August 22; 8am-3pm\n\nHiking at St. Mary’s Glacier\nMeet at the school at 8am; we return to the school by 3pm\nWhat to bring:\n\ncomfortable clothing appropriate for hiking\nshoes appropriate for hiking (boots\, trail runners\, athletic shoes\, etc.; no flip-flops or Crocs)\nwater bottle\nsunscreen and other sun protection\nsack lunch\n\n\n\n\n11th Grade Retreat Details\nThe focus of the 11th Grade Adventure and Community Building Retreat is Challenge. “Challenge by choice” is an important phrase for our upperclassmen. Juniors are challenged to push the limits of what they think they are capable of\, in regard to both adventure and relationships. \nThursday\, August 21-Friday\, August 22\n\nThis is an overnight retreat in Estes Park (YMCA of the Rockies lodge)\nStudents meet at FRCS at 6am on Thursday and arrive back at FRCS on Friday at 3pm\nWhat to bring:\n\nOvernight bag (details shared with students during Junior Seminar)\nFor Via Ferrata: Long shorts or pants\, closed-toe shoes\, hair ties\, extra clothing layers\, water bottle\, sunscreen\nClothes and shoes suitable for hiking\n\n\n\nNotes for parents\n \n\nPlease let Brian Gehr or Jeremy Wall know of any dietary restrictions for your student by Friday\, August 15\nThe guides require a waiver be completed for each student; please complete the waiver by Friday\, August 15\nIf you have questions or concerns\, please email Brian Gehr or Jeremy Wall\n\n\nFRCS Dress Code for Student Experiences\n(Retreats\, J-Terms\, Practicums\, and AWE Outings) \nGeneral Reminder: Students are expected to follow the FRCS Dress Code for all student experiences. The following guidelines provide specific expectations for performance wear for students outings and experiences. \nLadies may wear:\n\nFull-length leggings (shirts must be long enough to cover appropriately).\nSpandex shirts (fitting within the dress code guidelines).\nAthletic tank tops (should have a three-finger minimum width on the straps).\n\nLadies may NOT wear:\n\nShort shorts (must extend at least mid-thigh length).\nShirts or tops that are too revealing or inappropriate for the setting.\n\nGentlemen may wear:\n\nAthletic wear such as workout shorts\, joggers\, and performance shirts.\nFull-length athletic pants or shorts that adhere to the dress code.\n\nGentlemen may NOT wear:\n\nShort shorts (must extend at least mid-thigh length).\nTank tops or sleeveless shirts.
URL:https://www.frcs.org/event/senior-high-retreats/
LOCATION:CO
CATEGORIES:Jr/Sr High Calendar,Parent Dashboard
ATTACH;FMTTYPE=image/jpeg:https://www.frcs.org/wp-content/uploads/2025/03/chipmunk-mountains.jpg
END:VEVENT
BEGIN:VEVENT
DTSTART;VALUE=DATE:20250823
DTEND;VALUE=DATE:20250824
DTSTAMP:20260421T180838
CREATED:20250717T155746Z
LAST-MODIFIED:20250717T155746Z
UID:10001142-1755907200-1755993599@www.frcs.org
SUMMARY:Volleyball at Addenbrooke Tournament
DESCRIPTION:The Falcons participate in the tournament hosted by Addenbrooke Classical Academy. This is an all-day event. \nGo\, Falcons!
URL:https://www.frcs.org/event/volleyball-at-addenbrooke-tournament/
LOCATION:Addenbrooke Classical Academy\, 3940 S Teller St\, Lakewood\, CO
CATEGORIES:Athletic Calendar
ATTACH;FMTTYPE=image/jpeg:https://www.frcs.org/wp-content/uploads/2021/03/volleyball-and-net.jpg
END:VEVENT
BEGIN:VEVENT
DTSTART;TZID=America/Denver:20250823T090000
DTEND;TZID=America/Denver:20250823T130000
DTSTAMP:20260421T180838
CREATED:20250605T184229Z
LAST-MODIFIED:20250605T184229Z
UID:10001135-1755939600-1755954000@www.frcs.org
SUMMARY:Junior Falcon Cheer Camp
DESCRIPTION:Junior Falcon Cheer Camp is open to all girls grades K-5. This popular camp teaches cheer motions\, Falcon cheers\, basic stunting\, some tumbling skills\, and a half-time dance — all of which campers will perform live at the Falcons home football game on September 19! Kick-off is 4pm. Cost is $125 for a single camper or $200 for 2 or more campers from the same family. Use the buttons below to learn more or to register. \n   REGISTER ONE STUDENT\n \n   REGISTER 2+ STUDENTS
URL:https://www.frcs.org/event/junior-falcon-cheer-camp/
LOCATION:FRCS Gym\, 6637 W Ottawa Ave 1\, Littleton\, CO\, 80128\, United States
CATEGORIES:Elementary Calendar,Parent Dashboard
ATTACH;FMTTYPE=image/jpeg:https://www.frcs.org/wp-content/uploads/2025/06/24-cheer.jpg
GEO:1;1
X-APPLE-STRUCTURED-LOCATION;VALUE=URI;X-ADDRESS=FRCS Gym 6637 W Ottawa Ave 1 Littleton CO 80128 United States;X-APPLE-RADIUS=500;X-TITLE=6637 W Ottawa Ave 1:geo:1,1
END:VEVENT
BEGIN:VEVENT
DTSTART;TZID=America/Denver:20250823T190000
DTEND;TZID=America/Denver:20250823T230000
DTSTAMP:20260421T180838
CREATED:20250717T181225Z
LAST-MODIFIED:20250717T181225Z
UID:10001182-1755975600-1755990000@www.frcs.org
SUMMARY:Golf at the Glow Ball Invitational
DESCRIPTION:Falcons Golf competes in the Glow Ball Invitational (hosted by Denver Academy) \n7pm \nGo\, Falcons!
URL:https://www.frcs.org/event/golf-at-the-glow-ball-invitational/
LOCATION:Green Valley Ranch GC\, 4900 Himalaya Rd\, Denver\, CO\, 80249
CATEGORIES:Athletic Calendar
ATTACH;FMTTYPE=image/jpeg:https://www.frcs.org/wp-content/uploads/2025/03/golf-putt-1150x450-1.jpg
END:VEVENT
END:VCALENDAR