BEGIN:VCALENDAR
VERSION:2.0
PRODID:-//Front Range Christian School - ECPv6.15.20//NONSGML v1.0//EN
CALSCALE:GREGORIAN
METHOD:PUBLISH
X-WR-CALNAME:Front Range Christian School
X-ORIGINAL-URL:https://www.frcs.org
X-WR-CALDESC:Events for Front Range Christian School
REFRESH-INTERVAL;VALUE=DURATION:PT1H
X-Robots-Tag:noindex
X-PUBLISHED-TTL:PT1H
BEGIN:VTIMEZONE
TZID:America/Denver
BEGIN:DAYLIGHT
TZOFFSETFROM:-0700
TZOFFSETTO:-0600
TZNAME:MDT
DTSTART:20240310T090000
END:DAYLIGHT
BEGIN:STANDARD
TZOFFSETFROM:-0600
TZOFFSETTO:-0700
TZNAME:MST
DTSTART:20241103T080000
END:STANDARD
BEGIN:DAYLIGHT
TZOFFSETFROM:-0700
TZOFFSETTO:-0600
TZNAME:MDT
DTSTART:20250309T090000
END:DAYLIGHT
BEGIN:STANDARD
TZOFFSETFROM:-0600
TZOFFSETTO:-0700
TZNAME:MST
DTSTART:20251102T080000
END:STANDARD
BEGIN:DAYLIGHT
TZOFFSETFROM:-0700
TZOFFSETTO:-0600
TZNAME:MDT
DTSTART:20260308T090000
END:DAYLIGHT
BEGIN:STANDARD
TZOFFSETFROM:-0600
TZOFFSETTO:-0700
TZNAME:MST
DTSTART:20261101T080000
END:STANDARD
END:VTIMEZONE
BEGIN:VEVENT
DTSTART;TZID=America/Denver:20250418T000000
DTEND;TZID=America/Denver:20250421T235900
DTSTAMP:20260421T155650
CREATED:20250318T151954Z
LAST-MODIFIED:20250320T170354Z
UID:10000854-1744934400-1745279940@www.frcs.org
SUMMARY:Easter Break
DESCRIPTION:He is risen! \nNo school for all students \nAll FRCS offices closed
URL:https://www.frcs.org/event/easter-break/
LOCATION:CO
CATEGORIES:Athletic Calendar
ATTACH;FMTTYPE=image/jpeg:https://www.frcs.org/wp-content/uploads/2025/03/empty-tomb-bruno-van-der-kraan-unsplash-slider-e4LNdh.tmp_.jpg
END:VEVENT
BEGIN:VEVENT
DTSTART;TZID=America/Denver:20250422T153000
DTEND;TZID=America/Denver:20250422T170000
DTSTAMP:20260421T155650
CREATED:20250318T152211Z
LAST-MODIFIED:20250410T153747Z
UID:10000873-1745335800-1745341200@www.frcs.org
SUMMARY:Girls Soccer\, home vs. Rye
DESCRIPTION:The Falcons host Rye High School \nV: 4pm \nGo\, Falcons!
URL:https://www.frcs.org/event/girls-soccer-home-vs-rye/
LOCATION:Falcon Field\, 6548 W Ottawa Ave\, Littleton\, CO\, 80128
CATEGORIES:Athletic Calendar
ATTACH;FMTTYPE=image/jpeg:https://www.frcs.org/wp-content/uploads/2025/03/soccer-wesley-tingey-unsplash-1150x450-1-1u5nYi.tmp_.jpg
END:VEVENT
BEGIN:VEVENT
DTSTART;TZID=America/Denver:20250422T160000
DTEND;TZID=America/Denver:20250422T180000
DTSTAMP:20260421T155650
CREATED:20250318T182847Z
LAST-MODIFIED:20250318T182847Z
UID:10000886-1745337600-1745344800@www.frcs.org
SUMMARY:Baseball at Denver Academy
DESCRIPTION:The Falcons vs. Denver Academy \nV: 4pm \nGo\, Falcons!
URL:https://www.frcs.org/event/baseball-at-denver-academy/
LOCATION:Denver Academy\, 4400 E. Iliff Ave.\, Denver\, CO\, 80222\, United States
CATEGORIES:Athletic Calendar
ATTACH;FMTTYPE=image/jpeg:https://www.frcs.org/wp-content/uploads/2021/05/baseball-in-the-grass-chris-collins-free-images.jpg
END:VEVENT
BEGIN:VEVENT
DTSTART;TZID=America/Denver:20250424T190000
DTEND;TZID=America/Denver:20250424T213000
DTSTAMP:20260421T155650
CREATED:20250318T151955Z
LAST-MODIFIED:20250320T171345Z
UID:10000856-1745521200-1745530200@www.frcs.org
SUMMARY:Spring Musical
DESCRIPTION:The 2025 spring musical is The Music Man! \nJoin us for a cast of students grades 4-12 as they sing\, dance\, and bring to life the story of fast-talking traveling salesman\, Harold Hill. Hill cons the people of River City\, Iowa\, into buying instruments and uniforms for a boys’ band that he vows to organize – this\, despite the fact that he doesn’t know a trombone from a treble clef. His plans to skip town with the cash are foiled when he falls for Marian\, the librarian\, who transforms him into a respectable citizen by curtain’s fall. \nBUY TICKETS: https://frcs.yapsody.com/event/index/839915
URL:https://www.frcs.org/event/spring-musical/2025-04-24/
LOCATION:Performing Arts Center\, 6637 W Ottawa Ave.\, Littleton\, CO\, 80128\, United States
CATEGORIES:Arts Calendar
ATTACH;FMTTYPE=image/jpeg:https://www.frcs.org/wp-content/uploads/2025/03/red-curtain-rob-laughter-unsplash-1150x450-1-fg0ajM.tmp_.jpg
GEO:1;1
X-APPLE-STRUCTURED-LOCATION;VALUE=URI;X-ADDRESS=Performing Arts Center 6637 W Ottawa Ave. Littleton CO 80128 United States;X-APPLE-RADIUS=500;X-TITLE=6637 W Ottawa Ave.:geo:1,1
END:VEVENT
BEGIN:VEVENT
DTSTART;TZID=America/Denver:20250425T190000
DTEND;TZID=America/Denver:20250425T213000
DTSTAMP:20260421T155650
CREATED:20250318T151955Z
LAST-MODIFIED:20250320T171345Z
UID:10000970-1745607600-1745616600@www.frcs.org
SUMMARY:Spring Musical
DESCRIPTION:The 2025 spring musical is The Music Man! \nJoin us for a cast of students grades 4-12 as they sing\, dance\, and bring to life the story of fast-talking traveling salesman\, Harold Hill. Hill cons the people of River City\, Iowa\, into buying instruments and uniforms for a boys’ band that he vows to organize – this\, despite the fact that he doesn’t know a trombone from a treble clef. His plans to skip town with the cash are foiled when he falls for Marian\, the librarian\, who transforms him into a respectable citizen by curtain’s fall. \nBUY TICKETS: https://frcs.yapsody.com/event/index/839915
URL:https://www.frcs.org/event/spring-musical/2025-04-25/
LOCATION:Performing Arts Center\, 6637 W Ottawa Ave.\, Littleton\, CO\, 80128\, United States
CATEGORIES:Arts Calendar
ATTACH;FMTTYPE=image/jpeg:https://www.frcs.org/wp-content/uploads/2025/03/red-curtain-rob-laughter-unsplash-1150x450-1-fg0ajM.tmp_.jpg
GEO:1;1
X-APPLE-STRUCTURED-LOCATION;VALUE=URI;X-ADDRESS=Performing Arts Center 6637 W Ottawa Ave. Littleton CO 80128 United States;X-APPLE-RADIUS=500;X-TITLE=6637 W Ottawa Ave.:geo:1,1
END:VEVENT
BEGIN:VEVENT
DTSTART;TZID=America/Denver:20250426T100000
DTEND;TZID=America/Denver:20250426T143000
DTSTAMP:20260421T155650
CREATED:20250318T183103Z
LAST-MODIFIED:20250320T150907Z
UID:10000887-1745661600-1745677800@www.frcs.org
SUMMARY:Baseball\, home vs Estes Park
DESCRIPTION:The Falcons host Estes Park High School \nDouble Header\nV: 10am\nV: 12:30pm \nGo\, Falcons!
URL:https://www.frcs.org/event/baseball-home-vs-estes-park/
LOCATION:Lilley Gulch Baseball Field\, 6147 S. Holland Way\, Littleton\, CO\, 80123\, United States
CATEGORIES:Athletic Calendar
ATTACH;FMTTYPE=image/jpeg:https://www.frcs.org/wp-content/uploads/2021/05/baseball-in-the-grass-chris-collins-free-images.jpg
END:VEVENT
BEGIN:VEVENT
DTSTART;TZID=America/Denver:20250426T130000
DTEND;TZID=America/Denver:20250426T153000
DTSTAMP:20260421T155650
CREATED:20250318T151955Z
LAST-MODIFIED:20250320T171345Z
UID:10000971-1745672400-1745681400@www.frcs.org
SUMMARY:Spring Musical
DESCRIPTION:The 2025 spring musical is The Music Man! \nJoin us for a cast of students grades 4-12 as they sing\, dance\, and bring to life the story of fast-talking traveling salesman\, Harold Hill. Hill cons the people of River City\, Iowa\, into buying instruments and uniforms for a boys’ band that he vows to organize – this\, despite the fact that he doesn’t know a trombone from a treble clef. His plans to skip town with the cash are foiled when he falls for Marian\, the librarian\, who transforms him into a respectable citizen by curtain’s fall. \nBUY TICKETS: https://frcs.yapsody.com/event/index/839915
URL:https://www.frcs.org/event/spring-musical/2025-04-26/1/
LOCATION:Performing Arts Center\, 6637 W Ottawa Ave.\, Littleton\, CO\, 80128\, United States
CATEGORIES:Arts Calendar
ATTACH;FMTTYPE=image/jpeg:https://www.frcs.org/wp-content/uploads/2025/03/red-curtain-rob-laughter-unsplash-1150x450-1-fg0ajM.tmp_.jpg
GEO:1;1
X-APPLE-STRUCTURED-LOCATION;VALUE=URI;X-ADDRESS=Performing Arts Center 6637 W Ottawa Ave. Littleton CO 80128 United States;X-APPLE-RADIUS=500;X-TITLE=6637 W Ottawa Ave.:geo:1,1
END:VEVENT
BEGIN:VEVENT
DTSTART;TZID=America/Denver:20250426T150000
DTEND;TZID=America/Denver:20250426T163000
DTSTAMP:20260421T155650
CREATED:20250318T194851Z
LAST-MODIFIED:20250318T194851Z
UID:10000912-1745679600-1745685000@www.frcs.org
SUMMARY:MS Baseball\, home vs Estes Park
DESCRIPTION:The Falcons host Estes Park Middle School \n3pm \nGo\, Falcons!
URL:https://www.frcs.org/event/ms-baseball-home-vs-estes-park/
LOCATION:Lilley Gulch Baseball Field\, 6147 S. Holland Way\, Littleton\, CO\, 80123\, United States
CATEGORIES:Athletic Calendar
ATTACH;FMTTYPE=image/jpeg:https://www.frcs.org/wp-content/uploads/2025/03/baseball-mike-bowman-unsplash-1150x450-1.jpg
END:VEVENT
BEGIN:VEVENT
DTSTART;TZID=America/Denver:20250426T190000
DTEND;TZID=America/Denver:20250426T213000
DTSTAMP:20260421T155650
CREATED:20250318T151955Z
LAST-MODIFIED:20250320T171345Z
UID:10000972-1745694000-1745703000@www.frcs.org
SUMMARY:Spring Musical
DESCRIPTION:The 2025 spring musical is The Music Man! \nJoin us for a cast of students grades 4-12 as they sing\, dance\, and bring to life the story of fast-talking traveling salesman\, Harold Hill. Hill cons the people of River City\, Iowa\, into buying instruments and uniforms for a boys’ band that he vows to organize – this\, despite the fact that he doesn’t know a trombone from a treble clef. His plans to skip town with the cash are foiled when he falls for Marian\, the librarian\, who transforms him into a respectable citizen by curtain’s fall. \nBUY TICKETS: https://frcs.yapsody.com/event/index/839915
URL:https://www.frcs.org/event/spring-musical/2025-04-26/2/
LOCATION:Performing Arts Center\, 6637 W Ottawa Ave.\, Littleton\, CO\, 80128\, United States
CATEGORIES:Arts Calendar
ATTACH;FMTTYPE=image/jpeg:https://www.frcs.org/wp-content/uploads/2025/03/red-curtain-rob-laughter-unsplash-1150x450-1-fg0ajM.tmp_.jpg
GEO:1;1
X-APPLE-STRUCTURED-LOCATION;VALUE=URI;X-ADDRESS=Performing Arts Center 6637 W Ottawa Ave. Littleton CO 80128 United States;X-APPLE-RADIUS=500;X-TITLE=6637 W Ottawa Ave.:geo:1,1
END:VEVENT
END:VCALENDAR