BEGIN:VCALENDAR
VERSION:2.0
PRODID:-//Front Range Christian School - ECPv6.15.20//NONSGML v1.0//EN
CALSCALE:GREGORIAN
METHOD:PUBLISH
X-WR-CALNAME:Front Range Christian School
X-ORIGINAL-URL:https://www.frcs.org
X-WR-CALDESC:Events for Front Range Christian School
REFRESH-INTERVAL;VALUE=DURATION:PT1H
X-Robots-Tag:noindex
X-PUBLISHED-TTL:PT1H
BEGIN:VTIMEZONE
TZID:America/Denver
BEGIN:DAYLIGHT
TZOFFSETFROM:-0700
TZOFFSETTO:-0600
TZNAME:MDT
DTSTART:20240310T090000
END:DAYLIGHT
BEGIN:STANDARD
TZOFFSETFROM:-0600
TZOFFSETTO:-0700
TZNAME:MST
DTSTART:20241103T080000
END:STANDARD
BEGIN:DAYLIGHT
TZOFFSETFROM:-0700
TZOFFSETTO:-0600
TZNAME:MDT
DTSTART:20250309T090000
END:DAYLIGHT
BEGIN:STANDARD
TZOFFSETFROM:-0600
TZOFFSETTO:-0700
TZNAME:MST
DTSTART:20251102T080000
END:STANDARD
BEGIN:DAYLIGHT
TZOFFSETFROM:-0700
TZOFFSETTO:-0600
TZNAME:MDT
DTSTART:20260308T090000
END:DAYLIGHT
BEGIN:STANDARD
TZOFFSETFROM:-0600
TZOFFSETTO:-0700
TZNAME:MST
DTSTART:20261101T080000
END:STANDARD
END:VTIMEZONE
BEGIN:VEVENT
DTSTART;TZID=America/Denver:20250415T160000
DTEND;TZID=America/Denver:20250415T180000
DTSTAMP:20260421T123613
CREATED:20250318T182331Z
LAST-MODIFIED:20250318T182331Z
UID:10000884-1744732800-1744740000@www.frcs.org
SUMMARY:Baseball\, home vs Colorado Springs Christian
DESCRIPTION:The Falcons host Colorado Springs Christian School \nV: 4pm \nGo\, Falcons!
URL:https://www.frcs.org/event/baseball-home-vs-colorado-springs-christian/
LOCATION:Lilley Gulch Baseball Field\, 6147 S. Holland Way\, Littleton\, CO\, 80123\, United States
CATEGORIES:Athletic Calendar
ATTACH;FMTTYPE=image/jpeg:https://www.frcs.org/wp-content/uploads/2021/05/baseball-in-the-grass-chris-collins-free-images.jpg
END:VEVENT
BEGIN:VEVENT
DTSTART;TZID=America/Denver:20250416T160000
DTEND;TZID=America/Denver:20250416T170000
DTSTAMP:20260421T123613
CREATED:20250318T152156Z
LAST-MODIFIED:20250320T170032Z
UID:10000870-1744819200-1744822800@www.frcs.org
SUMMARY:Girls Soccer at Mile High Academy
DESCRIPTION:The Falcons vs Mile High Academy \nJV: 4pm \nGo\, Falcons!
URL:https://www.frcs.org/event/girls-soccer-at-mile-high-academy/
LOCATION:CO
CATEGORIES:Athletic Calendar
ATTACH;FMTTYPE=image/jpeg:https://www.frcs.org/wp-content/uploads/2025/03/soccer-wesley-tingey-unsplash-1150x450-1-1u5nYi.tmp_.jpg
END:VEVENT
BEGIN:VEVENT
DTSTART;TZID=America/Denver:20250417T160000
DTEND;TZID=America/Denver:20250417T170000
DTSTAMP:20260421T123613
CREATED:20250319T163311Z
LAST-MODIFIED:20250319T163311Z
UID:10000961-1744905600-1744909200@www.frcs.org
SUMMARY:MS Girls Soccer\, home vs Belleview Christian
DESCRIPTION:The Falcons host Belleview Christian \nPurple: 4pm \nGo\, Falcons!
URL:https://www.frcs.org/event/ms-girls-soccer-home-vs-belleview-christian/
LOCATION:Falcon Field\, 6548 W Ottawa Ave\, Littleton\, CO\, 80128
CATEGORIES:Athletic Calendar
ATTACH;FMTTYPE=image/jpeg:https://www.frcs.org/wp-content/uploads/2025/03/soccer-near-goal-mick-haupt-unsplash-1150x450-1.jpg
END:VEVENT
BEGIN:VEVENT
DTSTART;TZID=America/Denver:20250417T160000
DTEND;TZID=America/Denver:20250417T184500
DTSTAMP:20260421T123613
CREATED:20250318T152157Z
LAST-MODIFIED:20250320T170131Z
UID:10000871-1744905600-1744915500@www.frcs.org
SUMMARY:Girls Soccer at Flatirons Academy
DESCRIPTION:The Falcons vs Flatirons Academy \nV: 4pm\nJV: 5:45pm \nGo\, Falcons!
URL:https://www.frcs.org/event/girls-soccer-at-flatirons-academy/
LOCATION:CO
CATEGORIES:Athletic Calendar
ATTACH;FMTTYPE=image/jpeg:https://www.frcs.org/wp-content/uploads/2025/03/soccer-wesley-tingey-unsplash-1150x450-1-1u5nYi.tmp_.jpg
END:VEVENT
BEGIN:VEVENT
DTSTART;TZID=America/Denver:20250417T160000
DTEND;TZID=America/Denver:20250417T193000
DTSTAMP:20260421T123613
CREATED:20250318T191003Z
LAST-MODIFIED:20250318T191003Z
UID:10000899-1744905600-1744918200@www.frcs.org
SUMMARY:Track and Field at Englewood Open #2
DESCRIPTION:The Falcons Track and Field athletes participate in the Englewood Open #2 \nCompetition begins at 4pm \nGo\, Falcons!
URL:https://www.frcs.org/event/track-and-field-at-englewood-open-2/
LOCATION:Englewood Middle/High School\, 3800 S Logan St\, Englewood\, CO\, 80113\, United States
CATEGORIES:Athletic Calendar
ATTACH;FMTTYPE=image/jpeg:https://www.frcs.org/wp-content/uploads/2022/04/finish-line.jpg
END:VEVENT
BEGIN:VEVENT
DTSTART;TZID=America/Denver:20250417T170000
DTEND;TZID=America/Denver:20250417T203000
DTSTAMP:20260421T123613
CREATED:20250318T182621Z
LAST-MODIFIED:20250318T182621Z
UID:10000885-1744909200-1744921800@www.frcs.org
SUMMARY:Baseball at Dayspring Christian
DESCRIPTION:The Falcons vs. Dayspring Christian \nV: 5pm\nJV: 7pm \nGo\, Falcons!
URL:https://www.frcs.org/event/baseball-at-dayspring-christian/
LOCATION:Butch Butler Field\, 2227 23rd Ave\, Greeley\, CO\, 80634\, United States
CATEGORIES:Athletic Calendar
ATTACH;FMTTYPE=image/jpeg:https://www.frcs.org/wp-content/uploads/2021/05/baseball-in-the-grass-chris-collins-free-images.jpg
END:VEVENT
BEGIN:VEVENT
DTSTART;TZID=America/Denver:20250418T000000
DTEND;TZID=America/Denver:20250421T235900
DTSTAMP:20260421T123613
CREATED:20250318T151954Z
LAST-MODIFIED:20250320T170354Z
UID:10000854-1744934400-1745279940@www.frcs.org
SUMMARY:Easter Break
DESCRIPTION:He is risen! \nNo school for all students \nAll FRCS offices closed
URL:https://www.frcs.org/event/easter-break/
LOCATION:CO
CATEGORIES:Athletic Calendar
ATTACH;FMTTYPE=image/jpeg:https://www.frcs.org/wp-content/uploads/2025/03/empty-tomb-bruno-van-der-kraan-unsplash-slider-e4LNdh.tmp_.jpg
END:VEVENT
BEGIN:VEVENT
DTSTART;TZID=America/Denver:20250419T090000
DTEND;TZID=America/Denver:20250419T123000
DTSTAMP:20260421T123613
CREATED:20250318T191331Z
LAST-MODIFIED:20250318T191331Z
UID:10000900-1745053200-1745065800@www.frcs.org
SUMMARY:Track and Field at the Denver Christian Invitational
DESCRIPTION:Falcons Track and Field athletes participate in the Denver Christian Invitational. \nCompetition begins at 9am \nGo\, Falcons!
URL:https://www.frcs.org/event/track-and-field-at-the-denver-christian-invitational/
LOCATION:Denver Christian\, 3898 S Teller St.\, Lakewood\, CO\, 80235\, United States
CATEGORIES:Athletic Calendar
ATTACH;FMTTYPE=image/jpeg:https://www.frcs.org/wp-content/uploads/2022/04/finish-line.jpg
END:VEVENT
END:VCALENDAR