BEGIN:VCALENDAR
VERSION:2.0
PRODID:-//Front Range Christian School - ECPv6.15.20//NONSGML v1.0//EN
CALSCALE:GREGORIAN
METHOD:PUBLISH
X-ORIGINAL-URL:https://www.frcs.org
X-WR-CALDESC:Events for Front Range Christian School
REFRESH-INTERVAL;VALUE=DURATION:PT1H
X-Robots-Tag:noindex
X-PUBLISHED-TTL:PT1H
BEGIN:VTIMEZONE
TZID:America/Denver
BEGIN:DAYLIGHT
TZOFFSETFROM:-0700
TZOFFSETTO:-0600
TZNAME:MDT
DTSTART:20250309T090000
END:DAYLIGHT
BEGIN:STANDARD
TZOFFSETFROM:-0600
TZOFFSETTO:-0700
TZNAME:MST
DTSTART:20251102T080000
END:STANDARD
BEGIN:DAYLIGHT
TZOFFSETFROM:-0700
TZOFFSETTO:-0600
TZNAME:MDT
DTSTART:20260308T090000
END:DAYLIGHT
BEGIN:STANDARD
TZOFFSETFROM:-0600
TZOFFSETTO:-0700
TZNAME:MST
DTSTART:20261101T080000
END:STANDARD
BEGIN:DAYLIGHT
TZOFFSETFROM:-0700
TZOFFSETTO:-0600
TZNAME:MDT
DTSTART:20270314T090000
END:DAYLIGHT
BEGIN:STANDARD
TZOFFSETFROM:-0600
TZOFFSETTO:-0700
TZNAME:MST
DTSTART:20271107T080000
END:STANDARD
END:VTIMEZONE
BEGIN:VEVENT
DTSTART;TZID=America/Denver:20260420T073000
DTEND;TZID=America/Denver:20260420T083000
DTSTAMP:20260421T035003
CREATED:20250318T151955Z
LAST-MODIFIED:20250827T163705Z
UID:10000855-1776670200-1776673800@www.frcs.org
SUMMARY:Senior Poster Boards Due
DESCRIPTION:We ask parents to put together a board of their student with pictures so we can display it at the Graduation Reception. We are asking that these be turned in to the front desk of the Jr/Sr High School by Monday\, April 20\, (beginning of the school day) so we can display them in the front hallway for all students to enjoy. \nThe school will transport all of the poster boards over to the church for the Graduation Reception. After the reception\, you may take your board and display it at your graduation party. \n\nElmers Foam Board\n20″ wide x 30″ tall x 3/16″ thick\nColor – White\, Black\, Silver\, or Purple (if you can find it)\nAvailable at Hobby Lobby (around $6) and other craft stores\nVertical\nName\, pictures\, memorabilia\nIn the bottom right corner\, please prominently display your student’s name and their post-graduation plans\n\n  \nExamples of Senior Boards from the past:
URL:https://www.frcs.org/event/senior-poster-boards-due/
LOCATION:CO
CATEGORIES:Jr/Sr High Calendar
ATTACH;FMTTYPE=image/jpeg:https://www.frcs.org/wp-content/uploads/2025/03/photo-collage-analia-ferrario-unsplash-1150x450-1-aQQZsa.tmp_.jpg
END:VEVENT
BEGIN:VEVENT
DTSTART;TZID=America/Denver:20260423T080000
DTEND;TZID=America/Denver:20260423T150000
DTSTAMP:20260421T035003
CREATED:20250401T200446Z
LAST-MODIFIED:20260420T153212Z
UID:10001078-1776931200-1776956400@www.frcs.org
SUMMARY:Junior High DIVE Community Day
DESCRIPTION:Parents\, you are invited to Junior High DIVE Community Day. Eighth grade students have worked really hard on their DIVE projects\, and we would love for you to come and celebrate them with us. \nWhat is DIVE?\nAll 8th grade students take a class called DIVE. DIVE stands for Discover\, Investigate\, Visualize\, and Express and is intended for students to explore different ideas that bring them life. The thinking is that students will be more engaged in meaningful learning when they are given the freedom to choose topics that matter to them. Through these experiences\, we believe that students learn important skills to prepare them for high school\, but more importantly become more like the person the LORD created them to be. \nWhat is DIVE Day?\nDIVE day serves as an extension of our Junior High Community days which exist to build the community between 7th and 8th grade students and their families. Since January\, students have been engaging with these ideas and experiences. DIVE day serves as an opportunity for them to teach us what they have learned about their topic and themselves. \nThe Schedule\n\n8:00 – 9:00 – 8th grade setup; 7th grade Classrooms\n9:15 -10:15 – Community Day Festivities begin in the PAC (parents are welcome and encouraged to attend)\n10:25-11:25 – Group 1 presentations (in PAC)\, followed by a showcase\n11:30-12:15 – Lunch in the Commons.\n12:25 -1:25 – Group 2 (in PAC)\, followed by a showcase\n1:25-2:25 – Group 3 Presentations\, presentations (in PAC)\, followed by a showcase in the gym\n2:30-3:00 – Community wrap-up in the PAC\n\n 
URL:https://www.frcs.org/event/junior-high-dive-community-day/
LOCATION:FRCS Jr/Sr High\, 6637 W Ottawa Ave\, Littleton\, CO\, 80128\, United States
CATEGORIES:Jr/Sr High Calendar,Parent Dashboard
ATTACH;FMTTYPE=image/jpeg:https://www.frcs.org/wp-content/uploads/2021/06/multiple-intelligences.jpg
END:VEVENT
END:VCALENDAR