BEGIN:VCALENDAR
VERSION:2.0
PRODID:-//Front Range Christian School - ECPv6.15.20//NONSGML v1.0//EN
CALSCALE:GREGORIAN
METHOD:PUBLISH
X-ORIGINAL-URL:https://www.frcs.org
X-WR-CALDESC:Events for Front Range Christian School
REFRESH-INTERVAL;VALUE=DURATION:PT1H
X-Robots-Tag:noindex
X-PUBLISHED-TTL:PT1H
BEGIN:VTIMEZONE
TZID:America/Denver
BEGIN:DAYLIGHT
TZOFFSETFROM:-0700
TZOFFSETTO:-0600
TZNAME:MDT
DTSTART:20240310T090000
END:DAYLIGHT
BEGIN:STANDARD
TZOFFSETFROM:-0600
TZOFFSETTO:-0700
TZNAME:MST
DTSTART:20241103T080000
END:STANDARD
BEGIN:DAYLIGHT
TZOFFSETFROM:-0700
TZOFFSETTO:-0600
TZNAME:MDT
DTSTART:20250309T090000
END:DAYLIGHT
BEGIN:STANDARD
TZOFFSETFROM:-0600
TZOFFSETTO:-0700
TZNAME:MST
DTSTART:20251102T080000
END:STANDARD
BEGIN:DAYLIGHT
TZOFFSETFROM:-0700
TZOFFSETTO:-0600
TZNAME:MDT
DTSTART:20260308T090000
END:DAYLIGHT
BEGIN:STANDARD
TZOFFSETFROM:-0600
TZOFFSETTO:-0700
TZNAME:MST
DTSTART:20261101T080000
END:STANDARD
END:VTIMEZONE
BEGIN:VEVENT
DTSTART;TZID=America/Denver:20251111T074000
DTEND;TZID=America/Denver:20251111T080000
DTSTAMP:20260421T080950
CREATED:20250331T163902Z
LAST-MODIFIED:20250331T163902Z
UID:10001016-1762846800-1762848000@www.frcs.org
SUMMARY:Donuts for Dad (ECE)
DESCRIPTION:Dads are invited to drop-off their ECE students and grab a donut as they do. This is one way we thank and encourage FRCS dads (and father figures) of our energetic and amazing ECE students. We are so glad you’re part of our community!
URL:https://www.frcs.org/event/donuts-for-dad-ece/
LOCATION:FRCS Early Childhood Education Center\, 6657 W Ottawa Ave\, Ste C3\, Littleton\, CO\, 80128\, United States
CATEGORIES:ECE Calendar,Parent Dashboard
ATTACH;FMTTYPE=image/jpeg:https://www.frcs.org/wp-content/uploads/2025/03/donuts-shayna-douglas-unsplash-1150x450-1.jpg
GEO:1;1
X-APPLE-STRUCTURED-LOCATION;VALUE=URI;X-ADDRESS=FRCS Early Childhood Education Center 6657 W Ottawa Ave Ste C3 Littleton CO 80128 United States;X-APPLE-RADIUS=500;X-TITLE=6657 W Ottawa Ave\, Ste C3:geo:1,1
END:VEVENT
BEGIN:VEVENT
DTSTART;VALUE=DATE:20251110
DTEND;VALUE=DATE:20251111
DTSTAMP:20260421T080950
CREATED:20251007T162710Z
LAST-MODIFIED:20251007T162710Z
UID:10001299-1762732800-1762819199@www.frcs.org
SUMMARY:Scheduled Snow Day
DESCRIPTION:As an item for the Auction last spring\, we auctioned an opportunity to call a snow day for the school in the fall. The date for this scheduled snow day is set for Monday\, November 10. There will be no school this day. \nWhy are we letting a family call a snow day?\nCalling a snow is a fun\, unique item made available at the FRCS Auction. Several families bid on the item\, which makes it a great fundraiser for the school — similar to items like the teacher outings or “be a teacher for a day.” The chosen date must be approved by FRCS Administration to ensure it does not disrupt learning or already scheduled activities. Unlike other snow days\, planning one allows us to notify families in advance. \nAll schools in Colorado build in a contingency for a certain number of snow days each year\, to ensure that all required days of learning remain available to students in the schedule\, even in cases of bad weather. Being able to auction one of these contingency days is a fun way for the school to raise some money and give a family the chance to create a planned day off for all students. This auction item is planned and designed to NOT interrupt instruction and learning time for students. \nMy child is in the ECE program\, and I still need care for that day. Can I bring my child to school?\nYes! For our preschool\, PreK\, and kindergarten students\, it is an optional snow day. If you need care on these days\, you can bring your young students in for a great day of learning and fun. If you would like to have a snow day and stay home\, have fun! We do ask that you let ECE staff know what your plans are so that they can staff the ECE accordingly. \nWill FRCS offices also be closed?\nYes; it is\, after all\, a snow day!
URL:https://www.frcs.org/event/scheduled-snow-day/
LOCATION:CO
CATEGORIES:ECE Calendar,Elementary Calendar,Jr/Sr High Calendar,Parent Dashboard
ATTACH;FMTTYPE=image/jpeg:https://www.frcs.org/wp-content/uploads/2025/03/slider-snowflake-closeup-N6WokJ.tmp_.jpg
END:VEVENT
BEGIN:VEVENT
DTSTART;TZID=America/Denver:20251104T120000
DTEND;TZID=America/Denver:20251104T170000
DTSTAMP:20260421T080950
CREATED:20250331T161519Z
LAST-MODIFIED:20251114T013913Z
UID:10001012-1762257600-1762275600@www.frcs.org
SUMMARY:Fall Parent/Teacher Conferences
DESCRIPTION:Fall Parent/Teacher Conferences are scheduled for the afternoons of Monday\, November 3\, and Tuesday\, November 4. All students grades K-12 have a half day on both of these days. \nTo schedule a conference\, select the appropriate teacher’s name from the lists below\, then select an available date and time slot\, and follow onscreen instructions. (Please note that Kindergarten teachers will communicate separately about their conferences.) \nIf you do not see a teacher’s name below\, or if a teacher’s scheduler is full\, please contact the teacher directly to arrange a conference time. \n\n\n\n\nElementary\nAll FRCS Elementary families should schedule a conference with their child’s teacher. They are an important part of our partnership with you. \n1st Grade \n\nHeather Curd\nMaloriee Horstman\n\n2nd Grade \n\nShayla Osgood\nCami Rogers\nKristin Tillery\n\n3rd Grade \n\nHannah Lopez\nRebecca Pettett\nKatherine Pra\n\n4th Grade \n\nMeryl Delano\nJessica Koch\n\n5th Grade \n\nMelaine Downs\nMadisyn Greer\n\n6th Grade \n\nNicole Corman\nLindsey Nordby\n\n\n\nJr/Sr High\nConferences are optional but encouraged at the junior and senior high\, especially if your students struggles in a particular class. \nBible Teachers \n\nNicole Funk\nBrian Gehr\nPhil Schulz\n\nHistory Teachers \n\nKevin O’Melia\nRobyn Wise\nChristina Zudock\n\nLanguage Arts Teachers \n\nCarlie O’Keefe\nStephanie Sanburn\nRob Stadick\n\nLearning Specialists \n(both learning specialists use a Google scheduler\, so it may look different than other teacher’s schedulers) \n\nHeather Hapke\nKaley Sferra\n\nMath Teachers \n\nCara Matthies\nLeah Pirozzi (goes to Google scheduler)\nCoree Snyder\n\nScience Teachers \n\nKim Hammons\nKatherine Richardson\nCollin Sutherland\n\nSpanish Teacher \n\nLiz Bayne\n\nOthers \n\nMatt Freddolino\nKatie Knestis\nErin Mittoo (RISE)\nJoEllen Nikkel\nAubren Self
URL:https://www.frcs.org/event/fall-parent-teacher-conferences/2025-11-04/
LOCATION:FRCS Campus\, 6657 W Ottawa Ave\, Littleton\, CO\, 80128\, United States
CATEGORIES:ECE Calendar,Elementary Calendar,Jr/Sr High Calendar,Parent Dashboard
ATTACH;FMTTYPE=image/jpeg:https://www.frcs.org/wp-content/uploads/2021/07/frcs-campus.jpg
GEO:1;1
X-APPLE-STRUCTURED-LOCATION;VALUE=URI;X-ADDRESS=FRCS Campus 6657 W Ottawa Ave Littleton CO 80128 United States;X-APPLE-RADIUS=500;X-TITLE=6657 W Ottawa Ave:geo:1,1
END:VEVENT
BEGIN:VEVENT
DTSTART;TZID=America/Denver:20251104T080000
DTEND;TZID=America/Denver:20251104T114000
DTSTAMP:20260421T080950
CREATED:20250331T160844Z
LAST-MODIFIED:20250331T160938Z
UID:10001010-1762243200-1762256400@www.frcs.org
SUMMARY:Half Day\, grades K-12
DESCRIPTION:To accommodate parent/teacher conferences in the afternoon\, students kindergarten through 12th grade have a half day. Students K-6 are dismissed at 11:30am and students 7-12 are dismissed at 11:40am. \nPreschool and pre-kindergarten students have classes as normal this day (no early dismissal). \nStudents are not allowed to remain on campus during conferences (unless they have a scheduled extracurricular)\, as there will be no supervision.
URL:https://www.frcs.org/event/half-day-grades-k-12/2025-11-04/
LOCATION:FRCS Campus\, 6657 W Ottawa Ave\, Littleton\, CO\, 80128\, United States
CATEGORIES:ECE Calendar,Elementary Calendar,Jr/Sr High Calendar,Parent Dashboard
ATTACH;FMTTYPE=image/jpeg:https://www.frcs.org/wp-content/uploads/2021/07/frcs-campus.jpg
GEO:1;1
X-APPLE-STRUCTURED-LOCATION;VALUE=URI;X-ADDRESS=FRCS Campus 6657 W Ottawa Ave Littleton CO 80128 United States;X-APPLE-RADIUS=500;X-TITLE=6657 W Ottawa Ave:geo:1,1
END:VEVENT
BEGIN:VEVENT
DTSTART;TZID=America/Denver:20251103T120000
DTEND;TZID=America/Denver:20251103T170000
DTSTAMP:20260421T080950
CREATED:20250331T161519Z
LAST-MODIFIED:20251114T013913Z
UID:10001011-1762171200-1762189200@www.frcs.org
SUMMARY:Fall Parent/Teacher Conferences
DESCRIPTION:Fall Parent/Teacher Conferences are scheduled for the afternoons of Monday\, November 3\, and Tuesday\, November 4. All students grades K-12 have a half day on both of these days. \nTo schedule a conference\, select the appropriate teacher’s name from the lists below\, then select an available date and time slot\, and follow onscreen instructions. (Please note that Kindergarten teachers will communicate separately about their conferences.) \nIf you do not see a teacher’s name below\, or if a teacher’s scheduler is full\, please contact the teacher directly to arrange a conference time. \n\n\n\n\nElementary\nAll FRCS Elementary families should schedule a conference with their child’s teacher. They are an important part of our partnership with you. \n1st Grade \n\nHeather Curd\nMaloriee Horstman\n\n2nd Grade \n\nShayla Osgood\nCami Rogers\nKristin Tillery\n\n3rd Grade \n\nHannah Lopez\nRebecca Pettett\nKatherine Pra\n\n4th Grade \n\nMeryl Delano\nJessica Koch\n\n5th Grade \n\nMelaine Downs\nMadisyn Greer\n\n6th Grade \n\nNicole Corman\nLindsey Nordby\n\n\n\nJr/Sr High\nConferences are optional but encouraged at the junior and senior high\, especially if your students struggles in a particular class. \nBible Teachers \n\nNicole Funk\nBrian Gehr\nPhil Schulz\n\nHistory Teachers \n\nKevin O’Melia\nRobyn Wise\nChristina Zudock\n\nLanguage Arts Teachers \n\nCarlie O’Keefe\nStephanie Sanburn\nRob Stadick\n\nLearning Specialists \n(both learning specialists use a Google scheduler\, so it may look different than other teacher’s schedulers) \n\nHeather Hapke\nKaley Sferra\n\nMath Teachers \n\nCara Matthies\nLeah Pirozzi (goes to Google scheduler)\nCoree Snyder\n\nScience Teachers \n\nKim Hammons\nKatherine Richardson\nCollin Sutherland\n\nSpanish Teacher \n\nLiz Bayne\n\nOthers \n\nMatt Freddolino\nKatie Knestis\nErin Mittoo (RISE)\nJoEllen Nikkel\nAubren Self
URL:https://www.frcs.org/event/fall-parent-teacher-conferences/2025-11-03/
LOCATION:FRCS Campus\, 6657 W Ottawa Ave\, Littleton\, CO\, 80128\, United States
CATEGORIES:ECE Calendar,Elementary Calendar,Jr/Sr High Calendar,Parent Dashboard
ATTACH;FMTTYPE=image/jpeg:https://www.frcs.org/wp-content/uploads/2021/07/frcs-campus.jpg
GEO:1;1
X-APPLE-STRUCTURED-LOCATION;VALUE=URI;X-ADDRESS=FRCS Campus 6657 W Ottawa Ave Littleton CO 80128 United States;X-APPLE-RADIUS=500;X-TITLE=6657 W Ottawa Ave:geo:1,1
END:VEVENT
BEGIN:VEVENT
DTSTART;TZID=America/Denver:20251103T080000
DTEND;TZID=America/Denver:20251103T114000
DTSTAMP:20260421T080950
CREATED:20250331T160844Z
LAST-MODIFIED:20250331T160938Z
UID:10001009-1762156800-1762170000@www.frcs.org
SUMMARY:Half Day\, grades K-12
DESCRIPTION:To accommodate parent/teacher conferences in the afternoon\, students kindergarten through 12th grade have a half day. Students K-6 are dismissed at 11:30am and students 7-12 are dismissed at 11:40am. \nPreschool and pre-kindergarten students have classes as normal this day (no early dismissal). \nStudents are not allowed to remain on campus during conferences (unless they have a scheduled extracurricular)\, as there will be no supervision.
URL:https://www.frcs.org/event/half-day-grades-k-12/2025-11-03/
LOCATION:FRCS Campus\, 6657 W Ottawa Ave\, Littleton\, CO\, 80128\, United States
CATEGORIES:ECE Calendar,Elementary Calendar,Jr/Sr High Calendar,Parent Dashboard
ATTACH;FMTTYPE=image/jpeg:https://www.frcs.org/wp-content/uploads/2021/07/frcs-campus.jpg
GEO:1;1
X-APPLE-STRUCTURED-LOCATION;VALUE=URI;X-ADDRESS=FRCS Campus 6657 W Ottawa Ave Littleton CO 80128 United States;X-APPLE-RADIUS=500;X-TITLE=6657 W Ottawa Ave:geo:1,1
END:VEVENT
BEGIN:VEVENT
DTSTART;VALUE=DATE:20251030
DTEND;VALUE=DATE:20251031
DTSTAMP:20260421T080950
CREATED:20251016T202747Z
LAST-MODIFIED:20251016T202829Z
UID:10001305-1761782400-1761868799@www.frcs.org
SUMMARY:Picture Retakes
DESCRIPTION:Students who were not present for picture days will have their photos taken on October 30. Families do not need to sign up for new students or students who were gone on their picture day. \nFamilies who wish to have their student’s photos retaken may sign up to have retakes on October 30\, as well. Please sign up before noon on October 29. \nSIGN UP FOR RETAKES \n\nThese photos are used in school yearbooks and parents and family may purchase student portraits for personal use. Details about purchasing photos are available on the photographer’s website.
URL:https://www.frcs.org/event/picture-retakes/
LOCATION:CO
CATEGORIES:ECE Calendar,Elementary Calendar,Jr/Sr High Calendar,Parent Dashboard
ATTACH;FMTTYPE=image/jpeg:https://www.frcs.org/wp-content/uploads/2025/03/aperture-TdB4LZ.tmp_.jpg
END:VEVENT
BEGIN:VEVENT
DTSTART;VALUE=DATE:20251013
DTEND;VALUE=DATE:20251018
DTSTAMP:20260421T080950
CREATED:20250331T154524Z
LAST-MODIFIED:20250331T154524Z
UID:10001003-1760313600-1760745599@www.frcs.org
SUMMARY:Fall Break
DESCRIPTION:There is no school for all students\, preschool through 12th grade\, and campus offices are closed. The administration offices are still open.
URL:https://www.frcs.org/event/fall-break/
LOCATION:CO
CATEGORIES:Academics Calendar,ECE Calendar,Elementary Calendar,Jr/Sr High Calendar,Parent Dashboard
ATTACH;FMTTYPE=image/jpeg:https://www.frcs.org/wp-content/uploads/2021/07/frcs-campus.jpg
END:VEVENT
BEGIN:VEVENT
DTSTART;VALUE=DATE:20250929
DTEND;VALUE=DATE:20251005
DTSTAMP:20260421T080950
CREATED:20250328T191850Z
LAST-MODIFIED:20250917T210217Z
UID:10001000-1759104000-1759622399@www.frcs.org
SUMMARY:Homecoming Week
DESCRIPTION:Please remember that spirit day attire must still conform to FRCS dress code. See the jr/sr high dress code specifics here and the elementary dress code specifics here. \nThe schedule is still a work in progress. Some changes might be made before Homecoming Week. last updated September 17\, 3:02pm \nMonday\nJr/Sr High Spirit Day: PJs \nTuesday\nJr/Sr High Spirit Day: Soccer Mom vs BBQ Dad \nPowder Puff Game during senior high lunch (12:20-1:15pm): Freshmen vs Juniors \nWednesday\nJr/Sr High Spirit Day: “On Wednesdays we wear pink” \nPowder Puff Game during senior high lunch (12:20-1:15pm): Sophomores vs Seniors \nThursday\nJr/Sr High Spirit Day: Peasants (sophomores and seniors) vs Royalty (freshmen and juniors) \nPowder Puff Championship Game during senior high lunch (12:20-1:15pm): winners of first two games \nFriday\nAdjusted schedule at the Jr/Sr High (see below) \nJr/Sr High Spirit Day: Class Colors \nElementary Spirit Day: Falcon Gear/Purple \nPowder Puff vs Teachers Game: 2025 champions vs teachers — junior and senior high students are required to attend the game\, so they should bring their lunch with them. Holy Grounds is closed during this time\, but limited concessions will be available for purchase. Hot lunch orders can be picked up at the concessions stand. \nHOMECOMING GAME: Falcons vs. Lyons – 3:30pm kick-off – Homecoming Royalty announced at halftime \nLip Sync Battle in the PAC starting at 7pm \nSaturday\nSenior High Homecoming Dance starting at 8pm in Holy Grounds; the theme is “Starstruck in the City”. Tickets available from SLC members during lunch the week of Homecoming. Cost is $15/single and $25/couple. Guest forms for guests who are not FRCS senior high students must be turned into the office by Thursday\, October 2. \n \n\nAdjusted Schedule for Friday\, October 3\n\n\n\nJunior High\nSenior High\n\n\n8-8:45am: Red\n\n\n8:50-9:35am: Orange\n\n\n9:35-9:45am: Break\n\n\n9:45-10:30am: Yellow\n\n\n10:35-11:20am: JH dGroups\n10:35-11:20am: Teal\n\n\n11:25am-12:10pm: Teal\n11:25am-12:10pm: SH dGroups\n\n\n12:10-1:25pm: Lunch/Game\nAll Jr/Sr High students are required to attend the game and should bring their lunch; Holy Grounds is closed during this time. Hot lunches can be picked up at concessions by the field and limited concessions will be available for sale.\n\n\n1:25-2:10pm: Navy\n\n\n2:15-3pm: Purple
URL:https://www.frcs.org/event/homecoming-week/
LOCATION:FRCS Campus\, 6657 W Ottawa Ave\, Littleton\, CO\, 80128\, United States
CATEGORIES:ECE Calendar,Elementary Calendar,Jr/Sr High Calendar,Parent Dashboard
ATTACH;FMTTYPE=image/jpeg:https://www.frcs.org/wp-content/uploads/2025/03/homecoming.jpg
GEO:1;1
X-APPLE-STRUCTURED-LOCATION;VALUE=URI;X-ADDRESS=FRCS Campus 6657 W Ottawa Ave Littleton CO 80128 United States;X-APPLE-RADIUS=500;X-TITLE=6657 W Ottawa Ave:geo:1,1
END:VEVENT
BEGIN:VEVENT
DTSTART;VALUE=DATE:20250923
DTEND;VALUE=DATE:20250924
DTSTAMP:20260421T080950
CREATED:20250328T183627Z
LAST-MODIFIED:20250328T183627Z
UID:10000996-1758585600-1758671999@www.frcs.org
SUMMARY:ECE Picture Day
DESCRIPTION:Smile! \nECE students will have their portraits taken by Real Life Photo Co.
URL:https://www.frcs.org/event/ece-picture-day/
LOCATION:FRCS Early Childhood Education Center\, 6657 W Ottawa Ave\, Ste C3\, Littleton\, CO\, 80128\, United States
CATEGORIES:ECE Calendar,Parent Dashboard
ATTACH;FMTTYPE=image/jpeg:https://www.frcs.org/wp-content/uploads/2025/03/aperture-TdB4LZ.tmp_.jpg
GEO:1;1
X-APPLE-STRUCTURED-LOCATION;VALUE=URI;X-ADDRESS=FRCS Early Childhood Education Center 6657 W Ottawa Ave Ste C3 Littleton CO 80128 United States;X-APPLE-RADIUS=500;X-TITLE=6657 W Ottawa Ave\, Ste C3:geo:1,1
END:VEVENT
BEGIN:VEVENT
DTSTART;VALUE=DATE:20250919
DTEND;VALUE=DATE:20250920
DTSTAMP:20260421T080950
CREATED:20250328T183020Z
LAST-MODIFIED:20251211T174529Z
UID:10000995-1758240000-1758326399@www.frcs.org
SUMMARY:Grandparents Day
DESCRIPTION:Join the FRCS Grandparents Mailing List\nPlease enable JavaScript in your browser to complete this form.Please enable JavaScript in your browser to complete this form.		\n			Name Phone Email\n			\n		\n		Name *FirstLastEmail *PhoneSubmit
URL:https://www.frcs.org/event/grandparents-day/
LOCATION:FRCS Campus\, 6657 W Ottawa Ave\, Littleton\, CO\, 80128\, United States
CATEGORIES:ECE Calendar,Elementary Calendar,Parent Dashboard
ATTACH;FMTTYPE=image/png:https://www.frcs.org/wp-content/uploads/2025/03/GPD-header-1150x450-1-scaled.png
GEO:1;1
X-APPLE-STRUCTURED-LOCATION;VALUE=URI;X-ADDRESS=FRCS Campus 6657 W Ottawa Ave Littleton CO 80128 United States;X-APPLE-RADIUS=500;X-TITLE=6657 W Ottawa Ave:geo:1,1
END:VEVENT
BEGIN:VEVENT
DTSTART;VALUE=DATE:20250901
DTEND;VALUE=DATE:20250902
DTSTAMP:20260421T080950
CREATED:20250328T174518Z
LAST-MODIFIED:20250328T174518Z
UID:10000989-1756684800-1756771199@www.frcs.org
SUMMARY:Labor Day
DESCRIPTION:There is no school for all students\, and all FRCS offices are closed in observance of Labor Day.
URL:https://www.frcs.org/event/labor-day/
LOCATION:CO
CATEGORIES:ECE Calendar,Elementary Calendar,Jr/Sr High Calendar,Parent Dashboard
ATTACH;FMTTYPE=image/jpeg:https://www.frcs.org/wp-content/uploads/2021/07/frcs-campus.jpg
END:VEVENT
BEGIN:VEVENT
DTSTART;VALUE=DATE:20250818
DTEND;VALUE=DATE:20250819
DTSTAMP:20260421T080950
CREATED:20250328T170521Z
LAST-MODIFIED:20250328T170521Z
UID:10000980-1755475200-1755561599@www.frcs.org
SUMMARY:First Day of School (ECE)
DESCRIPTION:This is the first day of school for preschool\, pre-kindergarten\, and kindergarten students at FRCS.
URL:https://www.frcs.org/event/first-day-of-school-ece/
LOCATION:FRCS Early Childhood Education Center\, 6657 W Ottawa Ave\, Ste C3\, Littleton\, CO\, 80128\, United States
CATEGORIES:ECE Calendar
ATTACH;FMTTYPE=image/jpeg:https://www.frcs.org/wp-content/uploads/2025/03/ece-entry-1150x450-1.jpg
GEO:1;1
X-APPLE-STRUCTURED-LOCATION;VALUE=URI;X-ADDRESS=FRCS Early Childhood Education Center 6657 W Ottawa Ave Ste C3 Littleton CO 80128 United States;X-APPLE-RADIUS=500;X-TITLE=6657 W Ottawa Ave\, Ste C3:geo:1,1
END:VEVENT
BEGIN:VEVENT
DTSTART;TZID=America/Denver:20250815T090000
DTEND;TZID=America/Denver:20250815T120000
DTSTAMP:20260421T080950
CREATED:20250328T170325Z
LAST-MODIFIED:20250814T182113Z
UID:10000979-1755248400-1755259200@www.frcs.org
SUMMARY:ECE Back to School Orientation
DESCRIPTION:Parents are invited to back-to-school orientation for all early childhood education (ECE) students. \nSchedule\n9am – Kindergarten \n10am – PreK \nPreschool (by appointment; please email your teacher to schedule a time)
URL:https://www.frcs.org/event/ece-back-to-school-orientation/
LOCATION:FRCS Early Childhood Education Center\, 6657 W Ottawa Ave\, Ste C3\, Littleton\, CO\, 80128\, United States
CATEGORIES:ECE Calendar,Parent Dashboard
ATTACH;FMTTYPE=image/jpeg:https://www.frcs.org/wp-content/uploads/2025/03/ece-entry-1150x450-1.jpg
GEO:1;1
X-APPLE-STRUCTURED-LOCATION;VALUE=URI;X-ADDRESS=FRCS Early Childhood Education Center 6657 W Ottawa Ave Ste C3 Littleton CO 80128 United States;X-APPLE-RADIUS=500;X-TITLE=6657 W Ottawa Ave\, Ste C3:geo:1,1
END:VEVENT
BEGIN:VEVENT
DTSTART;TZID=America/Denver:20250317T000000
DTEND;TZID=America/Denver:20250321T235900
DTSTAMP:20260421T080950
CREATED:20250318T104841Z
LAST-MODIFIED:20250319T085423Z
UID:10000835-1742169600-1742601540@www.frcs.org
SUMMARY:Spring Break
DESCRIPTION:No school for all students\nAll campus offices closed\nAdmin offices open as normal
URL:https://www.frcs.org/event/spring-break/
LOCATION:CO
CATEGORIES:ECE Calendar,Elementary Calendar,Jr/Sr High Calendar,Parent Dashboard,School Calendar
ATTACH;FMTTYPE=image/jpeg:https://www.frcs.org/wp-content/uploads/2025/03/crocus-aaron-burden-unsplash-LjREl3.tmp_-xxFtpo.tmp_.jpg
END:VEVENT
BEGIN:VEVENT
DTSTART;TZID=America/Denver:20250313T080000
DTEND;TZID=America/Denver:20250313T113000
DTSTAMP:20260421T080950
CREATED:20250318T104838Z
LAST-MODIFIED:20250319T085422Z
UID:10000833-1741852800-1741865400@www.frcs.org
SUMMARY:Half Day for K-12
DESCRIPTION:All students grades K-12 have a half-day today to accommodate parent/teacher conferences. \nJunior and Senior High students will run their normal schedule on this day\, but the day will end at 11:30am (cutting their Green class 10 minutes shorter than usual). \nJunior and Senior High Schedule\n\n\n\n8-8:50am: Red\n\n\n8:55-9:45am: Orange\n\n\n9:45-9:55am: Break\n\n\n9:55-10:45am: Teal\n\n\n10:50-11:30am: Green
URL:https://www.frcs.org/event/half-day-for-k-12/
LOCATION:CO
CATEGORIES:ECE Calendar,Elementary Calendar,Jr/Sr High Calendar,Parent Dashboard,School Calendar
ATTACH;FMTTYPE=image/jpeg:https://www.frcs.org/wp-content/uploads/2025/03/frcs-campus-Axyf6r.tmp_-A2zmDD.tmp_.jpg
END:VEVENT
END:VCALENDAR