BEGIN:VCALENDAR
VERSION:2.0
PRODID:-//Front Range Christian School - ECPv6.15.20//NONSGML v1.0//EN
CALSCALE:GREGORIAN
METHOD:PUBLISH
X-WR-CALNAME:Front Range Christian School
X-ORIGINAL-URL:https://www.frcs.org
X-WR-CALDESC:Events for Front Range Christian School
REFRESH-INTERVAL;VALUE=DURATION:PT1H
X-Robots-Tag:noindex
X-PUBLISHED-TTL:PT1H
BEGIN:VTIMEZONE
TZID:America/Denver
BEGIN:DAYLIGHT
TZOFFSETFROM:-0700
TZOFFSETTO:-0600
TZNAME:MDT
DTSTART:20250309T090000
END:DAYLIGHT
BEGIN:STANDARD
TZOFFSETFROM:-0600
TZOFFSETTO:-0700
TZNAME:MST
DTSTART:20251102T080000
END:STANDARD
BEGIN:DAYLIGHT
TZOFFSETFROM:-0700
TZOFFSETTO:-0600
TZNAME:MDT
DTSTART:20260308T090000
END:DAYLIGHT
BEGIN:STANDARD
TZOFFSETFROM:-0600
TZOFFSETTO:-0700
TZNAME:MST
DTSTART:20261101T080000
END:STANDARD
BEGIN:DAYLIGHT
TZOFFSETFROM:-0700
TZOFFSETTO:-0600
TZNAME:MDT
DTSTART:20270314T090000
END:DAYLIGHT
BEGIN:STANDARD
TZOFFSETFROM:-0600
TZOFFSETTO:-0700
TZNAME:MST
DTSTART:20271107T080000
END:STANDARD
END:VTIMEZONE
BEGIN:VEVENT
DTSTART;VALUE=DATE:20260217
DTEND;VALUE=DATE:20260220
DTSTAMP:20260421T160231
CREATED:20260205T183700Z
LAST-MODIFIED:20260205T192050Z
UID:10001408-1771286400-1771545599@www.frcs.org
SUMMARY:Donation drop-off for Kindergarten Garage Sale
DESCRIPTION:The Annual Kindergarten Missions Garage Sale is Friday\, February 20\, and drop off for donations is February 17-19. \nIf you have items to donate to the garage sale\, you may drop them off at the Elementary Office February 17-19. Any item that appeals to a student preschool through 6th grade is welcome: toys\, games\, books\, puzzles\, movies\, collectibles\, sports equipment\, stuffed animals\, art supplies\, jewelry\, costumes\, bikes\, dolls\, etc. \nOn February 20\, all students preschool through 6th grade will have the opportunity to shop the sale. Proceeds benefit Torchgrab Africa\, which provides education\, clean water\, and support to children who live in the slums of Nairobi\, Kenya\, and a local organization\, Love\, Inc.\, which provides services to people in the Littleton and surrounding areas. \nWe are also accepting volunteers to help make the sale a success. Please consider signing up in the P3 Portal to help.
URL:https://www.frcs.org/event/donation-drop-off-for-kindergarten-garage-sale/
LOCATION:FRCS Elementary\, 6657 W Ottawa Ave\, Ste A-18\, Littleton\, CO\, 80128\, United States
CATEGORIES:ECE Calendar,Parent Dashboard
ATTACH;FMTTYPE=image/jpeg:https://www.frcs.org/wp-content/uploads/2026/02/ece-kinder-garage-sale-sign.jpg
END:VEVENT
BEGIN:VEVENT
DTSTART;TZID=America/Denver:20260319T080000
DTEND;TZID=America/Denver:20260319T114000
DTSTAMP:20260421T160231
CREATED:20250401T191618Z
LAST-MODIFIED:20250401T191713Z
UID:10001059-1773907200-1773920400@www.frcs.org
SUMMARY:Half Day\, grades K-12
DESCRIPTION:To accommodate parent/teacher conferences in the afternoon\, students kindergarten through 12th grade have a half day. Students K-6 are dismissed at 11:30am and students 7-12 are dismissed at 11:40am. \nPreschool and pre-kindergarten students have classes as normal this day (no early dismissal). \nStudents are not allowed to remain on campus during conferences (unless they have a scheduled extracurricular)\, as there will be no supervision.
URL:https://www.frcs.org/event/half-day-grades-k-12-2/2026-03-19/
LOCATION:FRCS Campus\, 6657 W Ottawa Ave\, Littleton\, CO\, 80128\, United States
CATEGORIES:ECE Calendar,Elementary Calendar,Jr/Sr High Calendar,Parent Dashboard
ATTACH;FMTTYPE=image/jpeg:https://www.frcs.org/wp-content/uploads/2021/07/frcs-campus.jpg
GEO:1;1
X-APPLE-STRUCTURED-LOCATION;VALUE=URI;X-ADDRESS=FRCS Campus 6657 W Ottawa Ave Littleton CO 80128 United States;X-APPLE-RADIUS=500;X-TITLE=6657 W Ottawa Ave:geo:1,1
END:VEVENT
BEGIN:VEVENT
DTSTART;TZID=America/Denver:20260320T080000
DTEND;TZID=America/Denver:20260320T114000
DTSTAMP:20260421T160231
CREATED:20250401T191618Z
LAST-MODIFIED:20250401T191713Z
UID:10001060-1773993600-1774006800@www.frcs.org
SUMMARY:Half Day\, grades K-12
DESCRIPTION:To accommodate parent/teacher conferences in the afternoon\, students kindergarten through 12th grade have a half day. Students K-6 are dismissed at 11:30am and students 7-12 are dismissed at 11:40am. \nPreschool and pre-kindergarten students have classes as normal this day (no early dismissal). \nStudents are not allowed to remain on campus during conferences (unless they have a scheduled extracurricular)\, as there will be no supervision.
URL:https://www.frcs.org/event/half-day-grades-k-12-2/2026-03-20/
LOCATION:FRCS Campus\, 6657 W Ottawa Ave\, Littleton\, CO\, 80128\, United States
CATEGORIES:ECE Calendar,Elementary Calendar,Jr/Sr High Calendar,Parent Dashboard
ATTACH;FMTTYPE=image/jpeg:https://www.frcs.org/wp-content/uploads/2021/07/frcs-campus.jpg
GEO:1;1
X-APPLE-STRUCTURED-LOCATION;VALUE=URI;X-ADDRESS=FRCS Campus 6657 W Ottawa Ave Littleton CO 80128 United States;X-APPLE-RADIUS=500;X-TITLE=6657 W Ottawa Ave:geo:1,1
END:VEVENT
BEGIN:VEVENT
DTSTART;VALUE=DATE:20260323
DTEND;VALUE=DATE:20260328
DTSTAMP:20260421T160231
CREATED:20250401T192236Z
LAST-MODIFIED:20250401T192236Z
UID:10001063-1774224000-1774655999@www.frcs.org
SUMMARY:Spring Break
DESCRIPTION:There is no school for all students\, and all campus offices are closed. Administration office are open as normal.
URL:https://www.frcs.org/event/spring-break-2/
LOCATION:FRCS Campus\, 6657 W Ottawa Ave\, Littleton\, CO\, 80128\, United States
CATEGORIES:Academics Calendar,ECE Calendar,Elementary Calendar,Jr/Sr High Calendar,Parent Dashboard
ATTACH;FMTTYPE=image/jpeg:https://www.frcs.org/wp-content/uploads/2025/03/crocus-aaron-burden-unsplash-LjREl3.tmp_-7UgZ0g.tmp_.jpg
GEO:1;1
X-APPLE-STRUCTURED-LOCATION;VALUE=URI;X-ADDRESS=FRCS Campus 6657 W Ottawa Ave Littleton CO 80128 United States;X-APPLE-RADIUS=500;X-TITLE=6657 W Ottawa Ave:geo:1,1
END:VEVENT
BEGIN:VEVENT
DTSTART;VALUE=DATE:20260403
DTEND;VALUE=DATE:20260407
DTSTAMP:20260421T160231
CREATED:20250401T193133Z
LAST-MODIFIED:20250401T193133Z
UID:10001065-1775174400-1775519999@www.frcs.org
SUMMARY:Easter Break
DESCRIPTION:There is no school for all students\, and all FRCS offices are closed as we commemorate the death\, burial\, and resurrection of our Lord Jesus Christ.
URL:https://www.frcs.org/event/easter-break-2/
LOCATION:FRCS Campus\, 6657 W Ottawa Ave\, Littleton\, CO\, 80128\, United States
CATEGORIES:Academics Calendar,ECE Calendar,Elementary Calendar,Jr/Sr High Calendar,Parent Dashboard
ATTACH;FMTTYPE=image/jpeg:https://www.frcs.org/wp-content/uploads/2025/03/empty-tomb-bruno-van-der-kraan-unsplash-slider-z0caO6.tmp_.jpg
GEO:1;1
X-APPLE-STRUCTURED-LOCATION;VALUE=URI;X-ADDRESS=FRCS Campus 6657 W Ottawa Ave Littleton CO 80128 United States;X-APPLE-RADIUS=500;X-TITLE=6657 W Ottawa Ave:geo:1,1
END:VEVENT
BEGIN:VEVENT
DTSTART;VALUE=DATE:20260408
DTEND;VALUE=DATE:20260409
DTSTAMP:20260421T160231
CREATED:20250401T193517Z
LAST-MODIFIED:20250401T193517Z
UID:10001067-1775606400-1775692799@www.frcs.org
SUMMARY:ECE Class and K Grad photos
DESCRIPTION:Smile! ECE has class photos today and kindergarten students will have their graduation photos taken today\, as well.
URL:https://www.frcs.org/event/ece-class-and-k-grad-photos/
LOCATION:FRCS Early Childhood Education Center\, 6657 W Ottawa Ave\, Ste C3\, Littleton\, CO\, 80128\, United States
CATEGORIES:ECE Calendar,Parent Dashboard
ATTACH;FMTTYPE=image/jpeg:https://www.frcs.org/wp-content/uploads/2025/03/aperture-TdB4LZ.tmp_.jpg
GEO:1;1
X-APPLE-STRUCTURED-LOCATION;VALUE=URI;X-ADDRESS=FRCS Early Childhood Education Center 6657 W Ottawa Ave Ste C3 Littleton CO 80128 United States;X-APPLE-RADIUS=500;X-TITLE=6657 W Ottawa Ave\, Ste C3:geo:1,1
END:VEVENT
BEGIN:VEVENT
DTSTART;TZID=America/Denver:20260505T073000
DTEND;TZID=America/Denver:20260505T083000
DTSTAMP:20260421T160231
CREATED:20250404T174609Z
LAST-MODIFIED:20250404T174609Z
UID:10001086-1777966200-1777969800@www.frcs.org
SUMMARY:ECE Muffins for Mom
DESCRIPTION:The annual favorite returns! Moms are invited to join their preschool\, pre-k\, and kindergarten students for muffins during morning drop-off. We are thankful for all the ECE moms!
URL:https://www.frcs.org/event/ece-muffins-for-mom-2/
LOCATION:FRCS Early Childhood Education Center\, 6657 W Ottawa Ave\, Ste C3\, Littleton\, CO\, 80128\, United States
CATEGORIES:ECE Calendar,Parent Dashboard
ATTACH;FMTTYPE=image/jpeg:https://www.frcs.org/wp-content/uploads/2025/03/muffins-roberto-martinez-unsplash-v3WL7k.tmp_.jpg
GEO:1;1
X-APPLE-STRUCTURED-LOCATION;VALUE=URI;X-ADDRESS=FRCS Early Childhood Education Center 6657 W Ottawa Ave Ste C3 Littleton CO 80128 United States;X-APPLE-RADIUS=500;X-TITLE=6657 W Ottawa Ave\, Ste C3:geo:1,1
END:VEVENT
BEGIN:VEVENT
DTSTART;TZID=America/Denver:20260507T080000
DTEND;TZID=America/Denver:20260507T123000
DTSTAMP:20260421T160231
CREATED:20250404T175235Z
LAST-MODIFIED:20250404T175235Z
UID:10001090-1778140800-1778157000@www.frcs.org
SUMMARY:Falcon Fit Field Day
DESCRIPTION:ECE students participate in a variety of field games. More details to come
URL:https://www.frcs.org/event/falcon-fit-field-day/
LOCATION:Falcon Field\, 6548 W Ottawa Ave\, Littleton\, CO\, 80128
CATEGORIES:ECE Calendar,Parent Dashboard
ATTACH;FMTTYPE=image/jpeg:https://www.frcs.org/wp-content/uploads/2025/03/tug-of-war-rope-iStock.jpg
END:VEVENT
BEGIN:VEVENT
DTSTART;VALUE=DATE:20260520
DTEND;VALUE=DATE:20260521
DTSTAMP:20260421T160231
CREATED:20250404T182319Z
LAST-MODIFIED:20250806T174733Z
UID:10001104-1779235200-1779321599@www.frcs.org
SUMMARY:ECE Year End Celebrations
DESCRIPTION:Schedule\n\nPreschool celebration: 9:30am (please check with your teacher for specifics)\nFull time kindergarten graduation: 8am\nPart time kindergarten graduation: 10am\nKindergarten (both full time and part time) music program: 9am\nPre-kindergarten celebration: 11:30am\n\nChildren are dismissed for the summer after their classroom celebrations.
URL:https://www.frcs.org/event/ece-year-end-celebrations/
LOCATION:FRCS Campus\, 6657 W Ottawa Ave\, Littleton\, CO\, 80128\, United States
CATEGORIES:ECE Calendar,Parent Dashboard
ATTACH;FMTTYPE=image/jpeg:https://www.frcs.org/wp-content/uploads/2024/03/confetti-jason-leung-unsplash.jpg
GEO:1;1
X-APPLE-STRUCTURED-LOCATION;VALUE=URI;X-ADDRESS=FRCS Campus 6657 W Ottawa Ave Littleton CO 80128 United States;X-APPLE-RADIUS=500;X-TITLE=6657 W Ottawa Ave:geo:1,1
END:VEVENT
BEGIN:VEVENT
DTSTART;VALUE=DATE:20260819
DTEND;VALUE=DATE:20260820
DTSTAMP:20260421T160231
CREATED:20250328T152227Z
LAST-MODIFIED:20260212T200711Z
UID:10000977-1787097600-1787183999@www.frcs.org
SUMMARY:First Day of School
DESCRIPTION:The first day of school is a late start (see details in the First Day Flapjacks event description)\, a half day for ECE and elementary students (11:30am dismissal)\, and a full day for junior and senior high students.
URL:https://www.frcs.org/event/first-day-of-school/
LOCATION:FRCS Campus\, 6657 W Ottawa Ave\, Littleton\, CO\, 80128\, United States
CATEGORIES:ECE Calendar,Elementary Calendar,Jr/Sr High Calendar
ATTACH;FMTTYPE=image/jpeg:https://www.frcs.org/wp-content/uploads/2021/07/frcs-campus.jpg
GEO:1;1
X-APPLE-STRUCTURED-LOCATION;VALUE=URI;X-ADDRESS=FRCS Campus 6657 W Ottawa Ave Littleton CO 80128 United States;X-APPLE-RADIUS=500;X-TITLE=6657 W Ottawa Ave:geo:1,1
END:VEVENT
BEGIN:VEVENT
DTSTART;TZID=America/Denver:20260819T073000
DTEND;TZID=America/Denver:20260819T082000
DTSTAMP:20260421T160231
CREATED:20250328T153845Z
LAST-MODIFIED:20260212T200856Z
UID:10000978-1787124600-1787127600@www.frcs.org
SUMMARY:First Day Flapjacks
DESCRIPTION:Parents and students\, you are invited to join us on the first day of school for flapjacks and fellowship! Breakfast is served from 7:30-8:20am in the lower elementary playground (the parking lot outside Praise Church). Please note this is a late start day for ALL students. The bell-ringing ceremony and jr/sr high classes begin promptly at 8:30am. \nParking is available in the main lot and along Ottawa Ave. \nPlease note: \n\nECE and Elementary students must be accompanied by an adult at this event.\nFamilies are welcome to arrive any time between 7:30 and 8:20am\nIf you’re not attending the breakfast\, students may not be dropped off prior to 8:20am\nElementary parents are encouraged to remain for the annual bell ringing ceremony from 8:30-8:40am\nBreakfast consists of flapjacks (including gluten-free options)\, fruit\, and orange juice\n\nEvent map
URL:https://www.frcs.org/event/first-day-flapjacks/
LOCATION:FRCS Campus\, 6657 W Ottawa Ave\, Littleton\, CO\, 80128\, United States
CATEGORIES:ECE Calendar,Elementary Calendar,Jr/Sr High Calendar,Parent Dashboard
ATTACH;FMTTYPE=image/jpeg:https://www.frcs.org/wp-content/uploads/2025/03/pancakes-luke-pennystan-unsplash-1150x450-1.jpg
GEO:1;1
X-APPLE-STRUCTURED-LOCATION;VALUE=URI;X-ADDRESS=FRCS Campus 6657 W Ottawa Ave Littleton CO 80128 United States;X-APPLE-RADIUS=500;X-TITLE=6657 W Ottawa Ave:geo:1,1
END:VEVENT
END:VCALENDAR