BEGIN:VCALENDAR
VERSION:2.0
PRODID:-//Front Range Christian School - ECPv6.15.20//NONSGML v1.0//EN
CALSCALE:GREGORIAN
METHOD:PUBLISH
X-ORIGINAL-URL:https://www.frcs.org
X-WR-CALDESC:Events for Front Range Christian School
REFRESH-INTERVAL;VALUE=DURATION:PT1H
X-Robots-Tag:noindex
X-PUBLISHED-TTL:PT1H
BEGIN:VTIMEZONE
TZID:America/Denver
BEGIN:DAYLIGHT
TZOFFSETFROM:-0700
TZOFFSETTO:-0600
TZNAME:MDT
DTSTART:20250309T090000
END:DAYLIGHT
BEGIN:STANDARD
TZOFFSETFROM:-0600
TZOFFSETTO:-0700
TZNAME:MST
DTSTART:20251102T080000
END:STANDARD
BEGIN:DAYLIGHT
TZOFFSETFROM:-0700
TZOFFSETTO:-0600
TZNAME:MDT
DTSTART:20260308T090000
END:DAYLIGHT
BEGIN:STANDARD
TZOFFSETFROM:-0600
TZOFFSETTO:-0700
TZNAME:MST
DTSTART:20261101T080000
END:STANDARD
BEGIN:DAYLIGHT
TZOFFSETFROM:-0700
TZOFFSETTO:-0600
TZNAME:MDT
DTSTART:20270314T090000
END:DAYLIGHT
BEGIN:STANDARD
TZOFFSETFROM:-0600
TZOFFSETTO:-0700
TZNAME:MST
DTSTART:20271107T080000
END:STANDARD
END:VTIMEZONE
BEGIN:VEVENT
DTSTART;TZID=America/Denver:20260108T180000
DTEND;TZID=America/Denver:20260108T193000
DTSTAMP:20260421T173147
CREATED:20250331T183043Z
LAST-MODIFIED:20250331T190128Z
UID:10001036-1767895200-1767900600@www.frcs.org
SUMMARY:Kindergarten Open House
DESCRIPTION:This event is open to current FRCS preschool and pre-kindergarten families as well as any family interested in kindergarten at Front Range Christian School. This open provides the opportunity to tour the ECE facility\, meet the staff\, ask questions\, and much more. \nImagine a school where your child’s education extends beyond traditional lessons and becomes an integral part of a vibrant community\, rooted in love for Jesus and care for one another. At Front Range Christian School\, we take pride in our role of educating children\, recognizing that each student is unique and deeply loved by God. We partner with you to prepare your child for life\, helping them embrace their faith as their own and equipping them to make a positive impact in the world for Christ. \nFamilies with children entering kindergarten are invited to join us for an open house. Take a tour of our facility\, meet teachers and staff\, and learn more about our the FRCS difference for kindergarten students. Use the link below to register\, or email our admissions team to learn more. \nREGISTER HERE
URL:https://www.frcs.org/event/kindergarten-open-house/
LOCATION:FRCS Early Childhood Education Center\, 6657 W Ottawa Ave\, Ste C3\, Littleton\, CO\, 80128\, United States
CATEGORIES:Admissions Calendar,ECE Calendar
ATTACH;FMTTYPE=image/jpeg:https://www.frcs.org/wp-content/uploads/2025/03/ece-entry-1150x450-1.jpg
GEO:1;1
X-APPLE-STRUCTURED-LOCATION;VALUE=URI;X-ADDRESS=FRCS Early Childhood Education Center 6657 W Ottawa Ave Ste C3 Littleton CO 80128 United States;X-APPLE-RADIUS=500;X-TITLE=6657 W Ottawa Ave\, Ste C3:geo:1,1
END:VEVENT
END:VCALENDAR