BEGIN:VCALENDAR
VERSION:2.0
PRODID:-//Front Range Christian School - ECPv6.15.20//NONSGML v1.0//EN
CALSCALE:GREGORIAN
METHOD:PUBLISH
X-WR-CALNAME:Front Range Christian School
X-ORIGINAL-URL:https://www.frcs.org
X-WR-CALDESC:Events for Front Range Christian School
REFRESH-INTERVAL;VALUE=DURATION:PT1H
X-Robots-Tag:noindex
X-PUBLISHED-TTL:PT1H
BEGIN:VTIMEZONE
TZID:America/Denver
BEGIN:DAYLIGHT
TZOFFSETFROM:-0700
TZOFFSETTO:-0600
TZNAME:MDT
DTSTART:20240310T090000
END:DAYLIGHT
BEGIN:STANDARD
TZOFFSETFROM:-0600
TZOFFSETTO:-0700
TZNAME:MST
DTSTART:20241103T080000
END:STANDARD
BEGIN:DAYLIGHT
TZOFFSETFROM:-0700
TZOFFSETTO:-0600
TZNAME:MDT
DTSTART:20250309T090000
END:DAYLIGHT
BEGIN:STANDARD
TZOFFSETFROM:-0600
TZOFFSETTO:-0700
TZNAME:MST
DTSTART:20251102T080000
END:STANDARD
BEGIN:DAYLIGHT
TZOFFSETFROM:-0700
TZOFFSETTO:-0600
TZNAME:MDT
DTSTART:20260308T090000
END:DAYLIGHT
BEGIN:STANDARD
TZOFFSETFROM:-0600
TZOFFSETTO:-0700
TZNAME:MST
DTSTART:20261101T080000
END:STANDARD
BEGIN:DAYLIGHT
TZOFFSETFROM:-0700
TZOFFSETTO:-0600
TZNAME:MDT
DTSTART:20270314T090000
END:DAYLIGHT
BEGIN:STANDARD
TZOFFSETFROM:-0600
TZOFFSETTO:-0700
TZNAME:MST
DTSTART:20271107T080000
END:STANDARD
END:VTIMEZONE
BEGIN:VEVENT
DTSTART;TZID=America/Denver:20251217T103000
DTEND;TZID=America/Denver:20251217T113000
DTSTAMP:20260421T153749
CREATED:20250806T172041Z
LAST-MODIFIED:20250806T172041Z
UID:10001204-1765967400-1765971000@www.frcs.org
SUMMARY:Kindergarten Christmas Program
DESCRIPTION:Families of FRCS Kindergarten students are invited to join us for the annual Kindergarten Christmas program. Join us in the PAC starting at 10:30am and celebrate the season!
URL:https://www.frcs.org/event/kindergarten-christmas-program/
LOCATION:Performing Arts Center\, 6637 W Ottawa Ave.\, Littleton\, CO\, 80128\, United States
CATEGORIES:ECE Calendar
ATTACH;FMTTYPE=image/jpeg:https://www.frcs.org/wp-content/uploads/2025/03/christmas-figurines-paige-cody-unsplash.jpg
GEO:1;1
X-APPLE-STRUCTURED-LOCATION;VALUE=URI;X-ADDRESS=Performing Arts Center 6637 W Ottawa Ave. Littleton CO 80128 United States;X-APPLE-RADIUS=500;X-TITLE=6637 W Ottawa Ave.:geo:1,1
END:VEVENT
BEGIN:VEVENT
DTSTART;TZID=America/Denver:20251218T103000
DTEND;TZID=America/Denver:20251218T113000
DTSTAMP:20260421T153749
CREATED:20250806T172636Z
LAST-MODIFIED:20251216T163746Z
UID:10001205-1766053800-1766057400@www.frcs.org
SUMMARY:Preschool Christmas Program
DESCRIPTION:Families of FRCS preschool students are invited to join us for the annual Preschool Christmas Program in Holy Grounds\, starting at 10:30am. Come\, celebrate the season and our youngest students!
URL:https://www.frcs.org/event/preschool-christmas-program/
LOCATION:Holy Grounds Cafe\, 6657 W Ottawa Ave\, Ste A-19\, Littleton\, CO\, 80128\, United States
CATEGORIES:Arts Calendar,ECE Calendar
ATTACH;FMTTYPE=image/jpeg:https://www.frcs.org/wp-content/uploads/2025/03/christmas-gifts-sharp-dof-1150x450-1.jpg
GEO:1;1
X-APPLE-STRUCTURED-LOCATION;VALUE=URI;X-ADDRESS=Holy Grounds Cafe 6657 W Ottawa Ave Ste A-19 Littleton CO 80128 United States;X-APPLE-RADIUS=500;X-TITLE=6657 W Ottawa Ave\, Ste A-19:geo:1,1
END:VEVENT
BEGIN:VEVENT
DTSTART;TZID=America/Denver:20251219T103000
DTEND;TZID=America/Denver:20251219T113000
DTSTAMP:20260421T153749
CREATED:20250806T173245Z
LAST-MODIFIED:20250806T173245Z
UID:10001206-1766140200-1766143800@www.frcs.org
SUMMARY:PreK Christmas Program
DESCRIPTION:Families of FRCS PreK students are invited to join us for the annual pre-kindergarten Christmas Program. Celebrate the season starting at 10:30am on Friday\, December 19\, in the PAC.
URL:https://www.frcs.org/event/prek-christmas-program/
LOCATION:Performing Arts Center\, 6637 W Ottawa Ave.\, Littleton\, CO\, 80128\, United States
CATEGORIES:Arts Calendar,ECE Calendar
ATTACH;FMTTYPE=image/jpeg:https://www.frcs.org/wp-content/uploads/2025/03/christmas-figurines-paige-cody-unsplash.jpg
GEO:1;1
X-APPLE-STRUCTURED-LOCATION;VALUE=URI;X-ADDRESS=Performing Arts Center 6637 W Ottawa Ave. Littleton CO 80128 United States;X-APPLE-RADIUS=500;X-TITLE=6637 W Ottawa Ave.:geo:1,1
END:VEVENT
BEGIN:VEVENT
DTSTART;VALUE=DATE:20251222
DTEND;VALUE=DATE:20260103
DTSTAMP:20260421T153749
CREATED:20250331T180832Z
LAST-MODIFIED:20251219T163930Z
UID:10001033-1766361600-1767398399@www.frcs.org
SUMMARY:Christmas Break
DESCRIPTION:There is no school for all students\, preschool through 12th grade. \nCampus offices are closed during the break. \nAdministration offices are closed December 24 through January 2\, and will reopen on January 5. Please also note that many of our administration staff will be working from home December 22-23. \nMerry Christmas! Have a safe and blessed break.
URL:https://www.frcs.org/event/christmas-break/
LOCATION:CO
CATEGORIES:ECE Calendar,Elementary Calendar,Jr/Sr High Calendar,Parent Dashboard
ATTACH;FMTTYPE=image/jpeg:https://www.frcs.org/wp-content/uploads/2025/03/christmas-tree-lights-1150x450-1.jpg
END:VEVENT
END:VCALENDAR