BEGIN:VCALENDAR
VERSION:2.0
PRODID:-//Front Range Christian School - ECPv6.15.20//NONSGML v1.0//EN
CALSCALE:GREGORIAN
METHOD:PUBLISH
X-ORIGINAL-URL:https://www.frcs.org
X-WR-CALDESC:Events for Front Range Christian School
REFRESH-INTERVAL;VALUE=DURATION:PT1H
X-Robots-Tag:noindex
X-PUBLISHED-TTL:PT1H
BEGIN:VTIMEZONE
TZID:America/Denver
BEGIN:DAYLIGHT
TZOFFSETFROM:-0700
TZOFFSETTO:-0600
TZNAME:MDT
DTSTART:20250309T090000
END:DAYLIGHT
BEGIN:STANDARD
TZOFFSETFROM:-0600
TZOFFSETTO:-0700
TZNAME:MST
DTSTART:20251102T080000
END:STANDARD
BEGIN:DAYLIGHT
TZOFFSETFROM:-0700
TZOFFSETTO:-0600
TZNAME:MDT
DTSTART:20260308T090000
END:DAYLIGHT
BEGIN:STANDARD
TZOFFSETFROM:-0600
TZOFFSETTO:-0700
TZNAME:MST
DTSTART:20261101T080000
END:STANDARD
BEGIN:DAYLIGHT
TZOFFSETFROM:-0700
TZOFFSETTO:-0600
TZNAME:MDT
DTSTART:20270314T090000
END:DAYLIGHT
BEGIN:STANDARD
TZOFFSETFROM:-0600
TZOFFSETTO:-0700
TZNAME:MST
DTSTART:20271107T080000
END:STANDARD
END:VTIMEZONE
BEGIN:VEVENT
DTSTART;TZID=America/Denver:20260402T080000
DTEND;TZID=America/Denver:20260402T100000
DTSTAMP:20260424T000341
CREATED:20250318T151949Z
LAST-MODIFIED:20260331T192305Z
UID:10000846-1775116800-1775124000@www.frcs.org
SUMMARY:4th Grade Science Fair
DESCRIPTION:4th grade students present their Science Fair projects on Thursday\, April 2\, from 8-10am in 4th grade classrooms and the multi-purpose room. Parents are welcome to attend (just check in at the Elementary Front Desk) and support our 4th graders!
URL:https://www.frcs.org/event/4th-grade-science-fair/
LOCATION:FRCS Elementary\, 6657 W Ottawa Ave\, Ste A-18\, Littleton\, CO\, 80128\, United States
CATEGORIES:Elementary Calendar,Parent Dashboard
ATTACH;FMTTYPE=image/jpeg:https://www.frcs.org/wp-content/uploads/2025/03/microscope-closeup-pawel-czerwinski-unsplash-1150x450-1-zmaHGI.tmp_.jpg
END:VEVENT
BEGIN:VEVENT
DTSTART;TZID=America/Denver:20260402T160000
DTEND;TZID=America/Denver:20260402T173000
DTSTAMP:20260424T000341
CREATED:20260218T181414Z
LAST-MODIFIED:20260218T181414Z
UID:10001417-1775145600-1775151000@www.frcs.org
SUMMARY:Girls Soccer\, home vs Union Colony
DESCRIPTION:The Falcons host Union Colony Preparatory School \nV: 4pm \nGo\, Falcons!
URL:https://www.frcs.org/event/girls-soccer-home-vs-union-colony/
LOCATION:Falcon Field\, 6548 W Ottawa Ave\, Littleton\, CO\, 80128
CATEGORIES:Athletic Calendar
ATTACH;FMTTYPE=image/jpeg:https://www.frcs.org/wp-content/uploads/2025/03/soccer-wesley-tingey-unsplash-1150x450-1-SxJpQE.tmp_.jpg
END:VEVENT
BEGIN:VEVENT
DTSTART;TZID=America/Denver:20260402T160000
DTEND;TZID=America/Denver:20260402T190000
DTSTAMP:20260424T000341
CREATED:20250318T180836Z
LAST-MODIFIED:20260320T200625Z
UID:10000880-1775145600-1775156400@www.frcs.org
SUMMARY:Baseball at Lyons
DESCRIPTION:The Falcons host Lyons High School \nV: 4pm\nJV: 6pm \nGo\, Falcons!
URL:https://www.frcs.org/event/baseball-home-vs-lyons/
LOCATION:Lilley Gulch Baseball Field\, 6147 S. Holland Way\, Littleton\, CO\, 80123\, United States
CATEGORIES:Athletic Calendar
ATTACH;FMTTYPE=image/jpeg:https://www.frcs.org/wp-content/uploads/2021/05/baseball-in-the-grass-chris-collins-free-images.jpg
END:VEVENT
BEGIN:VEVENT
DTSTART;TZID=America/Denver:20260402T173000
DTEND;TZID=America/Denver:20260402T190000
DTSTAMP:20260424T000341
CREATED:20260305T211606Z
LAST-MODIFIED:20260305T211606Z
UID:10001477-1775151000-1775156400@www.frcs.org
SUMMARY:JV Girls Soccer\, home vs Highlands Ranch STEM
DESCRIPTION:The Falcons host Highlands Ranch STEM \nJV: 5:30pm \nGo\, Falcons!
URL:https://www.frcs.org/event/jv-girls-soccer-home-vs-highlands-ranch-stem/
LOCATION:Falcon Field\, 6548 W Ottawa Ave\, Littleton\, CO\, 80128
CATEGORIES:Athletic Calendar
ATTACH;FMTTYPE=image/jpeg:https://www.frcs.org/wp-content/uploads/2025/03/soccer-wesley-tingey-unsplash-1150x450-1-SxJpQE.tmp_.jpg
END:VEVENT
END:VCALENDAR