BEGIN:VCALENDAR
VERSION:2.0
PRODID:-//Front Range Christian School - ECPv6.15.20//NONSGML v1.0//EN
CALSCALE:GREGORIAN
METHOD:PUBLISH
X-ORIGINAL-URL:https://www.frcs.org
X-WR-CALDESC:Events for Front Range Christian School
REFRESH-INTERVAL;VALUE=DURATION:PT1H
X-Robots-Tag:noindex
X-PUBLISHED-TTL:PT1H
BEGIN:VTIMEZONE
TZID:America/Denver
BEGIN:DAYLIGHT
TZOFFSETFROM:-0700
TZOFFSETTO:-0600
TZNAME:MDT
DTSTART:20250309T090000
END:DAYLIGHT
BEGIN:STANDARD
TZOFFSETFROM:-0600
TZOFFSETTO:-0700
TZNAME:MST
DTSTART:20251102T080000
END:STANDARD
BEGIN:DAYLIGHT
TZOFFSETFROM:-0700
TZOFFSETTO:-0600
TZNAME:MDT
DTSTART:20260308T090000
END:DAYLIGHT
BEGIN:STANDARD
TZOFFSETFROM:-0600
TZOFFSETTO:-0700
TZNAME:MST
DTSTART:20261101T080000
END:STANDARD
BEGIN:DAYLIGHT
TZOFFSETFROM:-0700
TZOFFSETTO:-0600
TZNAME:MDT
DTSTART:20270314T090000
END:DAYLIGHT
BEGIN:STANDARD
TZOFFSETFROM:-0600
TZOFFSETTO:-0700
TZNAME:MST
DTSTART:20271107T080000
END:STANDARD
END:VTIMEZONE
BEGIN:VEVENT
DTSTART;TZID=America/Denver:20260319T080000
DTEND;TZID=America/Denver:20260319T114000
DTSTAMP:20260424T062804
CREATED:20250401T191618Z
LAST-MODIFIED:20250401T191713Z
UID:10001059-1773907200-1773920400@www.frcs.org
SUMMARY:Half Day\, grades K-12
DESCRIPTION:To accommodate parent/teacher conferences in the afternoon\, students kindergarten through 12th grade have a half day. Students K-6 are dismissed at 11:30am and students 7-12 are dismissed at 11:40am. \nPreschool and pre-kindergarten students have classes as normal this day (no early dismissal). \nStudents are not allowed to remain on campus during conferences (unless they have a scheduled extracurricular)\, as there will be no supervision.
URL:https://www.frcs.org/event/half-day-grades-k-12-2/2026-03-19/
LOCATION:FRCS Campus\, 6657 W Ottawa Ave\, Littleton\, CO\, 80128\, United States
CATEGORIES:ECE Calendar,Elementary Calendar,Jr/Sr High Calendar,Parent Dashboard
ATTACH;FMTTYPE=image/jpeg:https://www.frcs.org/wp-content/uploads/2021/07/frcs-campus.jpg
GEO:1;1
X-APPLE-STRUCTURED-LOCATION;VALUE=URI;X-ADDRESS=FRCS Campus 6657 W Ottawa Ave Littleton CO 80128 United States;X-APPLE-RADIUS=500;X-TITLE=6657 W Ottawa Ave:geo:1,1
END:VEVENT
BEGIN:VEVENT
DTSTART;TZID=America/Denver:20260319T120000
DTEND;TZID=America/Denver:20260319T180000
DTSTAMP:20260424T062804
CREATED:20250401T192022Z
LAST-MODIFIED:20260224T175723Z
UID:10001061-1773921600-1773943200@www.frcs.org
SUMMARY:Spring Parent/Teacher Conferences
DESCRIPTION:Fall Parent/Teacher Conferences are scheduled for the afternoons of Thursday\, March 19\, and Friday\, March 20. All students grades K-12 have a half day on both of these days. Preschool and PreK students have normals days on both of these dates. \nAll teachers are now using Google Calendar scheduling options\, so it will look a little different from previous conferences\, but the scheduler is still easy to use. To schedule a conference\, select the appropriate teacher’s name from the lists below\, then select an available date and time slot\, and follow onscreen instructions. (Please note that kindergarten teachers communicate separately about their conferences.) \nIf you do not see a teacher’s name below\, or if a teacher’s scheduler is full\, please contact the teacher directly to arrange a conference time. \nELEMENTARY TEACHERS \n\nJR/SR HIGH TEACHERS \n\n \nElementary\nAll FRCS Elementary families should schedule a conference with their child’s teacher. They are an important part of our partnership with you. \n1st Grade \n\nHeather Curd\nMaloriee Horstman\n\n2nd Grade \n\nShayla Osgood\nCami Rogers\nKristin Tillery\n\n3rd Grade \n\nHannah Lopez\nRebecca Pettett\nKatherine Pra\n\n4th Grade \n\nMeryl Delano\nJessica Koch\n\n5th Grade \n\nMelaine Downs\nMadisyn Greer\n\n6th Grade \n\nNicole Corman\nLindsey Nordby\n\n \nJr/Sr High\nConferences are optional but encouraged at the junior and senior high\, especially if your student struggles in a particular class. \nBible Teachers \n\nNicole Funk*\nBrian Gehr\nPhil Schulz\n\nHistory/Social Sciences Teachers \n\nRobyn Wise\n\nLanguage Arts Teachers \n\nCarlie O’Keefe\nStephanie Sanburn\nRob Stadick\n\nLearning Specialists \n\nHeather Hapke\nKaley Sferra\n\nMath Teachers \n\nCara Matthies\nLeah Pirozzi\nCoree Snyder\n\nPhysical Sciences Teachers \n\nKim Hammons\nKatherine Richardson\nCollin Sutherland\n\nSpanish Teacher \n\nLiz Bayne\n\nOthers \n\nMatt Freddolino\nKatie Knestis\nErin Mittoo\nJoEllen Nikkel\nAubren Self\n\n*Will be away on Practicum during  normal conference times\, so dates available are different
URL:https://www.frcs.org/event/spring-parent-teacher-conferences-2/2026-03-19/
LOCATION:FRCS Campus\, 6657 W Ottawa Ave\, Littleton\, CO\, 80128\, United States
CATEGORIES:Elementary Calendar,Jr/Sr High Calendar,Parent Dashboard
ATTACH;FMTTYPE=image/jpeg:https://www.frcs.org/wp-content/uploads/2021/07/frcs-campus.jpg
GEO:1;1
X-APPLE-STRUCTURED-LOCATION;VALUE=URI;X-ADDRESS=FRCS Campus 6657 W Ottawa Ave Littleton CO 80128 United States;X-APPLE-RADIUS=500;X-TITLE=6657 W Ottawa Ave:geo:1,1
END:VEVENT
BEGIN:VEVENT
DTSTART;TZID=America/Denver:20260319T170000
DTEND;TZID=America/Denver:20260319T183000
DTSTAMP:20260424T062804
CREATED:20260225T194121Z
LAST-MODIFIED:20260305T192528Z
UID:10001471-1773939600-1773945000@www.frcs.org
SUMMARY:Adult Overcome Group
DESCRIPTION:FRCS is starting a new Overcome group for adults in our community. Overcome groups exist to create space for mental\, emotional\, and spiritual wellness. If you are working to be well in the midst of chaos or suffering\, or love someone who is\, please join us! Overcome is open to all FRCS parents\, staff\, friends\, and neighbors. Overcome is an 8-week\, peer-led group experience designed to help you build relationships\, gain tools for wellness\, and deepen your faith. Under the guidance of trained peer facilitators\, group members meet weekly in a small group setting that emphasizes safety and respect while exploring biblical truths about hope in the midst of suffering. \nThe group meets for eight weeks in the Elementary FDC beginning March 12 and concluding on May 7. There is not cost to participate. Participant workbooks may be downloaded as a PDF at no cost or spiral bound physical copies may be purchased for $24. \nFree childcare is available for children ages 3 through 6th grade (infants may be brought to the meetings with their parent\, if needed). \nRegistration Form\nPlease enable JavaScript in your browser to complete this form.Please enable JavaScript in your browser to complete this form.Name *FirstLastEmail *I would like to buy a physical copy of the participant workbook *Yes ($24\, due at first meeting)No\, I will download the PDF version (link provided when meeting draws closer)		\n			would Email Child’s\n			\n		\n		Childcare RegistrationDo you need childcare for the meetings? *YesNo\n				Child Information\n			Child’s Name *FirstLastChild’s Agein years; use only numbersPlease list any allergies this child has\n				\n					Add Child\n				\n				\n					Remove Child\n				\n			Register  \nAnchor International\nAnchor International is a Christ-centered organization dedicated to bringing hope and belonging for people walking through mental health challenges. We do this by equipping churches and organizations to promote mental wellness through peer-led support groups\, like Overcome. As a community of peers who have personally experienced mental health struggles\, we’re passionate about creating a world where no one has to walk this journey alone. \nWe developed Overcome as a group experience for people of all backgrounds who want to grow in mental\, emotional\, and spiritual health. It’s an opportunity for exploration and discovery; a place where you can be yourself and have real\, honest conversations. Overcome is not a classroom or clinic: we don’t gather to teach or fix one another. In this place\, every person is respected and valued for who they are\, right where they are. \nThrough your participation in Overcome\, we hope you’ll experience a sense of belonging as you build relationships\, gain tools for wellness\, and deepen your faith. We also hope that you’ll leave inspired to let your light shine a little brighter as you live out your unique gifts and share your story with others. \nCheck out Anchorinternation.org for more details on their ministry. Please contact Suzy Eitzen with any questions (seitzen@frcs.org).
URL:https://www.frcs.org/event/adult-overcome-group/2026-03-19/
LOCATION:FRCS Elementary\, 6657 W Ottawa Ave\, Ste A-18\, Littleton\, CO\, 80128\, United States
CATEGORIES:Parent Dashboard
ATTACH;FMTTYPE=image/jpeg:https://www.frcs.org/wp-content/uploads/2026/02/overcome-header.jpg
END:VEVENT
END:VCALENDAR