BEGIN:VCALENDAR
VERSION:2.0
PRODID:-//Front Range Christian School - ECPv6.15.20//NONSGML v1.0//EN
CALSCALE:GREGORIAN
METHOD:PUBLISH
X-WR-CALNAME:Front Range Christian School
X-ORIGINAL-URL:https://www.frcs.org
X-WR-CALDESC:Events for Front Range Christian School
REFRESH-INTERVAL;VALUE=DURATION:PT1H
X-Robots-Tag:noindex
X-PUBLISHED-TTL:PT1H
BEGIN:VTIMEZONE
TZID:America/Denver
BEGIN:DAYLIGHT
TZOFFSETFROM:-0700
TZOFFSETTO:-0600
TZNAME:MDT
DTSTART:20250309T090000
END:DAYLIGHT
BEGIN:STANDARD
TZOFFSETFROM:-0600
TZOFFSETTO:-0700
TZNAME:MST
DTSTART:20251102T080000
END:STANDARD
BEGIN:DAYLIGHT
TZOFFSETFROM:-0700
TZOFFSETTO:-0600
TZNAME:MDT
DTSTART:20260308T090000
END:DAYLIGHT
BEGIN:STANDARD
TZOFFSETFROM:-0600
TZOFFSETTO:-0700
TZNAME:MST
DTSTART:20261101T080000
END:STANDARD
BEGIN:DAYLIGHT
TZOFFSETFROM:-0700
TZOFFSETTO:-0600
TZNAME:MDT
DTSTART:20270314T090000
END:DAYLIGHT
BEGIN:STANDARD
TZOFFSETFROM:-0600
TZOFFSETTO:-0700
TZNAME:MST
DTSTART:20271107T080000
END:STANDARD
END:VTIMEZONE
BEGIN:VEVENT
DTSTART;TZID=America/Denver:20260313T190000
DTEND;TZID=America/Denver:20260313T210000
DTSTAMP:20260424T075947
CREATED:20250401T191248Z
LAST-MODIFIED:20260306T170027Z
UID:10001057-1773428400-1773435600@www.frcs.org
SUMMARY:Junior High Spring Dance
DESCRIPTION:Open to FRCS students grades 7-8 (no outside guests) and sponsored by the Junior High SLC. \nFriday\, March 13\, from 7-9pm in Holy Grounds\nIt’s a throwback to 2K for the Spring Junior High Dance! The evening features dancing\, the limbo\, and plenty of snacks (including cotton candy!). Tickets are available the week of the dance during junior high lunch. Cost is $10 per person ($15 at the door). \nWe hope to see you there!
URL:https://www.frcs.org/event/junior-high-spring-dance-2/
LOCATION:Holy Grounds Cafe\, 6657 W Ottawa Ave\, Ste A-19\, Littleton\, CO\, 80128\, United States
CATEGORIES:Jr/Sr High Calendar,Parent Dashboard
ATTACH;FMTTYPE=image/jpeg:https://www.frcs.org/wp-content/uploads/2025/03/powder-color-explosion-1150x450-1.jpg
GEO:1;1
X-APPLE-STRUCTURED-LOCATION;VALUE=URI;X-ADDRESS=Holy Grounds Cafe 6657 W Ottawa Ave Ste A-19 Littleton CO 80128 United States;X-APPLE-RADIUS=500;X-TITLE=6657 W Ottawa Ave\, Ste A-19:geo:1,1
END:VEVENT
END:VCALENDAR