BEGIN:VCALENDAR
VERSION:2.0
PRODID:-//Front Range Christian School - ECPv6.15.20//NONSGML v1.0//EN
CALSCALE:GREGORIAN
METHOD:PUBLISH
X-ORIGINAL-URL:https://www.frcs.org
X-WR-CALDESC:Events for Front Range Christian School
REFRESH-INTERVAL;VALUE=DURATION:PT1H
X-Robots-Tag:noindex
X-PUBLISHED-TTL:PT1H
BEGIN:VTIMEZONE
TZID:America/Denver
BEGIN:DAYLIGHT
TZOFFSETFROM:-0700
TZOFFSETTO:-0600
TZNAME:MDT
DTSTART:20250309T090000
END:DAYLIGHT
BEGIN:STANDARD
TZOFFSETFROM:-0600
TZOFFSETTO:-0700
TZNAME:MST
DTSTART:20251102T080000
END:STANDARD
BEGIN:DAYLIGHT
TZOFFSETFROM:-0700
TZOFFSETTO:-0600
TZNAME:MDT
DTSTART:20260308T090000
END:DAYLIGHT
BEGIN:STANDARD
TZOFFSETFROM:-0600
TZOFFSETTO:-0700
TZNAME:MST
DTSTART:20261101T080000
END:STANDARD
BEGIN:DAYLIGHT
TZOFFSETFROM:-0700
TZOFFSETTO:-0600
TZNAME:MDT
DTSTART:20270314T090000
END:DAYLIGHT
BEGIN:STANDARD
TZOFFSETFROM:-0600
TZOFFSETTO:-0700
TZNAME:MST
DTSTART:20271107T080000
END:STANDARD
END:VTIMEZONE
BEGIN:VEVENT
DTSTART;VALUE=DATE:20260217
DTEND;VALUE=DATE:20260220
DTSTAMP:20260421T055559
CREATED:20260205T183700Z
LAST-MODIFIED:20260205T192050Z
UID:10001408-1771286400-1771545599@www.frcs.org
SUMMARY:Donation drop-off for Kindergarten Garage Sale
DESCRIPTION:The Annual Kindergarten Missions Garage Sale is Friday\, February 20\, and drop off for donations is February 17-19. \nIf you have items to donate to the garage sale\, you may drop them off at the Elementary Office February 17-19. Any item that appeals to a student preschool through 6th grade is welcome: toys\, games\, books\, puzzles\, movies\, collectibles\, sports equipment\, stuffed animals\, art supplies\, jewelry\, costumes\, bikes\, dolls\, etc. \nOn February 20\, all students preschool through 6th grade will have the opportunity to shop the sale. Proceeds benefit Torchgrab Africa\, which provides education\, clean water\, and support to children who live in the slums of Nairobi\, Kenya\, and a local organization\, Love\, Inc.\, which provides services to people in the Littleton and surrounding areas. \nWe are also accepting volunteers to help make the sale a success. Please consider signing up in the P3 Portal to help.
URL:https://www.frcs.org/event/donation-drop-off-for-kindergarten-garage-sale/
LOCATION:FRCS Elementary\, 6657 W Ottawa Ave\, Ste A-18\, Littleton\, CO\, 80128\, United States
CATEGORIES:ECE Calendar,Parent Dashboard
ATTACH;FMTTYPE=image/jpeg:https://www.frcs.org/wp-content/uploads/2026/02/ece-kinder-garage-sale-sign.jpg
END:VEVENT
BEGIN:VEVENT
DTSTART;VALUE=DATE:20260217
DTEND;VALUE=DATE:20260221
DTSTAMP:20260421T055559
CREATED:20250401T184102Z
LAST-MODIFIED:20260211T165613Z
UID:10001049-1771286400-1771631999@www.frcs.org
SUMMARY:Winter Spirit Week
DESCRIPTION:Spirit Week at the junior and senior high: \n\nTuesday: Bed head (PJs and crazy hair)\nWednesday: Memes\nThursday: Country vs country club\nFriday: Class colors\n\nHave fun\, but please remember to keep it in dress code.
URL:https://www.frcs.org/event/winter-spirit-week/
LOCATION:FRCS Jr/Sr High\, 6637 W Ottawa Ave\, Littleton\, CO\, 80128\, United States
CATEGORIES:Jr/Sr High Calendar
ATTACH;FMTTYPE=image/jpeg:https://www.frcs.org/wp-content/uploads/2021/07/frcs-campus.jpg
END:VEVENT
BEGIN:VEVENT
DTSTART;TZID=America/Denver:20260217T150000
DTEND;TZID=America/Denver:20260217T163000
DTSTAMP:20260421T055559
CREATED:20260113T175453Z
LAST-MODIFIED:20260401T155205Z
UID:10001343-1771340400-1771345800@www.frcs.org
SUMMARY:Elementary Art Club
DESCRIPTION:Dates: Tuesdays from January 20 through March 31\, 3-4:30pm\nLocation: Elementary art room\nStudents: 3rd-6th grades — minimum 5; maximum 15\nCost: $270 per student (includes all supplies and snacks) \nStudents will dive deep into two different topics (5 weeks on each). Activities include various art projects related to each theme\, reading books\, and exploring simple studies on the theme. Topics are still to be determined\, but two early contenders include nature and outer space. This club is open to all 3rd-6th grade students\, no matter their current skill level. Register using the form below. If you have questions\, email club coordinator and elementary art teacher Cassie Elmer. Use the form below to sign your student up for the club. \nPlease enable JavaScript in your browser to complete this form.Please enable JavaScript in your browser to complete this form.Parent name *FirstLast		\n			Student Parent Payment\n			\n		\n		Parent email *Student name *FirstLastStudent grade *--- Select Choice ---6th5th4th3rdPayment Agreement *I understand that payment for this club will be charged to my FACTS account on January 20 and be automatically processed 10 days later.Submit
URL:https://www.frcs.org/event/elementary-art-club/2026-02-17/
LOCATION:FRCS Elementary\, 6657 W Ottawa Ave\, Ste A-18\, Littleton\, CO\, 80128\, United States
CATEGORIES:Arts Calendar,Elementary Calendar
ATTACH;FMTTYPE=image/jpeg:https://www.frcs.org/wp-content/uploads/2024/05/painting-rhondak-native-florida-folk-artist-unsplash.jpg
END:VEVENT
BEGIN:VEVENT
DTSTART;TZID=America/Denver:20260217T163000
DTEND;TZID=America/Denver:20260217T193000
DTSTAMP:20260421T055559
CREATED:20251027T211506Z
LAST-MODIFIED:20251027T211506Z
UID:10001326-1771345800-1771356600@www.frcs.org
SUMMARY:Basketball at Gilpin
DESCRIPTION:The Falcons vs Gilpin County High School \nGirls V: 4:30pm\nBoys V: 6pm \nGo\, Falcons!
URL:https://www.frcs.org/event/basketball-at-gilpin/
LOCATION:Gilpin County Schools\, 10595 CO-119\, Black Hawk\, CO\, 80422\, United States
CATEGORIES:Athletic Calendar
ATTACH;FMTTYPE=image/jpeg:https://www.frcs.org/wp-content/uploads/2021/03/basketball-score-markus-spiske-unsplash.jpg
END:VEVENT
END:VCALENDAR