BEGIN:VCALENDAR
VERSION:2.0
PRODID:-//Front Range Christian School - ECPv6.15.20//NONSGML v1.0//EN
CALSCALE:GREGORIAN
METHOD:PUBLISH
X-ORIGINAL-URL:https://www.frcs.org
X-WR-CALDESC:Events for Front Range Christian School
REFRESH-INTERVAL;VALUE=DURATION:PT1H
X-Robots-Tag:noindex
X-PUBLISHED-TTL:PT1H
BEGIN:VTIMEZONE
TZID:America/Denver
BEGIN:DAYLIGHT
TZOFFSETFROM:-0700
TZOFFSETTO:-0600
TZNAME:MDT
DTSTART:20240310T090000
END:DAYLIGHT
BEGIN:STANDARD
TZOFFSETFROM:-0600
TZOFFSETTO:-0700
TZNAME:MST
DTSTART:20241103T080000
END:STANDARD
BEGIN:DAYLIGHT
TZOFFSETFROM:-0700
TZOFFSETTO:-0600
TZNAME:MDT
DTSTART:20250309T090000
END:DAYLIGHT
BEGIN:STANDARD
TZOFFSETFROM:-0600
TZOFFSETTO:-0700
TZNAME:MST
DTSTART:20251102T080000
END:STANDARD
BEGIN:DAYLIGHT
TZOFFSETFROM:-0700
TZOFFSETTO:-0600
TZNAME:MDT
DTSTART:20260308T090000
END:DAYLIGHT
BEGIN:STANDARD
TZOFFSETFROM:-0600
TZOFFSETTO:-0700
TZNAME:MST
DTSTART:20261101T080000
END:STANDARD
END:VTIMEZONE
BEGIN:VEVENT
DTSTART;VALUE=DATE:20251215
DTEND;VALUE=DATE:20251220
DTSTAMP:20260421T055735
CREATED:20250331T174554Z
LAST-MODIFIED:20251201T212845Z
UID:10001028-1765756800-1766188799@www.frcs.org
SUMMARY:Senior High Finals Week
DESCRIPTION:Schedule\nPart time students do not have school this week unless they are in a class that has a final. \nMonday\n\nAdjusted schedule: 8am-12:30pm (see schedule)\nOptional study sessions from 1-3pm for Language Arts and Natural Sciences (Science)\n\nTuesday\n\nLanguage Arts finals: 8:30-10am\nNatural Sciences finals: 10:30am-12pm\nOptional study sessions from 1-3pm for Math and Social Sciences (History)\n\nWednesday\n\nMath finals: 8:30-10am\nSocial Science finals: 10:30am-12pm\nOptional study sessions from 1-3pm for Bible and Spanish\n\nThursday\n\nBible finals: 8:30-10am\nSpanish finals: 10:30am-12pm\n\nFriday\n\nFinals makeup day (only students who need to make up a final exam should attend)\n\n \nMonday’s Adjusted schedule\n\n\n\nMonday\n\n\n8-8:40am\nRed\n\n\n8:45-9:25am\nOrange\n\n\n9:30-10:10am\nYellow\n\n\n10:10-10:20am\nBreak\n\n\n10:20-11am\nGreen\n\n\n11:05-11:45am\nNavy\n\n\n11:50am-12:30pm\nTeal\n\n\n12:30-1pm\nLunch/Dismissal
URL:https://www.frcs.org/event/senior-high-finals-week/
LOCATION:FRCS Jr/Sr High\, 6637 W Ottawa Ave\, Littleton\, CO\, 80128\, United States
CATEGORIES:Academics Calendar,Jr/Sr High Calendar,Parent Dashboard
ATTACH;FMTTYPE=image/jpeg:https://www.frcs.org/wp-content/uploads/2021/07/frcs-campus.jpg
END:VEVENT
BEGIN:VEVENT
DTSTART;VALUE=DATE:20251215
DTEND;VALUE=DATE:20251220
DTSTAMP:20260421T055735
CREATED:20250331T175409Z
LAST-MODIFIED:20251211T204451Z
UID:10001029-1765756800-1766188799@www.frcs.org
SUMMARY:Junior High Testing Week
DESCRIPTION:Schedule Overview\nMonday\n\nFull day; normal school hours: Doors open at 7:40am\, classes begin at 8am; pick-up begins at 3pm when classes are dismissed\n\nTuesday\n\nFull day; normal school hours: Doors open at 7:40am\, classes begin at 8am; pick-up begins at 3pm when classes are dismissed\n\nWednesday\n\nNO LATE START\nHalf day: Doors open at 7:40am\, classes begin at 8am; pick up begins at 12pm when classes are dismissed\n\nThursday\n\nHalf day: Doors open at 7:40am\, classes begin at 8am; pick up begins at 12pm when classes are dismissed\n\nFriday\n\nNo school for junior high students\n\n\nDetailed Schedule\nPlease note that teachers will post end of unit assessment details for junior high students in the FACTS Family Portal. \n\n\n\n\nMonday\nTuesday\n\nWednesday\nThursday\n\n\n8-8:50am\nRed\nRed\n8-8:45am\nRed\nRed\n\n\n8:55-9:45am\nOrange\nOrange\n8:50-9:35am\nOrange\nOrange\n\n\n9:45-9:55am\nBreak\n9:35-9:45am\nBreak\n\n\n9:55-10:45am\nMaroon A\nYellow\n9:45-10:30am\nNavy\nNavy\n\n\n10:45-11:40am\nMaroon B\nGreen\n10:35-11:20am\nGrey\nGrey\n\n\n11:40am-12:20pm\nLunch\n11:25am-12pm\nPurple\nPurple\n\n\n12:20-1:10pm\nNavy\nNavy\n\n\n\n1:15-2:05pm\nGrey*\nGrey\n\n\n2:10-3pm\nJr High Plays\nPurple\n\n\n\n*Students who are performing in the Jr High plays are excused from all of Grey on Monday to prepare; All junior high students will attend the junior high plays
URL:https://www.frcs.org/event/junior-high-finals-week/
LOCATION:FRCS Jr/Sr High\, 6637 W Ottawa Ave\, Littleton\, CO\, 80128\, United States
CATEGORIES:Academics Calendar,Jr/Sr High Calendar,Parent Dashboard
ATTACH;FMTTYPE=image/jpeg:https://www.frcs.org/wp-content/uploads/2021/07/frcs-campus.jpg
END:VEVENT
BEGIN:VEVENT
DTSTART;TZID=America/Denver:20251218T103000
DTEND;TZID=America/Denver:20251218T113000
DTSTAMP:20260421T055735
CREATED:20250806T172636Z
LAST-MODIFIED:20251216T163746Z
UID:10001205-1766053800-1766057400@www.frcs.org
SUMMARY:Preschool Christmas Program
DESCRIPTION:Families of FRCS preschool students are invited to join us for the annual Preschool Christmas Program in Holy Grounds\, starting at 10:30am. Come\, celebrate the season and our youngest students!
URL:https://www.frcs.org/event/preschool-christmas-program/
LOCATION:Holy Grounds Cafe\, 6657 W Ottawa Ave\, Ste A-19\, Littleton\, CO\, 80128\, United States
CATEGORIES:Arts Calendar,ECE Calendar
ATTACH;FMTTYPE=image/jpeg:https://www.frcs.org/wp-content/uploads/2025/03/christmas-gifts-sharp-dof-1150x450-1.jpg
GEO:1;1
X-APPLE-STRUCTURED-LOCATION;VALUE=URI;X-ADDRESS=Holy Grounds Cafe 6657 W Ottawa Ave Ste A-19 Littleton CO 80128 United States;X-APPLE-RADIUS=500;X-TITLE=6657 W Ottawa Ave\, Ste A-19:geo:1,1
END:VEVENT
BEGIN:VEVENT
DTSTART;TZID=America/Denver:20251218T131500
DTEND;TZID=America/Denver:20251218T161500
DTSTAMP:20260421T055735
CREATED:20251027T200254Z
LAST-MODIFIED:20251201T174626Z
UID:10001311-1766063700-1766074500@www.frcs.org
SUMMARY:Basketball at Ball Arena
DESCRIPTION:The Falcons host Goldenview Classical Academy for special games in Ball Arena! Junior and senior high students have a half day this day (because of finals)\, so everyone at the secondary school can attend! \nGirls V: 1:15pm\nBoys V: 2:45pm \nGo\, Falcons! \nIf you purchase tickets to this game\, a portion of the sales go back to the FRCS Basketball program\, and the tickets include discounted seats to the Magic vs Nuggets game at 7pm that same evening! Go with friends and have dinner downtown between games. It’s a fun way to kick off Christmas Break. Download the flyer for full details. To get the discounted tickets\, you must use the link below (or scan the code on the flyer) and purchase your tickets by 10am on December 4 (two weeks prior to the game). \nBUY TICKETS \n\nPlease note that the entire community is invited to these games\, but we acknowledge it will be challenging for elementary families\, as elementary students do not have a half day. However\, to allow families to attend the Nuggets game together\, we have moved the grades 4-6 Christmas concert to Wednesday evening.
URL:https://www.frcs.org/event/basketball-at-ball-arena/
LOCATION:Ball Arena\, 1000 Chopper Cir\, Denver\, CO\, 80204
CATEGORIES:Athletic Calendar
ATTACH;FMTTYPE=image/jpeg:https://www.frcs.org/wp-content/uploads/2021/03/basketball-score-markus-spiske-unsplash.jpg
END:VEVENT
END:VCALENDAR