BEGIN:VCALENDAR
VERSION:2.0
PRODID:-//Front Range Christian School - ECPv6.15.20//NONSGML v1.0//EN
CALSCALE:GREGORIAN
METHOD:PUBLISH
X-WR-CALNAME:Front Range Christian School
X-ORIGINAL-URL:https://www.frcs.org
X-WR-CALDESC:Events for Front Range Christian School
REFRESH-INTERVAL;VALUE=DURATION:PT1H
X-Robots-Tag:noindex
X-PUBLISHED-TTL:PT1H
BEGIN:VTIMEZONE
TZID:America/Denver
BEGIN:DAYLIGHT
TZOFFSETFROM:-0700
TZOFFSETTO:-0600
TZNAME:MDT
DTSTART:20240310T090000
END:DAYLIGHT
BEGIN:STANDARD
TZOFFSETFROM:-0600
TZOFFSETTO:-0700
TZNAME:MST
DTSTART:20241103T080000
END:STANDARD
BEGIN:DAYLIGHT
TZOFFSETFROM:-0700
TZOFFSETTO:-0600
TZNAME:MDT
DTSTART:20250309T090000
END:DAYLIGHT
BEGIN:STANDARD
TZOFFSETFROM:-0600
TZOFFSETTO:-0700
TZNAME:MST
DTSTART:20251102T080000
END:STANDARD
BEGIN:DAYLIGHT
TZOFFSETFROM:-0700
TZOFFSETTO:-0600
TZNAME:MDT
DTSTART:20260308T090000
END:DAYLIGHT
BEGIN:STANDARD
TZOFFSETFROM:-0600
TZOFFSETTO:-0700
TZNAME:MST
DTSTART:20261101T080000
END:STANDARD
END:VTIMEZONE
BEGIN:VEVENT
DTSTART;TZID=America/Denver:20251120T160000
DTEND;TZID=America/Denver:20251120T190000
DTSTAMP:20260422T040129
CREATED:20250930T190801Z
LAST-MODIFIED:20250930T190801Z
UID:10001292-1763654400-1763665200@www.frcs.org
SUMMARY:MS Boys Basketball\, home vs Flatirons
DESCRIPTION:The Falcons host Flatirons Academy \nPurple: 4pm\nSilver: 5pm\nBlack: 6pm \nGo\, Falcons!
URL:https://www.frcs.org/event/ms-boys-basketball-home-vs-flatirons/
LOCATION:FRCS Gym\, 6637 W Ottawa Ave 1\, Littleton\, CO\, 80128\, United States
CATEGORIES:Athletic Calendar
ATTACH;FMTTYPE=image/jpeg:https://www.frcs.org/wp-content/uploads/2025/03/basketball-abhishek-chandra-unsplash-TKACMN.tmp_-Ipc8k8.tmp_.jpg
GEO:1;1
X-APPLE-STRUCTURED-LOCATION;VALUE=URI;X-ADDRESS=FRCS Gym 6637 W Ottawa Ave 1 Littleton CO 80128 United States;X-APPLE-RADIUS=500;X-TITLE=6637 W Ottawa Ave 1:geo:1,1
END:VEVENT
BEGIN:VEVENT
DTSTART;TZID=America/Denver:20251120T190000
DTEND;TZID=America/Denver:20251120T213000
DTSTAMP:20260422T040129
CREATED:20250331T165439Z
LAST-MODIFIED:20251020T200328Z
UID:10001018-1763665200-1763674200@www.frcs.org
SUMMARY:Fall Play
DESCRIPTION:Join us for FRCS senior high production of the The Play that Goes Wrong\, the award winning comedy that has been a smash hit in both Britain and on Broadway. The play begins on opening night of The Murder at Haversham Manor where things quickly go from bad to utterly disastrous. With an unconscious leading lady\, a corpse that can’t play dead\, and actors who trip over everything (including their lines)\, this comedy of errors will have you laughing throughout the night. \nBUY TICKETS \n\nTHE PLAY THAT GOES WRONG is produced by special arrangement with Dramatists Play Service under license from Mischief Worldwide Ltd.
URL:https://www.frcs.org/event/fall-play/2025-11-20/
LOCATION:Performing Arts Center\, 6637 W Ottawa Ave.\, Littleton\, CO\, 80128\, United States
CATEGORIES:Arts Calendar,Jr/Sr High Calendar,Parent Dashboard,Registration Events for app
ATTACH;FMTTYPE=image/jpeg:https://www.frcs.org/wp-content/uploads/2025/03/red-curtain-rob-laughter-unsplash-1150x450-1-IBWELt.tmp_.jpg
GEO:1;1
X-APPLE-STRUCTURED-LOCATION;VALUE=URI;X-ADDRESS=Performing Arts Center 6637 W Ottawa Ave. Littleton CO 80128 United States;X-APPLE-RADIUS=500;X-TITLE=6637 W Ottawa Ave.:geo:1,1
END:VEVENT
END:VCALENDAR