BEGIN:VCALENDAR
VERSION:2.0
PRODID:-//Front Range Christian School - ECPv6.15.20//NONSGML v1.0//EN
CALSCALE:GREGORIAN
METHOD:PUBLISH
X-WR-CALNAME:Front Range Christian School
X-ORIGINAL-URL:https://www.frcs.org
X-WR-CALDESC:Events for Front Range Christian School
REFRESH-INTERVAL;VALUE=DURATION:PT1H
X-Robots-Tag:noindex
X-PUBLISHED-TTL:PT1H
BEGIN:VTIMEZONE
TZID:America/Denver
BEGIN:DAYLIGHT
TZOFFSETFROM:-0700
TZOFFSETTO:-0600
TZNAME:MDT
DTSTART:20240310T090000
END:DAYLIGHT
BEGIN:STANDARD
TZOFFSETFROM:-0600
TZOFFSETTO:-0700
TZNAME:MST
DTSTART:20241103T080000
END:STANDARD
BEGIN:DAYLIGHT
TZOFFSETFROM:-0700
TZOFFSETTO:-0600
TZNAME:MDT
DTSTART:20250309T090000
END:DAYLIGHT
BEGIN:STANDARD
TZOFFSETFROM:-0600
TZOFFSETTO:-0700
TZNAME:MST
DTSTART:20251102T080000
END:STANDARD
BEGIN:DAYLIGHT
TZOFFSETFROM:-0700
TZOFFSETTO:-0600
TZNAME:MDT
DTSTART:20260308T090000
END:DAYLIGHT
BEGIN:STANDARD
TZOFFSETFROM:-0600
TZOFFSETTO:-0700
TZNAME:MST
DTSTART:20261101T080000
END:STANDARD
END:VTIMEZONE
BEGIN:VEVENT
DTSTART;VALUE=DATE:20251008
DTEND;VALUE=DATE:20251011
DTSTAMP:20260422T052020
CREATED:20250331T153835Z
LAST-MODIFIED:20250331T153835Z
UID:10001001-1759881600-1760140799@www.frcs.org
SUMMARY:6th Grade Retreat
DESCRIPTION:6th grade students head to Camp Elim for a time of bonding with each other\, growing closer to Jesus\, and some outdoor education. This retreat is two overnights. \nMost information about this retreat will come directly from 6th grade teachers to parents. Some basic information may be added here\, but parents should communicate with teachers about the details.
URL:https://www.frcs.org/event/6th-grade-retreat/
LOCATION:Camp Elim\, 5567 Painted Rocks Rd\, Woodland Park\, CO\, 80863\, United States
CATEGORIES:Elementary Calendar,Parent Dashboard
ATTACH;FMTTYPE=image/jpeg:https://www.frcs.org/wp-content/uploads/2025/03/chipmunk-mountains.jpg
END:VEVENT
BEGIN:VEVENT
DTSTART;TZID=America/Denver:20251009T160000
DTEND;TZID=America/Denver:20251009T173000
DTSTAMP:20260422T052020
CREATED:20250717T174928Z
LAST-MODIFIED:20250815T175353Z
UID:10001175-1760025600-1760031000@www.frcs.org
SUMMARY:Boys Soccer\, home vs Heritage Christian
DESCRIPTION:The Falcons host Heritage Christian Academy \n4pm \nGo\, Falcons!
URL:https://www.frcs.org/event/boys-soccer-home-vs-heritage-christian/
LOCATION:Falcon Field\, 6548 W Ottawa Ave\, Littleton\, CO\, 80128
CATEGORIES:Athletic Calendar
ATTACH;FMTTYPE=image/jpeg:https://www.frcs.org/wp-content/uploads/2025/03/soccer-wesley-tingey-unsplash-1150x450-1-SxJpQE.tmp_.jpg
END:VEVENT
BEGIN:VEVENT
DTSTART;TZID=America/Denver:20251009T160000
DTEND;TZID=America/Denver:20251009T190000
DTSTAMP:20260422T052020
CREATED:20250717T170601Z
LAST-MODIFIED:20250717T170601Z
UID:10001155-1760025600-1760036400@www.frcs.org
SUMMARY:Volleyball\, home vs Dawson
DESCRIPTION:The Falcons host Dawson School \nC: 4pm\nJV: 5pm\nV: 6pm \nGo\, Falcons!
URL:https://www.frcs.org/event/volleyball-home-vs-dawson/
LOCATION:FRCS Gym\, 6637 W Ottawa Ave 1\, Littleton\, CO\, 80128\, United States
CATEGORIES:Athletic Calendar
ATTACH;FMTTYPE=image/jpeg:https://www.frcs.org/wp-content/uploads/2021/03/volleyball-and-net.jpg
GEO:1;1
X-APPLE-STRUCTURED-LOCATION;VALUE=URI;X-ADDRESS=FRCS Gym 6637 W Ottawa Ave 1 Littleton CO 80128 United States;X-APPLE-RADIUS=500;X-TITLE=6637 W Ottawa Ave 1:geo:1,1
END:VEVENT
END:VCALENDAR