BEGIN:VCALENDAR
VERSION:2.0
PRODID:-//Front Range Christian School - ECPv6.15.20//NONSGML v1.0//EN
CALSCALE:GREGORIAN
METHOD:PUBLISH
X-ORIGINAL-URL:https://www.frcs.org
X-WR-CALDESC:Events for Front Range Christian School
REFRESH-INTERVAL;VALUE=DURATION:PT1H
X-Robots-Tag:noindex
X-PUBLISHED-TTL:PT1H
BEGIN:VTIMEZONE
TZID:America/Denver
BEGIN:DAYLIGHT
TZOFFSETFROM:-0700
TZOFFSETTO:-0600
TZNAME:MDT
DTSTART:20240310T090000
END:DAYLIGHT
BEGIN:STANDARD
TZOFFSETFROM:-0600
TZOFFSETTO:-0700
TZNAME:MST
DTSTART:20241103T080000
END:STANDARD
BEGIN:DAYLIGHT
TZOFFSETFROM:-0700
TZOFFSETTO:-0600
TZNAME:MDT
DTSTART:20250309T090000
END:DAYLIGHT
BEGIN:STANDARD
TZOFFSETFROM:-0600
TZOFFSETTO:-0700
TZNAME:MST
DTSTART:20251102T080000
END:STANDARD
BEGIN:DAYLIGHT
TZOFFSETFROM:-0700
TZOFFSETTO:-0600
TZNAME:MDT
DTSTART:20260308T090000
END:DAYLIGHT
BEGIN:STANDARD
TZOFFSETFROM:-0600
TZOFFSETTO:-0700
TZNAME:MST
DTSTART:20261101T080000
END:STANDARD
END:VTIMEZONE
BEGIN:VEVENT
DTSTART;VALUE=DATE:20251008
DTEND;VALUE=DATE:20251011
DTSTAMP:20260422T052012
CREATED:20250331T153835Z
LAST-MODIFIED:20250331T153835Z
UID:10001001-1759881600-1760140799@www.frcs.org
SUMMARY:6th Grade Retreat
DESCRIPTION:6th grade students head to Camp Elim for a time of bonding with each other\, growing closer to Jesus\, and some outdoor education. This retreat is two overnights. \nMost information about this retreat will come directly from 6th grade teachers to parents. Some basic information may be added here\, but parents should communicate with teachers about the details.
URL:https://www.frcs.org/event/6th-grade-retreat/
LOCATION:Camp Elim\, 5567 Painted Rocks Rd\, Woodland Park\, CO\, 80863\, United States
CATEGORIES:Elementary Calendar,Parent Dashboard
ATTACH;FMTTYPE=image/jpeg:https://www.frcs.org/wp-content/uploads/2025/03/chipmunk-mountains.jpg
END:VEVENT
BEGIN:VEVENT
DTSTART;TZID=America/Denver:20251008T183000
DTEND;TZID=America/Denver:20251008T203000
DTSTAMP:20260422T052012
CREATED:20250331T154252Z
LAST-MODIFIED:20250926T162710Z
UID:10001002-1759948200-1759955400@www.frcs.org
SUMMARY:Fall Evening of Arts
DESCRIPTION:Join us for an inspired evening of arts. With works of art from junior and senior high students on display\, you will enjoy performances from choirs and bands from the junior and senior high. The event begins at 6:30pm in the Commons and PAC. Snacks and drinks will be available for purchase\, otherwise the event is free. We hope to see you there!
URL:https://www.frcs.org/event/fall-evening-of-arts/
LOCATION:FRCS Jr/Sr High\, 6637 W Ottawa Ave\, Littleton\, CO\, 80128\, United States
CATEGORIES:Arts Calendar,Jr/Sr High Calendar,Parent Dashboard
ATTACH;FMTTYPE=image/jpeg:https://www.frcs.org/wp-content/uploads/2024/02/intimate-stage-john-matychuk-unsplash.jpg
END:VEVENT
END:VCALENDAR