BEGIN:VCALENDAR
VERSION:2.0
PRODID:-//Front Range Christian School - ECPv6.15.20//NONSGML v1.0//EN
CALSCALE:GREGORIAN
METHOD:PUBLISH
X-ORIGINAL-URL:https://www.frcs.org
X-WR-CALDESC:Events for Front Range Christian School
REFRESH-INTERVAL;VALUE=DURATION:PT1H
X-Robots-Tag:noindex
X-PUBLISHED-TTL:PT1H
BEGIN:VTIMEZONE
TZID:America/Denver
BEGIN:DAYLIGHT
TZOFFSETFROM:-0700
TZOFFSETTO:-0600
TZNAME:MDT
DTSTART:20240310T090000
END:DAYLIGHT
BEGIN:STANDARD
TZOFFSETFROM:-0600
TZOFFSETTO:-0700
TZNAME:MST
DTSTART:20241103T080000
END:STANDARD
BEGIN:DAYLIGHT
TZOFFSETFROM:-0700
TZOFFSETTO:-0600
TZNAME:MDT
DTSTART:20250309T090000
END:DAYLIGHT
BEGIN:STANDARD
TZOFFSETFROM:-0600
TZOFFSETTO:-0700
TZNAME:MST
DTSTART:20251102T080000
END:STANDARD
BEGIN:DAYLIGHT
TZOFFSETFROM:-0700
TZOFFSETTO:-0600
TZNAME:MDT
DTSTART:20260308T090000
END:DAYLIGHT
BEGIN:STANDARD
TZOFFSETFROM:-0600
TZOFFSETTO:-0700
TZNAME:MST
DTSTART:20261101T080000
END:STANDARD
END:VTIMEZONE
BEGIN:VEVENT
DTSTART;VALUE=DATE:20251006
DTEND;VALUE=DATE:20251008
DTSTAMP:20260422T052012
CREATED:20250717T183057Z
LAST-MODIFIED:20250717T183057Z
UID:10001188-1759708800-1759881599@www.frcs.org
SUMMARY:CHSAA State Golf Tournament
DESCRIPTION:Falcons Golf competes in the CHSAA State Golf Tournament \nSpecifics\, if they are made available\, will be posted here. \nGo\, Falcons!
URL:https://www.frcs.org/event/chsaa-state-golf-tournament/
LOCATION:Elmwood GC\, 3900 Thatcher Ave\, Pueblo\, CO\, 81005
CATEGORIES:Athletic Calendar
ATTACH;FMTTYPE=image/jpeg:https://www.frcs.org/wp-content/uploads/2025/03/golf-putt-1150x450-1.jpg
END:VEVENT
BEGIN:VEVENT
DTSTART;TZID=America/Denver:20251007T131500
DTEND;TZID=America/Denver:20251007T140000
DTSTAMP:20260422T052012
CREATED:20250826T192855Z
LAST-MODIFIED:20250826T192855Z
UID:10001243-1759842900-1759845600@www.frcs.org
SUMMARY:Josten’s Senior Presentation
DESCRIPTION:Seniors learn about ordering caps & gowns\, graduation announcements\, and more during this presentation from Josten’s. Families receive a discount when orders are placed by October 23.
URL:https://www.frcs.org/event/jostens-senior-presentation/
LOCATION:Holy Grounds Cafe\, 6657 W Ottawa Ave\, Ste A-19\, Littleton\, CO\, 80128\, United States
CATEGORIES:Jr/Sr High Calendar
ATTACH;FMTTYPE=image/jpeg:https://www.frcs.org/wp-content/uploads/2025/03/mortar-board-purple-tassle-768x301-1.jpg
GEO:1;1
X-APPLE-STRUCTURED-LOCATION;VALUE=URI;X-ADDRESS=Holy Grounds Cafe 6657 W Ottawa Ave Ste A-19 Littleton CO 80128 United States;X-APPLE-RADIUS=500;X-TITLE=6657 W Ottawa Ave\, Ste A-19:geo:1,1
END:VEVENT
BEGIN:VEVENT
DTSTART;TZID=America/Denver:20251007T160000
DTEND;TZID=America/Denver:20251007T190000
DTSTAMP:20260422T052012
CREATED:20250717T164019Z
LAST-MODIFIED:20250717T164019Z
UID:10001154-1759852800-1759863600@www.frcs.org
SUMMARY:Volleyball at Flatirons Academy
DESCRIPTION:The Falcons vs. Flatirons Academy \nC: 4pm\nJV: 5pm\nV: 6pm \nGo\, Falcons!
URL:https://www.frcs.org/event/volleyball-at-flatirons-academy/
LOCATION:Flatirons Academy\, 12000 N Zuni St #100\, Westminster\, 80234\, United States
CATEGORIES:Athletic Calendar
ATTACH;FMTTYPE=image/jpeg:https://www.frcs.org/wp-content/uploads/2021/03/volleyball-and-net.jpg
END:VEVENT
BEGIN:VEVENT
DTSTART;TZID=America/Denver:20251007T160000
DTEND;TZID=America/Denver:20251007T200000
DTSTAMP:20260422T052012
CREATED:20250821T193240Z
LAST-MODIFIED:20250821T193240Z
UID:10001229-1759852800-1759867200@www.frcs.org
SUMMARY:MS Volleyball League Tournament
DESCRIPTION:The Falcons Black Team participates in the League Tournament over the course of two days. Specific game times will be published here when and if they are made available. \nGo\, Falcons!
URL:https://www.frcs.org/event/ms-volleyball-league-tournament/2025-10-07/
LOCATION:Englewood Middle/High School\, 3800 S Logan St\, Englewood\, CO\, 80113\, United States
CATEGORIES:Athletic Calendar
ATTACH;FMTTYPE=image/jpeg:https://www.frcs.org/wp-content/uploads/2022/04/volleyball-iStock.jpg
END:VEVENT
END:VCALENDAR