BEGIN:VCALENDAR
VERSION:2.0
PRODID:-//Front Range Christian School - ECPv6.15.20//NONSGML v1.0//EN
CALSCALE:GREGORIAN
METHOD:PUBLISH
X-WR-CALNAME:Front Range Christian School
X-ORIGINAL-URL:https://www.frcs.org
X-WR-CALDESC:Events for Front Range Christian School
REFRESH-INTERVAL;VALUE=DURATION:PT1H
X-Robots-Tag:noindex
X-PUBLISHED-TTL:PT1H
BEGIN:VTIMEZONE
TZID:America/Denver
BEGIN:DAYLIGHT
TZOFFSETFROM:-0700
TZOFFSETTO:-0600
TZNAME:MDT
DTSTART:20240310T090000
END:DAYLIGHT
BEGIN:STANDARD
TZOFFSETFROM:-0600
TZOFFSETTO:-0700
TZNAME:MST
DTSTART:20241103T080000
END:STANDARD
BEGIN:DAYLIGHT
TZOFFSETFROM:-0700
TZOFFSETTO:-0600
TZNAME:MDT
DTSTART:20250309T090000
END:DAYLIGHT
BEGIN:STANDARD
TZOFFSETFROM:-0600
TZOFFSETTO:-0700
TZNAME:MST
DTSTART:20251102T080000
END:STANDARD
BEGIN:DAYLIGHT
TZOFFSETFROM:-0700
TZOFFSETTO:-0600
TZNAME:MDT
DTSTART:20260308T090000
END:DAYLIGHT
BEGIN:STANDARD
TZOFFSETFROM:-0600
TZOFFSETTO:-0700
TZNAME:MST
DTSTART:20261101T080000
END:STANDARD
END:VTIMEZONE
BEGIN:VEVENT
DTSTART;VALUE=DATE:20251006
DTEND;VALUE=DATE:20251008
DTSTAMP:20260422T052000
CREATED:20250717T183057Z
LAST-MODIFIED:20250717T183057Z
UID:10001188-1759708800-1759881599@www.frcs.org
SUMMARY:CHSAA State Golf Tournament
DESCRIPTION:Falcons Golf competes in the CHSAA State Golf Tournament \nSpecifics\, if they are made available\, will be posted here. \nGo\, Falcons!
URL:https://www.frcs.org/event/chsaa-state-golf-tournament/
LOCATION:Elmwood GC\, 3900 Thatcher Ave\, Pueblo\, CO\, 81005
CATEGORIES:Athletic Calendar
ATTACH;FMTTYPE=image/jpeg:https://www.frcs.org/wp-content/uploads/2025/03/golf-putt-1150x450-1.jpg
END:VEVENT
BEGIN:VEVENT
DTSTART;TZID=America/Denver:20251006T090000
DTEND;TZID=America/Denver:20251006T160000
DTSTAMP:20260422T052000
CREATED:20250828T181408Z
LAST-MODIFIED:20250922T173916Z
UID:10001252-1759741200-1759766400@www.frcs.org
SUMMARY:Faith on the Fairway (Falcon Club Golf Tournament)
DESCRIPTION:The Falcon Club Golf Tournament returns as Faith on the Fairway! Use the button to get all the details and to register. \nLEARN MORE & REGISTER
URL:https://www.frcs.org/event/faith-on-the-fairway-falcon-club-golf-tournament/
LOCATION:Red Rocks Country Club\, 16235 W Belleview Ave\, Morrison\, CO\, 80465
CATEGORIES:Parent Dashboard
ATTACH;FMTTYPE=image/jpeg:https://www.frcs.org/wp-content/uploads/2025/04/hero_golf.jpg
END:VEVENT
BEGIN:VEVENT
DTSTART;TZID=America/Denver:20251006T153000
DTEND;TZID=America/Denver:20251006T163000
DTSTAMP:20260422T052000
CREATED:20250717T162803Z
LAST-MODIFIED:20250916T190147Z
UID:10001153-1759764600-1759768200@www.frcs.org
SUMMARY:Volleyball\, home vs Denver Academy
DESCRIPTION:The Falcons host Denver Academy \nJV: 3:30pm \nGo\, Falcons!
URL:https://www.frcs.org/event/volleyball-home-vs-denver-academy/
LOCATION:FRCS Gym\, 6637 W Ottawa Ave 1\, Littleton\, CO\, 80128\, United States
CATEGORIES:Athletic Calendar
ATTACH;FMTTYPE=image/jpeg:https://www.frcs.org/wp-content/uploads/2021/03/volleyball-and-net.jpg
GEO:1;1
X-APPLE-STRUCTURED-LOCATION;VALUE=URI;X-ADDRESS=FRCS Gym 6637 W Ottawa Ave 1 Littleton CO 80128 United States;X-APPLE-RADIUS=500;X-TITLE=6637 W Ottawa Ave 1:geo:1,1
END:VEVENT
BEGIN:VEVENT
DTSTART;TZID=America/Denver:20251006T160000
DTEND;TZID=America/Denver:20251006T170000
DTSTAMP:20260422T052000
CREATED:20250916T183307Z
LAST-MODIFIED:20250916T183326Z
UID:10001277-1759766400-1759770000@www.frcs.org
SUMMARY:MS Boys Soccer at Mile High Academy
DESCRIPTION:The Falcons vs. Mile High Academy \n4pm \nGo\, Falcons!
URL:https://www.frcs.org/event/ms-boys-soccer-at-mile-high-academy/
LOCATION:Mile High Academy\, 1733 Dad Clark Drive\, Highlands Ranch\, CO\, 80126\, United States
CATEGORIES:Athletic Calendar
ATTACH;FMTTYPE=image/jpeg:https://www.frcs.org/wp-content/uploads/2025/03/soccer-near-goal-mick-haupt-unsplash-1150x450-1.jpg
END:VEVENT
BEGIN:VEVENT
DTSTART;TZID=America/Denver:20251006T160000
DTEND;TZID=America/Denver:20251006T173000
DTSTAMP:20260422T052000
CREATED:20250717T174727Z
LAST-MODIFIED:20250717T174727Z
UID:10001174-1759766400-1759771800@www.frcs.org
SUMMARY:Boys Soccer\, home vs St John Paul the Great
DESCRIPTION:The Falcons host a foundation game vs St. John Paul the Great Catholic High School \n4pm \nGo\, Falcons!
URL:https://www.frcs.org/event/boys-soccer-home-vs-st-john-paul-the-great/
LOCATION:Falcon Field\, 6548 W Ottawa Ave\, Littleton\, CO\, 80128
CATEGORIES:Athletic Calendar
ATTACH;FMTTYPE=image/jpeg:https://www.frcs.org/wp-content/uploads/2025/03/soccer-wesley-tingey-unsplash-1150x450-1-SxJpQE.tmp_.jpg
END:VEVENT
BEGIN:VEVENT
DTSTART;TZID=America/Denver:20251006T160000
DTEND;TZID=America/Denver:20251006T200000
DTSTAMP:20260422T052000
CREATED:20250821T193240Z
LAST-MODIFIED:20250821T193240Z
UID:10001228-1759766400-1759780800@www.frcs.org
SUMMARY:MS Volleyball League Tournament
DESCRIPTION:The Falcons Black Team participates in the League Tournament over the course of two days. Specific game times will be published here when and if they are made available. \nGo\, Falcons!
URL:https://www.frcs.org/event/ms-volleyball-league-tournament/2025-10-06/
LOCATION:Englewood Middle/High School\, 3800 S Logan St\, Englewood\, CO\, 80113\, United States
CATEGORIES:Athletic Calendar
ATTACH;FMTTYPE=image/jpeg:https://www.frcs.org/wp-content/uploads/2022/04/volleyball-iStock.jpg
END:VEVENT
END:VCALENDAR