BEGIN:VCALENDAR
VERSION:2.0
PRODID:-//Front Range Christian School - ECPv6.15.20//NONSGML v1.0//EN
CALSCALE:GREGORIAN
METHOD:PUBLISH
X-ORIGINAL-URL:https://www.frcs.org
X-WR-CALDESC:Events for Front Range Christian School
REFRESH-INTERVAL;VALUE=DURATION:PT1H
X-Robots-Tag:noindex
X-PUBLISHED-TTL:PT1H
BEGIN:VTIMEZONE
TZID:America/Denver
BEGIN:DAYLIGHT
TZOFFSETFROM:-0700
TZOFFSETTO:-0600
TZNAME:MDT
DTSTART:20240310T090000
END:DAYLIGHT
BEGIN:STANDARD
TZOFFSETFROM:-0600
TZOFFSETTO:-0700
TZNAME:MST
DTSTART:20241103T080000
END:STANDARD
BEGIN:DAYLIGHT
TZOFFSETFROM:-0700
TZOFFSETTO:-0600
TZNAME:MDT
DTSTART:20250309T090000
END:DAYLIGHT
BEGIN:STANDARD
TZOFFSETFROM:-0600
TZOFFSETTO:-0700
TZNAME:MST
DTSTART:20251102T080000
END:STANDARD
BEGIN:DAYLIGHT
TZOFFSETFROM:-0700
TZOFFSETTO:-0600
TZNAME:MDT
DTSTART:20260308T090000
END:DAYLIGHT
BEGIN:STANDARD
TZOFFSETFROM:-0600
TZOFFSETTO:-0700
TZNAME:MST
DTSTART:20261101T080000
END:STANDARD
END:VTIMEZONE
BEGIN:VEVENT
DTSTART;VALUE=DATE:20250925
DTEND;VALUE=DATE:20250926
DTSTAMP:20260421T142559
CREATED:20250328T184146Z
LAST-MODIFIED:20250328T184146Z
UID:10000998-1758758400-1758844799@www.frcs.org
SUMMARY:Jr/Sr High Picture Day
DESCRIPTION:Smile! \nStudents grades 7-11 will have their school portraits taken by Real Life Photo Co. \nThese photos are used in the yearbook\, in FACTS SIS\, and on student IDs. They are also available for purchase in portrait packs from the photographer. Seniors provide their own photos.
URL:https://www.frcs.org/event/jr-sr-high-picture-day/
LOCATION:FRCS Jr/Sr High\, 6637 W Ottawa Ave\, Littleton\, CO\, 80128\, United States
CATEGORIES:Jr/Sr High Calendar,Parent Dashboard
ATTACH;FMTTYPE=image/jpeg:https://www.frcs.org/wp-content/uploads/2025/03/aperture-TdB4LZ.tmp_.jpg
END:VEVENT
BEGIN:VEVENT
DTSTART;TZID=America/Denver:20250925T160000
DTEND;TZID=America/Denver:20250925T173000
DTSTAMP:20260421T142559
CREATED:20250717T173958Z
LAST-MODIFIED:20250717T173958Z
UID:10001170-1758816000-1758821400@www.frcs.org
SUMMARY:Boys Soccer\, home vs Estes Park
DESCRIPTION:The Falcons host Estes Park High School \n4pm \nGo\, Falcons!
URL:https://www.frcs.org/event/boys-soccer-home-vs-estes-park/
LOCATION:Falcon Field\, 6548 W Ottawa Ave\, Littleton\, CO\, 80128
CATEGORIES:Athletic Calendar
ATTACH;FMTTYPE=image/jpeg:https://www.frcs.org/wp-content/uploads/2025/03/soccer-wesley-tingey-unsplash-1150x450-1-SxJpQE.tmp_.jpg
END:VEVENT
BEGIN:VEVENT
DTSTART;TZID=America/Denver:20250925T160000
DTEND;TZID=America/Denver:20250925T180000
DTSTAMP:20260421T142559
CREATED:20250821T190933Z
LAST-MODIFIED:20250916T185632Z
UID:10001217-1758816000-1758823200@www.frcs.org
SUMMARY:MS Volleyball\, home vs Bear Creek
DESCRIPTION:The Falcons host Bear Creek \nSilver: 4pm\nBlack: 5pm \nGo\, Falcons!
URL:https://www.frcs.org/event/ms-volleyball-home-vs-bear-creek/
LOCATION:FRCS Gym\, 6637 W Ottawa Ave 1\, Littleton\, CO\, 80128\, United States
CATEGORIES:Athletic Calendar
ATTACH;FMTTYPE=image/jpeg:https://www.frcs.org/wp-content/uploads/2022/04/volleyball-iStock.jpg
GEO:1;1
X-APPLE-STRUCTURED-LOCATION;VALUE=URI;X-ADDRESS=FRCS Gym 6637 W Ottawa Ave 1 Littleton CO 80128 United States;X-APPLE-RADIUS=500;X-TITLE=6637 W Ottawa Ave 1:geo:1,1
END:VEVENT
BEGIN:VEVENT
DTSTART;TZID=America/Denver:20250925T170000
DTEND;TZID=America/Denver:20250925T190000
DTSTAMP:20260421T142559
CREATED:20250717T162428Z
LAST-MODIFIED:20250717T162428Z
UID:10001151-1758819600-1758826800@www.frcs.org
SUMMARY:Volleyball at Union Colony
DESCRIPTION:The Falcons vs. Union Colony Preparatory School \nC: 5pm\nV: 6pm \nGo\, Falcons!
URL:https://www.frcs.org/event/volleyball-at-union-colony/
LOCATION:Union Colony Preparatory School\, 2000 Clubhouse Dr\, Greeley\, CO
CATEGORIES:Athletic Calendar
ATTACH;FMTTYPE=image/jpeg:https://www.frcs.org/wp-content/uploads/2021/03/volleyball-and-net.jpg
END:VEVENT
END:VCALENDAR