BEGIN:VCALENDAR
VERSION:2.0
PRODID:-//Front Range Christian School - ECPv6.15.20//NONSGML v1.0//EN
CALSCALE:GREGORIAN
METHOD:PUBLISH
X-WR-CALNAME:Front Range Christian School
X-ORIGINAL-URL:https://www.frcs.org
X-WR-CALDESC:Events for Front Range Christian School
REFRESH-INTERVAL;VALUE=DURATION:PT1H
X-Robots-Tag:noindex
X-PUBLISHED-TTL:PT1H
BEGIN:VTIMEZONE
TZID:America/Denver
BEGIN:DAYLIGHT
TZOFFSETFROM:-0700
TZOFFSETTO:-0600
TZNAME:MDT
DTSTART:20240310T090000
END:DAYLIGHT
BEGIN:STANDARD
TZOFFSETFROM:-0600
TZOFFSETTO:-0700
TZNAME:MST
DTSTART:20241103T080000
END:STANDARD
BEGIN:DAYLIGHT
TZOFFSETFROM:-0700
TZOFFSETTO:-0600
TZNAME:MDT
DTSTART:20250309T090000
END:DAYLIGHT
BEGIN:STANDARD
TZOFFSETFROM:-0600
TZOFFSETTO:-0700
TZNAME:MST
DTSTART:20251102T080000
END:STANDARD
BEGIN:DAYLIGHT
TZOFFSETFROM:-0700
TZOFFSETTO:-0600
TZNAME:MDT
DTSTART:20260308T090000
END:DAYLIGHT
BEGIN:STANDARD
TZOFFSETFROM:-0600
TZOFFSETTO:-0700
TZNAME:MST
DTSTART:20261101T080000
END:STANDARD
END:VTIMEZONE
BEGIN:VEVENT
DTSTART;VALUE=DATE:20250924
DTEND;VALUE=DATE:20250925
DTSTAMP:20260421T143714
CREATED:20250328T183805Z
LAST-MODIFIED:20250328T183805Z
UID:10000997-1758672000-1758758399@www.frcs.org
SUMMARY:Elementary Picture Day
DESCRIPTION:Smile! \nStudents grades 1-6 will have their school portraits taken by Real Life Photo Co.
URL:https://www.frcs.org/event/elementary-picture-day/
LOCATION:FRCS Elementary\, 6657 W Ottawa Ave\, Ste A-18\, Littleton\, CO\, 80128\, United States
CATEGORIES:Elementary Calendar,Parent Dashboard
ATTACH;FMTTYPE=image/jpeg:https://www.frcs.org/wp-content/uploads/2025/03/aperture-TdB4LZ.tmp_.jpg
END:VEVENT
BEGIN:VEVENT
DTSTART;TZID=America/Denver:20250924T153000
DTEND;TZID=America/Denver:20250924T163000
DTSTAMP:20260421T143714
CREATED:20250821T194743Z
LAST-MODIFIED:20250821T194743Z
UID:10001237-1758727800-1758731400@www.frcs.org
SUMMARY:MS Boys Soccer\, home vs Englewood
DESCRIPTION:The Falcons host Englewood Middle School \n3:30pm \nGo\, Falcons!
URL:https://www.frcs.org/event/ms-boys-soccer-home-vs-englewood/
LOCATION:Falcon Field\, 6548 W Ottawa Ave\, Littleton\, CO\, 80128
CATEGORIES:Athletic Calendar
ATTACH;FMTTYPE=image/jpeg:https://www.frcs.org/wp-content/uploads/2025/03/soccer-near-goal-mick-haupt-unsplash-1150x450-1.jpg
END:VEVENT
BEGIN:VEVENT
DTSTART;TZID=America/Denver:20250924T160000
DTEND;TZID=America/Denver:20250924T200000
DTSTAMP:20260421T143714
CREATED:20250821T192402Z
LAST-MODIFIED:20250916T185056Z
UID:10001224-1758729600-1758744000@www.frcs.org
SUMMARY:MS Volleyball at Englewood
DESCRIPTION:The Falcons vs. Englewood Middle School \nSilver: 4pm\nBlack: 5pm\nPurple: 6pm\nWhite: 7pm \nGo\, Falcons!
URL:https://www.frcs.org/event/ms-volleyball-at-englewood/
LOCATION:Englewood Middle/High School\, 3800 S Logan St\, Englewood\, CO\, 80113\, United States
CATEGORIES:Athletic Calendar
ATTACH;FMTTYPE=image/jpeg:https://www.frcs.org/wp-content/uploads/2022/04/volleyball-iStock.jpg
END:VEVENT
END:VCALENDAR