BEGIN:VCALENDAR
VERSION:2.0
PRODID:-//Front Range Christian School - ECPv6.15.20//NONSGML v1.0//EN
CALSCALE:GREGORIAN
METHOD:PUBLISH
X-ORIGINAL-URL:https://www.frcs.org
X-WR-CALDESC:Events for Front Range Christian School
REFRESH-INTERVAL;VALUE=DURATION:PT1H
X-Robots-Tag:noindex
X-PUBLISHED-TTL:PT1H
BEGIN:VTIMEZONE
TZID:America/Denver
BEGIN:DAYLIGHT
TZOFFSETFROM:-0700
TZOFFSETTO:-0600
TZNAME:MDT
DTSTART:20240310T090000
END:DAYLIGHT
BEGIN:STANDARD
TZOFFSETFROM:-0600
TZOFFSETTO:-0700
TZNAME:MST
DTSTART:20241103T080000
END:STANDARD
BEGIN:DAYLIGHT
TZOFFSETFROM:-0700
TZOFFSETTO:-0600
TZNAME:MDT
DTSTART:20250309T090000
END:DAYLIGHT
BEGIN:STANDARD
TZOFFSETFROM:-0600
TZOFFSETTO:-0700
TZNAME:MST
DTSTART:20251102T080000
END:STANDARD
BEGIN:DAYLIGHT
TZOFFSETFROM:-0700
TZOFFSETTO:-0600
TZNAME:MDT
DTSTART:20260308T090000
END:DAYLIGHT
BEGIN:STANDARD
TZOFFSETFROM:-0600
TZOFFSETTO:-0700
TZNAME:MST
DTSTART:20261101T080000
END:STANDARD
END:VTIMEZONE
BEGIN:VEVENT
DTSTART;VALUE=DATE:20250919
DTEND;VALUE=DATE:20250920
DTSTAMP:20260421T142532
CREATED:20250328T183020Z
LAST-MODIFIED:20251211T174529Z
UID:10000995-1758240000-1758326399@www.frcs.org
SUMMARY:Grandparents Day
DESCRIPTION:Join the FRCS Grandparents Mailing List\nPlease enable JavaScript in your browser to complete this form.Please enable JavaScript in your browser to complete this form.Name *FirstLastEmail *		\n			Name Email Phone\n			\n		\n		PhoneSubmit
URL:https://www.frcs.org/event/grandparents-day/
LOCATION:FRCS Campus\, 6657 W Ottawa Ave\, Littleton\, CO\, 80128\, United States
CATEGORIES:ECE Calendar,Elementary Calendar,Parent Dashboard
ATTACH;FMTTYPE=image/png:https://www.frcs.org/wp-content/uploads/2025/03/GPD-header-1150x450-1-scaled.png
GEO:1;1
X-APPLE-STRUCTURED-LOCATION;VALUE=URI;X-ADDRESS=FRCS Campus 6657 W Ottawa Ave Littleton CO 80128 United States;X-APPLE-RADIUS=500;X-TITLE=6657 W Ottawa Ave:geo:1,1
END:VEVENT
BEGIN:VEVENT
DTSTART;TZID=America/Denver:20250919T160000
DTEND;TZID=America/Denver:20250919T173000
DTSTAMP:20260421T142532
CREATED:20250717T183737Z
LAST-MODIFIED:20250717T183737Z
UID:10001191-1758297600-1758303000@www.frcs.org
SUMMARY:Football\, home vs Elbert
DESCRIPTION:The Falcons host Elbert High School \n4pm \nGo\, Falcons!
URL:https://www.frcs.org/event/football-home-vs-elbert/
LOCATION:Falcon Field\, 6548 W Ottawa Ave\, Littleton\, CO\, 80128
CATEGORIES:Athletic Calendar
ATTACH;FMTTYPE=image/jpeg:https://www.frcs.org/wp-content/uploads/2025/04/football-dave-adamson-unsplash-600sq.jpg
END:VEVENT
BEGIN:VEVENT
DTSTART;TZID=America/Denver:20250919T161500
DTEND;TZID=America/Denver:20250919T171500
DTSTAMP:20260421T142532
CREATED:20250821T194351Z
LAST-MODIFIED:20250821T194351Z
UID:10001235-1758298500-1758302100@www.frcs.org
SUMMARY:MS Boys Soccer at SkyView
DESCRIPTION:The Falcons vs. SkyView Academy \n4:15pm \nGo\, Falcons!
URL:https://www.frcs.org/event/ms-boys-soccer-at-skyview/
LOCATION:SkyView Academy\, 6161 Business Center Dr\, Highlands Ranch\, CO
CATEGORIES:Athletic Calendar
ATTACH;FMTTYPE=image/jpeg:https://www.frcs.org/wp-content/uploads/2025/03/soccer-near-goal-mick-haupt-unsplash-1150x450-1.jpg
END:VEVENT
END:VCALENDAR