BEGIN:VCALENDAR
VERSION:2.0
PRODID:-//Front Range Christian School - ECPv6.15.20//NONSGML v1.0//EN
CALSCALE:GREGORIAN
METHOD:PUBLISH
X-WR-CALNAME:Front Range Christian School
X-ORIGINAL-URL:https://www.frcs.org
X-WR-CALDESC:Events for Front Range Christian School
REFRESH-INTERVAL;VALUE=DURATION:PT1H
X-Robots-Tag:noindex
X-PUBLISHED-TTL:PT1H
BEGIN:VTIMEZONE
TZID:America/Denver
BEGIN:DAYLIGHT
TZOFFSETFROM:-0700
TZOFFSETTO:-0600
TZNAME:MDT
DTSTART:20240310T090000
END:DAYLIGHT
BEGIN:STANDARD
TZOFFSETFROM:-0600
TZOFFSETTO:-0700
TZNAME:MST
DTSTART:20241103T080000
END:STANDARD
BEGIN:DAYLIGHT
TZOFFSETFROM:-0700
TZOFFSETTO:-0600
TZNAME:MDT
DTSTART:20250309T090000
END:DAYLIGHT
BEGIN:STANDARD
TZOFFSETFROM:-0600
TZOFFSETTO:-0700
TZNAME:MST
DTSTART:20251102T080000
END:STANDARD
BEGIN:DAYLIGHT
TZOFFSETFROM:-0700
TZOFFSETTO:-0600
TZNAME:MDT
DTSTART:20260308T090000
END:DAYLIGHT
BEGIN:STANDARD
TZOFFSETFROM:-0600
TZOFFSETTO:-0700
TZNAME:MST
DTSTART:20261101T080000
END:STANDARD
END:VTIMEZONE
BEGIN:VEVENT
DTSTART;TZID=America/Denver:20250918T160000
DTEND;TZID=America/Denver:20250918T173000
DTSTAMP:20260421T143714
CREATED:20250717T173611Z
LAST-MODIFIED:20250717T173611Z
UID:10001168-1758211200-1758216600@www.frcs.org
SUMMARY:Boys Soccer at St Mary's
DESCRIPTION:The Falcons vs. St. Mary’s High School \n4pm \nGo\, Falcons!
URL:https://www.frcs.org/event/boys-soccer-at-st-marys/
LOCATION:St Mary’s High School\, 2501 E Yampa St\, Colorado Springs\, CO\, 80909
CATEGORIES:Athletic Calendar
ATTACH;FMTTYPE=image/jpeg:https://www.frcs.org/wp-content/uploads/2025/03/soccer-wesley-tingey-unsplash-1150x450-1-SxJpQE.tmp_.jpg
END:VEVENT
BEGIN:VEVENT
DTSTART;TZID=America/Denver:20250918T160000
DTEND;TZID=America/Denver:20250918T190000
DTSTAMP:20260421T143714
CREATED:20250717T171516Z
LAST-MODIFIED:20250829T163747Z
UID:10001159-1758211200-1758222000@www.frcs.org
SUMMARY:Volleyball at Highland
DESCRIPTION:The Falcons vs. Highland High School \nC: 4pm\nJV: 5pm\nV: 6pm \nGo\, Falcons!
URL:https://www.frcs.org/event/volleyball-at-highland/
LOCATION:Highland High School\, 208 W 1st St\, Ault\, CO
CATEGORIES:Athletic Calendar
ATTACH;FMTTYPE=image/jpeg:https://www.frcs.org/wp-content/uploads/2021/03/volleyball-and-net.jpg
END:VEVENT
BEGIN:VEVENT
DTSTART;TZID=America/Denver:20250918T160000
DTEND;TZID=America/Denver:20250918T190000
DTSTAMP:20260421T143714
CREATED:20250821T191836Z
LAST-MODIFIED:20250829T172358Z
UID:10001221-1758211200-1758222000@www.frcs.org
SUMMARY:MS Volleyball\, home vs Gilpin
DESCRIPTION:The Falcons host Gilpin County Middle School \nWhite: 4pm\nSilver: 5pm\nBlack: 6pm \nGo\, Falcons!
URL:https://www.frcs.org/event/ms-volleyball-home-vs-gilpin/
LOCATION:CO
CATEGORIES:Athletic Calendar
ATTACH;FMTTYPE=image/jpeg:https://www.frcs.org/wp-content/uploads/2022/04/volleyball-iStock.jpg
END:VEVENT
END:VCALENDAR