BEGIN:VCALENDAR
VERSION:2.0
PRODID:-//Front Range Christian School - ECPv6.15.20//NONSGML v1.0//EN
CALSCALE:GREGORIAN
METHOD:PUBLISH
X-WR-CALNAME:Front Range Christian School
X-ORIGINAL-URL:https://www.frcs.org
X-WR-CALDESC:Events for Front Range Christian School
REFRESH-INTERVAL;VALUE=DURATION:PT1H
X-Robots-Tag:noindex
X-PUBLISHED-TTL:PT1H
BEGIN:VTIMEZONE
TZID:America/Denver
BEGIN:DAYLIGHT
TZOFFSETFROM:-0700
TZOFFSETTO:-0600
TZNAME:MDT
DTSTART:20240310T090000
END:DAYLIGHT
BEGIN:STANDARD
TZOFFSETFROM:-0600
TZOFFSETTO:-0700
TZNAME:MST
DTSTART:20241103T080000
END:STANDARD
BEGIN:DAYLIGHT
TZOFFSETFROM:-0700
TZOFFSETTO:-0600
TZNAME:MDT
DTSTART:20250309T090000
END:DAYLIGHT
BEGIN:STANDARD
TZOFFSETFROM:-0600
TZOFFSETTO:-0700
TZNAME:MST
DTSTART:20251102T080000
END:STANDARD
BEGIN:DAYLIGHT
TZOFFSETFROM:-0700
TZOFFSETTO:-0600
TZNAME:MDT
DTSTART:20260308T090000
END:DAYLIGHT
BEGIN:STANDARD
TZOFFSETFROM:-0600
TZOFFSETTO:-0700
TZNAME:MST
DTSTART:20261101T080000
END:STANDARD
END:VTIMEZONE
BEGIN:VEVENT
DTSTART;TZID=America/Denver:20250915T073000
DTEND;TZID=America/Denver:20250915T113000
DTSTAMP:20260421T143738
CREATED:20250717T182420Z
LAST-MODIFIED:20250717T182420Z
UID:10001186-1757921400-1757935800@www.frcs.org
SUMMARY:Golf at Goldenview Invitational
DESCRIPTION:Falcons Golf competes in the Goldenview Academy Invitational \n7:30am \nGo\, Falcons!
URL:https://www.frcs.org/event/golf-at-goldenview-invitational/
LOCATION:Foothills GC\, 3901 S Carr St\, Denver\, CO\, 80235
CATEGORIES:Athletic Calendar
ATTACH;FMTTYPE=image/jpeg:https://www.frcs.org/wp-content/uploads/2025/03/golf-putt-1150x450-1.jpg
END:VEVENT
BEGIN:VEVENT
DTSTART;TZID=America/Denver:20250915T160000
DTEND;TZID=America/Denver:20250915T170000
DTSTAMP:20260421T143738
CREATED:20250821T194044Z
LAST-MODIFIED:20250821T194044Z
UID:10001233-1757952000-1757955600@www.frcs.org
SUMMARY:MS Boys Soccer at Englewood
DESCRIPTION:The Falcons vs. Englewood Middle School \n4pm \nGo\, Falcons!
URL:https://www.frcs.org/event/ms-boys-soccer-at-englewood/
LOCATION:Englewood Middle/High School\, 3800 S Logan St\, Englewood\, CO\, 80113\, United States
CATEGORIES:Athletic Calendar
ATTACH;FMTTYPE=image/jpeg:https://www.frcs.org/wp-content/uploads/2025/03/soccer-near-goal-mick-haupt-unsplash-1150x450-1.jpg
END:VEVENT
BEGIN:VEVENT
DTSTART;TZID=America/Denver:20250915T160000
DTEND;TZID=America/Denver:20250915T180000
DTSTAMP:20260421T143738
CREATED:20250821T191437Z
LAST-MODIFIED:20250821T191437Z
UID:10001219-1757952000-1757959200@www.frcs.org
SUMMARY:MS Volleyball at St. John's
DESCRIPTION:The Falcons vs St. John’s Lutheran School \nSilver: 4pm\nBlack: 5pm \nGo\, Falcons!
URL:https://www.frcs.org/event/ms-volleyball-at-st-johns/
LOCATION:St. John’s Lutheran School\, 700 S Franklin St\, Denver\, CO\, 80209
CATEGORIES:Athletic Calendar
ATTACH;FMTTYPE=image/jpeg:https://www.frcs.org/wp-content/uploads/2022/04/volleyball-iStock.jpg
END:VEVENT
BEGIN:VEVENT
DTSTART;TZID=America/Denver:20250915T183000
DTEND;TZID=America/Denver:20250915T193000
DTSTAMP:20260421T143738
CREATED:20250328T175411Z
LAST-MODIFIED:20250826T173105Z
UID:10000991-1757961000-1757964600@www.frcs.org
SUMMARY:Senior Info Night
DESCRIPTION:Senior year is full of events and milestones\, for both students and parents. Parents are invited to this informative night to learn what they need to navigate this school year. Please note this event is for parents\, not students. \nMore information will be posted here as they are available.
URL:https://www.frcs.org/event/senior-info-night/
LOCATION:Performing Arts Center\, 6637 W Ottawa Ave.\, Littleton\, CO\, 80128\, United States
CATEGORIES:Jr/Sr High Calendar,Parent Dashboard
ATTACH;FMTTYPE=image/jpeg:https://www.frcs.org/wp-content/uploads/2025/03/graduation-baim-hanif-unsplash-1150x450-1-xSeURx.tmp_.jpg
GEO:1;1
X-APPLE-STRUCTURED-LOCATION;VALUE=URI;X-ADDRESS=Performing Arts Center 6637 W Ottawa Ave. Littleton CO 80128 United States;X-APPLE-RADIUS=500;X-TITLE=6637 W Ottawa Ave.:geo:1,1
END:VEVENT
END:VCALENDAR