BEGIN:VCALENDAR
VERSION:2.0
PRODID:-//Front Range Christian School - ECPv6.15.20//NONSGML v1.0//EN
CALSCALE:GREGORIAN
METHOD:PUBLISH
X-ORIGINAL-URL:https://www.frcs.org
X-WR-CALDESC:Events for Front Range Christian School
REFRESH-INTERVAL;VALUE=DURATION:PT1H
X-Robots-Tag:noindex
X-PUBLISHED-TTL:PT1H
BEGIN:VTIMEZONE
TZID:America/Denver
BEGIN:DAYLIGHT
TZOFFSETFROM:-0700
TZOFFSETTO:-0600
TZNAME:MDT
DTSTART:20240310T090000
END:DAYLIGHT
BEGIN:STANDARD
TZOFFSETFROM:-0600
TZOFFSETTO:-0700
TZNAME:MST
DTSTART:20241103T080000
END:STANDARD
BEGIN:DAYLIGHT
TZOFFSETFROM:-0700
TZOFFSETTO:-0600
TZNAME:MDT
DTSTART:20250309T090000
END:DAYLIGHT
BEGIN:STANDARD
TZOFFSETFROM:-0600
TZOFFSETTO:-0700
TZNAME:MST
DTSTART:20251102T080000
END:STANDARD
BEGIN:DAYLIGHT
TZOFFSETFROM:-0700
TZOFFSETTO:-0600
TZNAME:MDT
DTSTART:20260308T090000
END:DAYLIGHT
BEGIN:STANDARD
TZOFFSETFROM:-0600
TZOFFSETTO:-0700
TZNAME:MST
DTSTART:20261101T080000
END:STANDARD
END:VTIMEZONE
BEGIN:VEVENT
DTSTART;VALUE=DATE:20250913
DTEND;VALUE=DATE:20250914
DTSTAMP:20260421T142732
CREATED:20250821T191129Z
LAST-MODIFIED:20250821T191129Z
UID:10001218-1757721600-1757807999@www.frcs.org
SUMMARY:MS Volleyball at Gilpin Tournament
DESCRIPTION:The Falcons participate in a tournament hosted by Gilpin County. This all-day event includes games for both the Black and Silver middle school volleyball teams. \nGo\, Falcons!
URL:https://www.frcs.org/event/ms-volleyball-at-gilpin-tournament/
LOCATION:Gilpin County Schools\, 10595 CO-119\, Black Hawk\, CO\, 80422\, United States
CATEGORIES:Athletic Calendar
ATTACH;FMTTYPE=image/jpeg:https://www.frcs.org/wp-content/uploads/2022/04/volleyball-iStock.jpg
END:VEVENT
BEGIN:VEVENT
DTSTART;TZID=America/Denver:20250913T110000
DTEND;TZID=America/Denver:20250913T123000
DTSTAMP:20260421T142732
CREATED:20250717T173213Z
LAST-MODIFIED:20250717T173213Z
UID:10001166-1757761200-1757766600@www.frcs.org
SUMMARY:Boys Soccer at SkyView
DESCRIPTION:The Falcons vs. SkyView Academy \n11am \nGo\, Falcons!
URL:https://www.frcs.org/event/boys-soccer-at-skyview/
LOCATION:SkyView Academy\, 6161 Business Center Dr\, Highlands Ranch\, CO
CATEGORIES:Athletic Calendar
ATTACH;FMTTYPE=image/jpeg:https://www.frcs.org/wp-content/uploads/2025/03/soccer-wesley-tingey-unsplash-1150x450-1-SxJpQE.tmp_.jpg
END:VEVENT
END:VCALENDAR