BEGIN:VCALENDAR
VERSION:2.0
PRODID:-//Front Range Christian School - ECPv6.15.20//NONSGML v1.0//EN
CALSCALE:GREGORIAN
METHOD:PUBLISH
X-ORIGINAL-URL:https://www.frcs.org
X-WR-CALDESC:Events for Front Range Christian School
REFRESH-INTERVAL;VALUE=DURATION:PT1H
X-Robots-Tag:noindex
X-PUBLISHED-TTL:PT1H
BEGIN:VTIMEZONE
TZID:America/Denver
BEGIN:DAYLIGHT
TZOFFSETFROM:-0700
TZOFFSETTO:-0600
TZNAME:MDT
DTSTART:20240310T090000
END:DAYLIGHT
BEGIN:STANDARD
TZOFFSETFROM:-0600
TZOFFSETTO:-0700
TZNAME:MST
DTSTART:20241103T080000
END:STANDARD
BEGIN:DAYLIGHT
TZOFFSETFROM:-0700
TZOFFSETTO:-0600
TZNAME:MDT
DTSTART:20250309T090000
END:DAYLIGHT
BEGIN:STANDARD
TZOFFSETFROM:-0600
TZOFFSETTO:-0700
TZNAME:MST
DTSTART:20251102T080000
END:STANDARD
BEGIN:DAYLIGHT
TZOFFSETFROM:-0700
TZOFFSETTO:-0600
TZNAME:MDT
DTSTART:20260308T090000
END:DAYLIGHT
BEGIN:STANDARD
TZOFFSETFROM:-0600
TZOFFSETTO:-0700
TZNAME:MST
DTSTART:20261101T080000
END:STANDARD
END:VTIMEZONE
BEGIN:VEVENT
DTSTART;TZID=America/Denver:20250909T160000
DTEND;TZID=America/Denver:20250909T173000
DTSTAMP:20260421T143932
CREATED:20250717T172856Z
LAST-MODIFIED:20250717T172856Z
UID:10001164-1757433600-1757439000@www.frcs.org
SUMMARY:Boys Soccer at Front Range Baptist
DESCRIPTION:The Falcons vs. Front Range Baptist Academy \n4pm \nGo\, Falcons!
URL:https://www.frcs.org/event/boys-soccer-at-front-range-baptist/
LOCATION:Front Range Baptist Academy\, 625 E Harmony Rd\, Fort Collins\, CO
CATEGORIES:Athletic Calendar
ATTACH;FMTTYPE=image/jpeg:https://www.frcs.org/wp-content/uploads/2025/03/soccer-wesley-tingey-unsplash-1150x450-1-SxJpQE.tmp_.jpg
END:VEVENT
BEGIN:VEVENT
DTSTART;TZID=America/Denver:20250909T160000
DTEND;TZID=America/Denver:20250909T180000
DTSTAMP:20260421T143932
CREATED:20250829T172249Z
LAST-MODIFIED:20250829T172249Z
UID:10001255-1757433600-1757440800@www.frcs.org
SUMMARY:MS Volleyball at Rick’s Center
DESCRIPTION:The Falcons vs Rick’s Center \nWhite: 4pm\nPurple: 5pm \nGo\, Falcons!
URL:https://www.frcs.org/event/ms-volleyball-at-ricks-center/
LOCATION:Rick’s Center on DU Campus\, 2040 South York Street\, Denver\, CO\, 80210
CATEGORIES:Athletic Calendar
ATTACH;FMTTYPE=image/jpeg:https://www.frcs.org/wp-content/uploads/2022/04/volleyball-iStock.jpg
END:VEVENT
BEGIN:VEVENT
DTSTART;TZID=America/Denver:20250909T160000
DTEND;TZID=America/Denver:20250909T190000
DTSTAMP:20260421T143932
CREATED:20250717T160743Z
LAST-MODIFIED:20250717T160743Z
UID:10001146-1757433600-1757444400@www.frcs.org
SUMMARY:Volleyball at Dayspring Christian
DESCRIPTION:The Falcons vs. Dayspring Christian Academy \nC: 4pm\nJV: 5pm\nV: 6pm \nGo\, Falcons!
URL:https://www.frcs.org/event/volleyball-at-dayspring-christian/
LOCATION:Dayspring Christian Academy\, 3734 W 20th St\, Greeley\, CO\, 80634
CATEGORIES:Athletic Calendar
ATTACH;FMTTYPE=image/jpeg:https://www.frcs.org/wp-content/uploads/2021/03/volleyball-and-net.jpg
END:VEVENT
END:VCALENDAR