BEGIN:VCALENDAR
VERSION:2.0
PRODID:-//Front Range Christian School - ECPv6.15.20//NONSGML v1.0//EN
CALSCALE:GREGORIAN
METHOD:PUBLISH
X-WR-CALNAME:Front Range Christian School
X-ORIGINAL-URL:https://www.frcs.org
X-WR-CALDESC:Events for Front Range Christian School
REFRESH-INTERVAL;VALUE=DURATION:PT1H
X-Robots-Tag:noindex
X-PUBLISHED-TTL:PT1H
BEGIN:VTIMEZONE
TZID:America/Denver
BEGIN:DAYLIGHT
TZOFFSETFROM:-0700
TZOFFSETTO:-0600
TZNAME:MDT
DTSTART:20240310T090000
END:DAYLIGHT
BEGIN:STANDARD
TZOFFSETFROM:-0600
TZOFFSETTO:-0700
TZNAME:MST
DTSTART:20241103T080000
END:STANDARD
BEGIN:DAYLIGHT
TZOFFSETFROM:-0700
TZOFFSETTO:-0600
TZNAME:MDT
DTSTART:20250309T090000
END:DAYLIGHT
BEGIN:STANDARD
TZOFFSETFROM:-0600
TZOFFSETTO:-0700
TZNAME:MST
DTSTART:20251102T080000
END:STANDARD
BEGIN:DAYLIGHT
TZOFFSETFROM:-0700
TZOFFSETTO:-0600
TZNAME:MDT
DTSTART:20260308T090000
END:DAYLIGHT
BEGIN:STANDARD
TZOFFSETFROM:-0600
TZOFFSETTO:-0700
TZNAME:MST
DTSTART:20261101T080000
END:STANDARD
END:VTIMEZONE
BEGIN:VEVENT
DTSTART;TZID=America/Denver:20250908T053000
DTEND;TZID=America/Denver:20250908T160000
DTSTAMP:20260421T143718
CREATED:20250826T175310Z
LAST-MODIFIED:20250826T175310Z
UID:10001241-1757309400-1757347200@www.frcs.org
SUMMARY:Senior Summit
DESCRIPTION:Since we needed to cancel the Senior Retreat this year\, aspects of the experience have been divided into a multi-day set of experiences with one optional overnight. The second\, and final\, experience is The Summit. \nSeniors will Summit together. This is meant as a celebration of what they accomplished during The Solo and what they will do in the coming year. This Summit\, in many ways\, sets the tone for the senior class as a whole. \nSeniors do have the option to turn this experience into a camping trip. A group will meet at FRCS at 2pm on Sunday and camp overnight. Seniors who opted out of camping will meet those who chose to camp on Monday morning (departing from FRCS at 5:30am) so the entire class can Summit together. All seniors will return to FRCS by 4pm on Monday. \n\nFRCS Dress Code for Student Experiences\n(Retreats\, J-Terms\, Practicums\, and AWE Outings) \nGeneral Reminder: Students are expected to follow the FRCS Dress Code for all student experiences. The following guidelines provide specific expectations for performance wear for students outings and experiences. \nLadies may wear:\n\nFull-length leggings (shirts must be long enough to cover appropriately).\nSpandex shirts (fitting within the dress code guidelines).\nAthletic tank tops (should have a three-finger minimum width on the straps).\n\nLadies may NOT wear:\n\nShort shorts (must extend at least mid-thigh length).\nShirts or tops that are too revealing or inappropriate for the setting.\n\nGentlemen may wear:\n\nAthletic wear such as workout shorts\, joggers\, and performance shirts.\nFull-length athletic pants or shorts that adhere to the dress code.\n\nGentlemen may NOT wear:\n\nShort shorts (must extend at least mid-thigh length).\nTank tops or sleeveless shirts.\n\n 
URL:https://www.frcs.org/event/senior-summit/
LOCATION:CO
CATEGORIES:Jr/Sr High Calendar
ATTACH;FMTTYPE=image/jpeg:https://www.frcs.org/wp-content/uploads/2025/03/chipmunk-mountains.jpg
END:VEVENT
BEGIN:VEVENT
DTSTART;TZID=America/Denver:20250908T140000
DTEND;TZID=America/Denver:20250908T150000
DTSTAMP:20260421T143718
CREATED:20250821T162331Z
LAST-MODIFIED:20250821T162331Z
UID:10001212-1757340000-1757343600@www.frcs.org
SUMMARY:Parent Arts Committee Re-launch
DESCRIPTION:Attention all parents who are interested in supporting and being involved in the Arts at FRCS: we are relaunching the FRCS Parent Arts Committee\, and we want you to be a part of it! Join the Arts Department in planning\, casting vision\, fundraising\, and supporting what goes on behind the scenes. It’s a great way to get involved and meet parents who share your interests. \nOur first meeting of the school year is Monday\, September 8\, in Holy Grounds starting at 2pm. \nWe look forward to meeting you!
URL:https://www.frcs.org/event/parent-arts-committee-re-launch/
LOCATION:Holy Grounds Cafe\, 6657 W Ottawa Ave\, Ste A-19\, Littleton\, CO\, 80128\, United States
CATEGORIES:Arts Calendar,Parent Dashboard
ATTACH;FMTTYPE=image/jpeg:https://www.frcs.org/wp-content/uploads/2025/08/stage-lights-1150x450-1.jpg
GEO:1;1
X-APPLE-STRUCTURED-LOCATION;VALUE=URI;X-ADDRESS=Holy Grounds Cafe 6657 W Ottawa Ave Ste A-19 Littleton CO 80128 United States;X-APPLE-RADIUS=500;X-TITLE=6657 W Ottawa Ave\, Ste A-19:geo:1,1
END:VEVENT
BEGIN:VEVENT
DTSTART;TZID=America/Denver:20250908T160000
DTEND;TZID=America/Denver:20250908T170000
DTSTAMP:20260421T143718
CREATED:20250821T193753Z
LAST-MODIFIED:20250821T193753Z
UID:10001231-1757347200-1757350800@www.frcs.org
SUMMARY:MS Boys Soccer at Aspen Academy
DESCRIPTION:The Falcons vs. Aspen Academy \n4pm \nGo\, Falcons!
URL:https://www.frcs.org/event/ms-boys-soccer-at-aspen-academy/
LOCATION:David A\, Lorenz Regional Park\, 4790 E County Line Rd\, Highlands Ranch\, CO\, 80126\, United States
CATEGORIES:Athletic Calendar
ATTACH;FMTTYPE=image/jpeg:https://www.frcs.org/wp-content/uploads/2025/03/soccer-near-goal-mick-haupt-unsplash-1150x450-1.jpg
END:VEVENT
END:VCALENDAR