BEGIN:VCALENDAR
VERSION:2.0
PRODID:-//Front Range Christian School - ECPv6.15.20//NONSGML v1.0//EN
CALSCALE:GREGORIAN
METHOD:PUBLISH
X-ORIGINAL-URL:https://www.frcs.org
X-WR-CALDESC:Events for Front Range Christian School
REFRESH-INTERVAL;VALUE=DURATION:PT1H
X-Robots-Tag:noindex
X-PUBLISHED-TTL:PT1H
BEGIN:VTIMEZONE
TZID:America/Denver
BEGIN:DAYLIGHT
TZOFFSETFROM:-0700
TZOFFSETTO:-0600
TZNAME:MDT
DTSTART:20240310T090000
END:DAYLIGHT
BEGIN:STANDARD
TZOFFSETFROM:-0600
TZOFFSETTO:-0700
TZNAME:MST
DTSTART:20241103T080000
END:STANDARD
BEGIN:DAYLIGHT
TZOFFSETFROM:-0700
TZOFFSETTO:-0600
TZNAME:MDT
DTSTART:20250309T090000
END:DAYLIGHT
BEGIN:STANDARD
TZOFFSETFROM:-0600
TZOFFSETTO:-0700
TZNAME:MST
DTSTART:20251102T080000
END:STANDARD
BEGIN:DAYLIGHT
TZOFFSETFROM:-0700
TZOFFSETTO:-0600
TZNAME:MDT
DTSTART:20260308T090000
END:DAYLIGHT
BEGIN:STANDARD
TZOFFSETFROM:-0600
TZOFFSETTO:-0700
TZNAME:MST
DTSTART:20261101T080000
END:STANDARD
END:VTIMEZONE
BEGIN:VEVENT
DTSTART;TZID=America/Denver:20250512T080000
DTEND;TZID=America/Denver:20250515T120000
DTSTAMP:20260421T174236
CREATED:20250319T091409Z
LAST-MODIFIED:20250319T091409Z
UID:10000939-1747036800-1747310400@www.frcs.org
SUMMARY:Finals Week
DESCRIPTION:There is no school on Thursday\, unless students need to make up an exam. Details to come…
URL:https://www.frcs.org/event/finals-week/
LOCATION:CO
ATTACH;FMTTYPE=image/jpeg:https://www.frcs.org/wp-content/uploads/2025/03/frcs-campus-Axyf6r.tmp_-A2zmDD.tmp_.jpg
END:VEVENT
BEGIN:VEVENT
DTSTART;TZID=America/Denver:20250514T080000
DTEND;TZID=America/Denver:20250514T120000
DTSTAMP:20260421T174236
CREATED:20250319T091347Z
LAST-MODIFIED:20250319T091347Z
UID:10000935-1747209600-1747224000@www.frcs.org
SUMMARY:AP Language and Composition exam
DESCRIPTION:This exam is required for those taking AP Language and Composition.\nThe exam runs 8-12am.
URL:https://www.frcs.org/event/ap-language-and-composition-exam/
LOCATION:CO
ATTACH;FMTTYPE=image/jpeg:https://www.frcs.org/wp-content/uploads/2025/03/frcs-campus-Axyf6r.tmp_-A2zmDD.tmp_.jpg
END:VEVENT
BEGIN:VEVENT
DTSTART;TZID=America/Denver:20250514T160000
DTEND;TZID=America/Denver:20250514T170000
DTSTAMP:20260421T174236
CREATED:20250319T091408Z
LAST-MODIFIED:20250319T091408Z
UID:10000938-1747238400-1747242000@www.frcs.org
SUMMARY:8th Grade Promotion
DESCRIPTION:Congratulations to the 8th grade class for successfully completing junior high at Front Range Christian School! The Promotion Celebration takes place in the performing arts center (PAC). Activities include distribution of certificates of promotion\, time to reminisce over the past year\, and sharing stories and memories. \nA reception in the Commons follows the promotion ceremony. There’ll be refreshments\, music\, and a photo booth. \nEighth grade students should dress in their Sunday Best while adhering to the FRCS dress code. \nWay to go\, Class of 2029! We’re proud of you.
URL:https://www.frcs.org/event/8th-grade-promotion/
LOCATION:CO
ATTACH;FMTTYPE=image/jpeg:https://www.frcs.org/wp-content/uploads/2025/03/balloons-adi-goldstein-unsplash-1150x450-1-azufTs.tmp_.jpg
END:VEVENT
END:VCALENDAR