BEGIN:VCALENDAR
VERSION:2.0
PRODID:-//Front Range Christian School - ECPv6.15.20//NONSGML v1.0//EN
CALSCALE:GREGORIAN
METHOD:PUBLISH
X-ORIGINAL-URL:https://www.frcs.org
X-WR-CALDESC:Events for Front Range Christian School
REFRESH-INTERVAL;VALUE=DURATION:PT1H
X-Robots-Tag:noindex
X-PUBLISHED-TTL:PT1H
BEGIN:VTIMEZONE
TZID:America/Denver
BEGIN:DAYLIGHT
TZOFFSETFROM:-0700
TZOFFSETTO:-0600
TZNAME:MDT
DTSTART:20240310T090000
END:DAYLIGHT
BEGIN:STANDARD
TZOFFSETFROM:-0600
TZOFFSETTO:-0700
TZNAME:MST
DTSTART:20241103T080000
END:STANDARD
BEGIN:DAYLIGHT
TZOFFSETFROM:-0700
TZOFFSETTO:-0600
TZNAME:MDT
DTSTART:20250309T090000
END:DAYLIGHT
BEGIN:STANDARD
TZOFFSETFROM:-0600
TZOFFSETTO:-0700
TZNAME:MST
DTSTART:20251102T080000
END:STANDARD
BEGIN:DAYLIGHT
TZOFFSETFROM:-0700
TZOFFSETTO:-0600
TZNAME:MDT
DTSTART:20260308T090000
END:DAYLIGHT
BEGIN:STANDARD
TZOFFSETFROM:-0600
TZOFFSETTO:-0700
TZNAME:MST
DTSTART:20261101T080000
END:STANDARD
END:VTIMEZONE
BEGIN:VEVENT
DTSTART;TZID=America/Denver:20250407T080000
DTEND;TZID=America/Denver:20250411T150000
DTSTAMP:20260421T072820
CREATED:20250318T151950Z
LAST-MODIFIED:20250320T164114Z
UID:10000848-1744012800-1744383600@www.frcs.org
SUMMARY:Elementary Iowa Assessments Testing
DESCRIPTION:Students grades 3-6 will take the Iowa Assessments standardized test this week. Questions should be directed to your child’s teacher.
URL:https://www.frcs.org/event/elementary-iowa-assessments-testing/
LOCATION:CO
CATEGORIES:Academics Calendar,Elementary Calendar,Parent Dashboard,School Calendar
ATTACH;FMTTYPE=image/jpeg:https://www.frcs.org/wp-content/uploads/2025/03/frcs-campus-Axyf6r.tmp_-A2zmDD.tmp_.jpg
END:VEVENT
BEGIN:VEVENT
DTSTART;TZID=America/Denver:20250411T074000
DTEND;TZID=America/Denver:20250411T083000
DTSTAMP:20260421T072820
CREATED:20250327T182731Z
LAST-MODIFIED:20250327T182731Z
UID:10000974-1744357200-1744360200@www.frcs.org
SUMMARY:Falcon Fathers High Five Drop-off
DESCRIPTION:All FRCS Fathers and father-figures are invited to join the Falcon Fathers prayer group for a morning of encouragement and high fives with students. We’ll begin at 7:40am on Friday\, April 11\, and give high fives and whoops of encouragement to students as they head to their first class. Pick your preferred drop-off location and show students you support them — it might just make their day (and yours\, too)! Drop off locations include the ECE main doors\, front elementary doors\, back elementary doors\, front Jr/Sr High doors\, and the Commons doors. \nAround 8am\, once students are in class\, we will meet in the multi-purpose room for a time of food and fellowship with other FRCS dads. A free\, light breakfast will be served. \nPlease join us to show your support for our students! It’ll be a great time to show our love to FRCS students and get to know other dads in the community!
URL:https://www.frcs.org/event/falcon-fathers-high-five-drop-off/
LOCATION:FRCS Campus\, 6657 W Ottawa Ave\, Littleton\, CO\, 80128\, United States
CATEGORIES:Parent Dashboard
ATTACH;FMTTYPE=image/jpeg:https://www.frcs.org/wp-content/uploads/2025/03/fist-bump-markus-spiske-unsplash-1150x450-1.jpg
GEO:1;1
X-APPLE-STRUCTURED-LOCATION;VALUE=URI;X-ADDRESS=FRCS Campus 6657 W Ottawa Ave Littleton CO 80128 United States;X-APPLE-RADIUS=500;X-TITLE=6657 W Ottawa Ave:geo:1,1
END:VEVENT
BEGIN:VEVENT
DTSTART;TZID=America/Denver:20250411T153000
DTEND;TZID=America/Denver:20250411T173000
DTSTAMP:20260421T072820
CREATED:20250319T162914Z
LAST-MODIFIED:20250319T162914Z
UID:10000958-1744385400-1744392600@www.frcs.org
SUMMARY:MS Girls Soccer at Clear Creek
DESCRIPTION:The Falcons vs Clear Creek \nBlack: 3:30pm\nPurple: 4:30pm \nGo\, Falcons!
URL:https://www.frcs.org/event/ms-girls-soccer-at-clear-creek/
LOCATION:Clear Creek Middle/High School\, 185 Beaver Brook Canyon Rd\, Evergreen\, CO\, 80439\, United States
CATEGORIES:Athletic Calendar
ATTACH;FMTTYPE=image/jpeg:https://www.frcs.org/wp-content/uploads/2025/03/soccer-near-goal-mick-haupt-unsplash-1150x450-1.jpg
END:VEVENT
BEGIN:VEVENT
DTSTART;TZID=America/Denver:20250411T160000
DTEND;TZID=America/Denver:20250411T173000
DTSTAMP:20260421T072820
CREATED:20250318T152155Z
LAST-MODIFIED:20250320T165612Z
UID:10000868-1744387200-1744392600@www.frcs.org
SUMMARY:Girls Soccer\, home vs Estes Park
DESCRIPTION:The Falcons host Estes Park High School \nV: 4pm \nGo\, Falcons!
URL:https://www.frcs.org/event/girls-soccer-home-vs-estes-park/
LOCATION:CO
CATEGORIES:Athletic Calendar
ATTACH;FMTTYPE=image/jpeg:https://www.frcs.org/wp-content/uploads/2025/03/soccer-wesley-tingey-unsplash-1150x450-1-1u5nYi.tmp_.jpg
END:VEVENT
END:VCALENDAR