BEGIN:VCALENDAR
VERSION:2.0
PRODID:-//Front Range Christian School - ECPv6.15.20//NONSGML v1.0//EN
CALSCALE:GREGORIAN
METHOD:PUBLISH
X-ORIGINAL-URL:https://www.frcs.org
X-WR-CALDESC:Events for Front Range Christian School
REFRESH-INTERVAL;VALUE=DURATION:PT1H
X-Robots-Tag:noindex
X-PUBLISHED-TTL:PT1H
BEGIN:VTIMEZONE
TZID:America/Denver
BEGIN:DAYLIGHT
TZOFFSETFROM:-0700
TZOFFSETTO:-0600
TZNAME:MDT
DTSTART:20240310T090000
END:DAYLIGHT
BEGIN:STANDARD
TZOFFSETFROM:-0600
TZOFFSETTO:-0700
TZNAME:MST
DTSTART:20241103T080000
END:STANDARD
BEGIN:DAYLIGHT
TZOFFSETFROM:-0700
TZOFFSETTO:-0600
TZNAME:MDT
DTSTART:20250309T090000
END:DAYLIGHT
BEGIN:STANDARD
TZOFFSETFROM:-0600
TZOFFSETTO:-0700
TZNAME:MST
DTSTART:20251102T080000
END:STANDARD
BEGIN:DAYLIGHT
TZOFFSETFROM:-0700
TZOFFSETTO:-0600
TZNAME:MDT
DTSTART:20260308T090000
END:DAYLIGHT
BEGIN:STANDARD
TZOFFSETFROM:-0600
TZOFFSETTO:-0700
TZNAME:MST
DTSTART:20261101T080000
END:STANDARD
END:VTIMEZONE
BEGIN:VEVENT
DTSTART;TZID=America/Denver:20250407T080000
DTEND;TZID=America/Denver:20250411T150000
DTSTAMP:20260421T072821
CREATED:20250318T151950Z
LAST-MODIFIED:20250320T164114Z
UID:10000848-1744012800-1744383600@www.frcs.org
SUMMARY:Elementary Iowa Assessments Testing
DESCRIPTION:Students grades 3-6 will take the Iowa Assessments standardized test this week. Questions should be directed to your child’s teacher.
URL:https://www.frcs.org/event/elementary-iowa-assessments-testing/
LOCATION:CO
CATEGORIES:Academics Calendar,Elementary Calendar,Parent Dashboard,School Calendar
ATTACH;FMTTYPE=image/jpeg:https://www.frcs.org/wp-content/uploads/2025/03/frcs-campus-Axyf6r.tmp_-A2zmDD.tmp_.jpg
END:VEVENT
BEGIN:VEVENT
DTSTART;TZID=America/Denver:20250408T074000
DTEND;TZID=America/Denver:20250408T141500
DTSTAMP:20260421T072821
CREATED:20250318T151953Z
LAST-MODIFIED:20250318T151953Z
UID:10000852-1744098000-1744121700@www.frcs.org
SUMMARY:Iowa Assessments grades 7-10
DESCRIPTION:Students must arrive at school by 7:40am to begin the Iowa Assessments on time. Testing should be completed by 1pm for freshmen and sophomores and 2:15pm for junior high students. Students are dismissed at the conclusion of testing. Please be present to pick up your student at the designated time\, as there will be no supervision on campus outside the testing times. \nA Digital Assessment\nThis assessment is completely digital so students must bring their personal computing device (junior high students will use a school device). Please make sure the devices are fully charged and that students bring a charger with them on test day. Tests may not be taken on a phone. \nStudents should also bring their calculator. \nAbout the Assessments\nThe Iowa Assessments help us determine how our students are performing compared to nationwide standards. These assessments measure achievement in several important content areas including Reading\, English Language Arts\, Mathematics\, Science\, and Social Studies. The exact tests each student takes depends on his or her grade level. \nThe Iowa Assessments also measure student growth and progress in the content areas assessed from year to year and provide information about college readiness for older students. \nPreparing for Test Day\nA student who is well rested and fed and who has a positive attitude about testing is best prepared for testing. You can help your student do his or her best by considering these tips: \n\nMake sure that your student is in school and on time on the test day. Reschedule dentist appointments and other out-of-school time for non-testing days.\nMake sure your student gets a good night’s sleep and eats a healthy breakfast before testing.\nRemind your student that these tests are only one measure of what he or she has learned. Emphasize that you have confidence in his or her ability to do the best job possible.\nRemind your student to listen to the directions and read each question carefully during testing. Encourage your student to ask the teacher for help if he or she does not understand the directions.\n\nScore Reporting\nThe school will receive test scores about 6 weeks after test day. The scores indicate how your student performed on the tests compared with students across the nation in the same grade. FRCS will release testing information once we receive the results. \nThank you very much for encouraging & supporting your student during testing. If you have any questions or concerns\, please contact the Guidance Department.
URL:https://www.frcs.org/event/iowa-assessments-grades-7-10/
LOCATION:CO
ATTACH;FMTTYPE=image/jpeg:https://www.frcs.org/wp-content/uploads/2025/03/ipad-laptop-2h-media-unsplash-1-Gwm1BY.tmp_.jpg
END:VEVENT
BEGIN:VEVENT
DTSTART;TZID=America/Denver:20250408T080000
DTEND;TZID=America/Denver:20250408T150000
DTSTAMP:20260421T072821
CREATED:20250318T151949Z
LAST-MODIFIED:20250320T164847Z
UID:10000847-1744099200-1744124400@www.frcs.org
SUMMARY:Junior CCU Day
DESCRIPTION:Juniors will visit the Colorado Christian University (CCU) campus this day\, either driving themselves or in small groups (students may also email Miss Downs to secure a spot on the school van to ride together). \nStudents will be treated to a tour\, lunch on campus\, and a presentation in which they are welcome to ask questions about the school and college entry. Even if students are considering other schools\, this is a great opportunity to get a taste of college life with others in their class. \nThis is Senior Class Photo Day and students grades 7-10 are taking the Iowa Assessments.
URL:https://www.frcs.org/event/junior-ccu-day/
LOCATION:Colorado Christian University\, 8787 W. Alameda Ave. 1\, Lakewood\, CO\, 80226\, United States
CATEGORIES:Jr/Sr High Calendar,Parent Dashboard
ATTACH;FMTTYPE=image/jpeg:https://www.frcs.org/wp-content/uploads/2025/03/CCU-033-p6e843.tmp_.jpg
GEO:1;1
X-APPLE-STRUCTURED-LOCATION;VALUE=URI;X-ADDRESS=Colorado Christian University 8787 W. Alameda Ave. 1 Lakewood CO 80226 United States;X-APPLE-RADIUS=500;X-TITLE=8787 W. Alameda Ave. 1:geo:1,1
END:VEVENT
BEGIN:VEVENT
DTSTART;TZID=America/Denver:20250408T133000
DTEND;TZID=America/Denver:20250408T143000
DTSTAMP:20260421T072821
CREATED:20250318T151954Z
LAST-MODIFIED:20250320T165114Z
UID:10000853-1744119000-1744122600@www.frcs.org
SUMMARY:Senior Class Photo
DESCRIPTION:Seniors will take their class photo together on this day. Seniors do not have school this day\, but are expected to meet for the class photo. We encourage students to plan something together before or after the photo. \nThis year’s photo will be taken at Fly’n B Park in Highlands Ranch (2910 Plaza Dr.\, Highlands Ranch 80129). We’ll meet near the house (near the northeast corner of the park). Seniors should arrive by 1:30pm and are encouraged to carpool because\, while there are two parking lots\, they are small.
URL:https://www.frcs.org/event/senior-class-photo/
LOCATION:Fly’n B Park\, 2910 Plaza Dr. 1\, Highlands Ranch\, CO\, 80129\, United States
CATEGORIES:Jr/Sr High Calendar,Parent Dashboard
ATTACH;FMTTYPE=image/jpeg:https://www.frcs.org/wp-content/uploads/2025/03/graduation-poodar-chu-unsplash-1150x450-1-V7fogI.tmp_.jpg
GEO:1;1
X-APPLE-STRUCTURED-LOCATION;VALUE=URI;X-ADDRESS=Fly’n B Park 2910 Plaza Dr. 1 Highlands Ranch CO 80129 United States;X-APPLE-RADIUS=500;X-TITLE=2910 Plaza Dr. 1:geo:1,1
END:VEVENT
BEGIN:VEVENT
DTSTART;TZID=America/Denver:20250408T160000
DTEND;TZID=America/Denver:20250408T180000
DTSTAMP:20260421T072821
CREATED:20250318T181913Z
LAST-MODIFIED:20250318T181913Z
UID:10000882-1744128000-1744135200@www.frcs.org
SUMMARY:Baseball at Evangel
DESCRIPTION:The Falcons vs. Evangel Christian Academy \nV: 4pm \nGo\, Falcons!
URL:https://www.frcs.org/event/baseball-at-evangel/
LOCATION:El Pomar Youth Sports Park\, 2212 Executive Cir\, Colorado Springs\, CO\, 80906\, United States
CATEGORIES:Athletic Calendar
ATTACH;FMTTYPE=image/jpeg:https://www.frcs.org/wp-content/uploads/2021/05/baseball-in-the-grass-chris-collins-free-images.jpg
END:VEVENT
BEGIN:VEVENT
DTSTART;TZID=America/Denver:20250408T173000
DTEND;TZID=America/Denver:20250408T183000
DTSTAMP:20260421T072821
CREATED:20250318T152112Z
LAST-MODIFIED:20250320T165258Z
UID:10000866-1744133400-1744137000@www.frcs.org
SUMMARY:Girls Soccer at SkyView Academy
DESCRIPTION:The Falcons vs SkyView Academy \nJV: 5:30pm \nGo\, Falcons!
URL:https://www.frcs.org/event/girls-soccer-at-skyview-academy/
LOCATION:CO
CATEGORIES:Athletic Calendar
ATTACH;FMTTYPE=image/jpeg:https://www.frcs.org/wp-content/uploads/2025/03/soccer-wesley-tingey-unsplash-1150x450-1-1u5nYi.tmp_.jpg
END:VEVENT
END:VCALENDAR