BEGIN:VCALENDAR
VERSION:2.0
PRODID:-//Front Range Christian School - ECPv6.15.20//NONSGML v1.0//EN
CALSCALE:GREGORIAN
METHOD:PUBLISH
X-ORIGINAL-URL:https://www.frcs.org
X-WR-CALDESC:Events for Front Range Christian School
REFRESH-INTERVAL;VALUE=DURATION:PT1H
X-Robots-Tag:noindex
X-PUBLISHED-TTL:PT1H
BEGIN:VTIMEZONE
TZID:America/Denver
BEGIN:DAYLIGHT
TZOFFSETFROM:-0700
TZOFFSETTO:-0600
TZNAME:MDT
DTSTART:20240310T090000
END:DAYLIGHT
BEGIN:STANDARD
TZOFFSETFROM:-0600
TZOFFSETTO:-0700
TZNAME:MST
DTSTART:20241103T080000
END:STANDARD
BEGIN:DAYLIGHT
TZOFFSETFROM:-0700
TZOFFSETTO:-0600
TZNAME:MDT
DTSTART:20250309T090000
END:DAYLIGHT
BEGIN:STANDARD
TZOFFSETFROM:-0600
TZOFFSETTO:-0700
TZNAME:MST
DTSTART:20251102T080000
END:STANDARD
BEGIN:DAYLIGHT
TZOFFSETFROM:-0700
TZOFFSETTO:-0600
TZNAME:MDT
DTSTART:20260308T090000
END:DAYLIGHT
BEGIN:STANDARD
TZOFFSETFROM:-0600
TZOFFSETTO:-0700
TZNAME:MST
DTSTART:20261101T080000
END:STANDARD
END:VTIMEZONE
BEGIN:VEVENT
DTSTART;TZID=America/Denver:20250407T080000
DTEND;TZID=America/Denver:20250411T150000
DTSTAMP:20260421T072820
CREATED:20250318T151950Z
LAST-MODIFIED:20250320T164114Z
UID:10000848-1744012800-1744383600@www.frcs.org
SUMMARY:Elementary Iowa Assessments Testing
DESCRIPTION:Students grades 3-6 will take the Iowa Assessments standardized test this week. Questions should be directed to your child’s teacher.
URL:https://www.frcs.org/event/elementary-iowa-assessments-testing/
LOCATION:CO
CATEGORIES:Academics Calendar,Elementary Calendar,Parent Dashboard,School Calendar
ATTACH;FMTTYPE=image/jpeg:https://www.frcs.org/wp-content/uploads/2025/03/frcs-campus-Axyf6r.tmp_-A2zmDD.tmp_.jpg
END:VEVENT
BEGIN:VEVENT
DTSTART;TZID=America/Denver:20250407T153000
DTEND;TZID=America/Denver:20250407T173000
DTSTAMP:20260421T072820
CREATED:20250319T162449Z
LAST-MODIFIED:20250319T162449Z
UID:10000956-1744039800-1744047000@www.frcs.org
SUMMARY:MS Girls Soccer\, home vs SkyView
DESCRIPTION:The Falcons host SkyView Academy \nBlack: 3:30pm\nPurple: 4:30pm \nGo\, Falcons!
URL:https://www.frcs.org/event/ms-girls-soccer-home-vs-skyview/
LOCATION:Falcon Field\, 6548 W Ottawa Ave\, Littleton\, CO\, 80128
CATEGORIES:Athletic Calendar
ATTACH;FMTTYPE=image/jpeg:https://www.frcs.org/wp-content/uploads/2025/03/soccer-near-goal-mick-haupt-unsplash-1150x450-1.jpg
END:VEVENT
BEGIN:VEVENT
DTSTART;TZID=America/Denver:20250407T160000
DTEND;TZID=America/Denver:20250407T173000
DTSTAMP:20260421T072820
CREATED:20250318T152111Z
LAST-MODIFIED:20250320T164357Z
UID:10000865-1744041600-1744047000@www.frcs.org
SUMMARY:Girls Soccer at Bishop Machebeuf
DESCRIPTION:The Falcons vs. Bishop Machebeuf \nV: 4pm \nGo\, Falcons!
URL:https://www.frcs.org/event/girls-soccer-at-bishop-machebeuf/
LOCATION:CO
CATEGORIES:Athletic Calendar
ATTACH;FMTTYPE=image/jpeg:https://www.frcs.org/wp-content/uploads/2025/03/soccer-wesley-tingey-unsplash-1150x450-1-1u5nYi.tmp_.jpg
END:VEVENT
END:VCALENDAR