BEGIN:VCALENDAR
VERSION:2.0
PRODID:-//Front Range Christian School - ECPv6.15.20//NONSGML v1.0//EN
CALSCALE:GREGORIAN
METHOD:PUBLISH
X-WR-CALNAME:Front Range Christian School
X-ORIGINAL-URL:https://www.frcs.org
X-WR-CALDESC:Events for Front Range Christian School
REFRESH-INTERVAL;VALUE=DURATION:PT1H
X-Robots-Tag:noindex
X-PUBLISHED-TTL:PT1H
BEGIN:VTIMEZONE
TZID:America/Denver
BEGIN:DAYLIGHT
TZOFFSETFROM:-0700
TZOFFSETTO:-0600
TZNAME:MDT
DTSTART:20240310T090000
END:DAYLIGHT
BEGIN:STANDARD
TZOFFSETFROM:-0600
TZOFFSETTO:-0700
TZNAME:MST
DTSTART:20241103T080000
END:STANDARD
BEGIN:DAYLIGHT
TZOFFSETFROM:-0700
TZOFFSETTO:-0600
TZNAME:MDT
DTSTART:20250309T090000
END:DAYLIGHT
BEGIN:STANDARD
TZOFFSETFROM:-0600
TZOFFSETTO:-0700
TZNAME:MST
DTSTART:20251102T080000
END:STANDARD
BEGIN:DAYLIGHT
TZOFFSETFROM:-0700
TZOFFSETTO:-0600
TZNAME:MDT
DTSTART:20260308T090000
END:DAYLIGHT
BEGIN:STANDARD
TZOFFSETFROM:-0600
TZOFFSETTO:-0700
TZNAME:MST
DTSTART:20261101T080000
END:STANDARD
END:VTIMEZONE
BEGIN:VEVENT
DTSTART;TZID=America/Denver:20250507T080000
DTEND;TZID=America/Denver:20250507T150000
DTSTAMP:20260421T223133
CREATED:20250319T091247Z
LAST-MODIFIED:20250319T091247Z
UID:39916-1746604800-1746630000@www.frcs.org
SUMMARY:Spirit Point Celebration Day
DESCRIPTION:Spirit Point Celebration Day is for the class that wins the SLC year-long spirit point competition. The day is marked by celebration: we meet at a park\, grill some food\, and spend the day playing games to celebrate your class’ accomplishments! Please note that this is still a required day of school for the class who wins. Each year\, details about the winning class and specifics about the day are communicated by the SLC to students.
URL:https://www.frcs.org/event/spirit-point-celebration-day/
ATTACH;FMTTYPE=image/jpeg:https://www.frcs.org/wp-content/uploads/2025/03/confetti-jason-leung-unsplash-0UwN1H.tmp_.jpg
END:VEVENT
END:VCALENDAR