BEGIN:VCALENDAR
VERSION:2.0
PRODID:-//Front Range Christian School - ECPv6.15.20//NONSGML v1.0//EN
CALSCALE:GREGORIAN
METHOD:PUBLISH
X-WR-CALNAME:Front Range Christian School
X-ORIGINAL-URL:https://www.frcs.org
X-WR-CALDESC:Events for Front Range Christian School
REFRESH-INTERVAL;VALUE=DURATION:PT1H
X-Robots-Tag:noindex
X-PUBLISHED-TTL:PT1H
BEGIN:VTIMEZONE
TZID:America/Denver
BEGIN:DAYLIGHT
TZOFFSETFROM:-0700
TZOFFSETTO:-0600
TZNAME:MDT
DTSTART:20240310T090000
END:DAYLIGHT
BEGIN:STANDARD
TZOFFSETFROM:-0600
TZOFFSETTO:-0700
TZNAME:MST
DTSTART:20241103T080000
END:STANDARD
BEGIN:DAYLIGHT
TZOFFSETFROM:-0700
TZOFFSETTO:-0600
TZNAME:MDT
DTSTART:20250309T090000
END:DAYLIGHT
BEGIN:STANDARD
TZOFFSETFROM:-0600
TZOFFSETTO:-0700
TZNAME:MST
DTSTART:20251102T080000
END:STANDARD
BEGIN:DAYLIGHT
TZOFFSETFROM:-0700
TZOFFSETTO:-0600
TZNAME:MDT
DTSTART:20260308T090000
END:DAYLIGHT
BEGIN:STANDARD
TZOFFSETFROM:-0600
TZOFFSETTO:-0700
TZNAME:MST
DTSTART:20261101T080000
END:STANDARD
END:VTIMEZONE
BEGIN:VEVENT
DTSTART;TZID=America/Denver:20250620T203000
DTEND;TZID=America/Denver:20250620T230000
DTSTAMP:20260421T070118
CREATED:20250605T194110Z
LAST-MODIFIED:20250619T164646Z
UID:46667-1750451400-1750460400@www.frcs.org
SUMMARY:FRCS Movie Night
DESCRIPTION:Join us for an evening under the stars as the community gathers for a family movie night! On this night\, we will watch How to Train Your Dragon (the original animated film). This event is free\, though movie concessions will be available for purchase (cash or check only\, please). While registration is not required\, we encourage you to register to give an idea of how many people are coming and so that we have a way to let you know if plans change due to inclement weather. \nWe strongly encourage families to wear and bring bug spray. \nRegister for FRCS Movie Nights\n[forminator_form id=”46665″] \nEvent Details\nMovies are shown on Falcon Field\, so families should bring blankets\, lawn chairs\, or whatever they need to comfortably watch the movie on the field. Please also consider bringing jackets for layering in case it’s cool. It will also be a good idea to bring insect repellent (spray or wearable devices are good options). \nFamilies may arrive beginning 8:30pm to pick their spot and get settled before the movie begins at 9pm. How to Train Your Dragon has a running time of 1 hour and 33 minutes\, so the movie will conclude about 10:30pm. Families are welcome to leave at any time\, though we ask that you be considerate of other families. \nAll children and teens must be accompanied by at lease one adult who will take responsibility for supervising them throughout the event. \nMovie concessions will be available for purchase (candy\, popcorn\, nachos\, soda\, water\, etc.) — cash or check only\, please. \nYou are welcome to bring friends and family with you\, but please remind them that we are a Christian school and policies regarding code of conduct (found in the Family Handbook) apply to everyone.
URL:https://www.frcs.org/event/frcs-movie-night/
LOCATION:Falcon Field\, 6548 W Ottawa Ave\, Littleton\, CO\, 80128
CATEGORIES:Parent Dashboard
ATTACH;FMTTYPE=image/jpeg:https://www.frcs.org/wp-content/uploads/2025/06/film-projector-jeremy-yap-unsplash.jpg
END:VEVENT
END:VCALENDAR