BEGIN:VCALENDAR
VERSION:2.0
PRODID:-//Front Range Christian School - ECPv6.15.20//NONSGML v1.0//EN
CALSCALE:GREGORIAN
METHOD:PUBLISH
X-WR-CALNAME:Front Range Christian School
X-ORIGINAL-URL:https://www.frcs.org
X-WR-CALDESC:Events for Front Range Christian School
REFRESH-INTERVAL;VALUE=DURATION:PT1H
X-Robots-Tag:noindex
X-PUBLISHED-TTL:PT1H
BEGIN:VTIMEZONE
TZID:America/Denver
BEGIN:DAYLIGHT
TZOFFSETFROM:-0700
TZOFFSETTO:-0600
TZNAME:MDT
DTSTART:20240310T090000
END:DAYLIGHT
BEGIN:STANDARD
TZOFFSETFROM:-0600
TZOFFSETTO:-0700
TZNAME:MST
DTSTART:20241103T080000
END:STANDARD
BEGIN:DAYLIGHT
TZOFFSETFROM:-0700
TZOFFSETTO:-0600
TZNAME:MDT
DTSTART:20250309T090000
END:DAYLIGHT
BEGIN:STANDARD
TZOFFSETFROM:-0600
TZOFFSETTO:-0700
TZNAME:MST
DTSTART:20251102T080000
END:STANDARD
BEGIN:DAYLIGHT
TZOFFSETFROM:-0700
TZOFFSETTO:-0600
TZNAME:MDT
DTSTART:20260308T090000
END:DAYLIGHT
BEGIN:STANDARD
TZOFFSETFROM:-0600
TZOFFSETTO:-0700
TZNAME:MST
DTSTART:20261101T080000
END:STANDARD
END:VTIMEZONE
BEGIN:VEVENT
DTSTART;TZID=America/Denver:20250730T090000
DTEND;TZID=America/Denver:20250730T120000
DTSTAMP:20260421T051538
CREATED:20250404T185220Z
LAST-MODIFIED:20250729T171634Z
UID:10001121-1753866000-1753876800@www.frcs.org
SUMMARY:Elementary Volleyball Camp
DESCRIPTION:Annual Summer Volleyball camps are hosted by Front Range Christian School and led by Varsity Head Coach Amanda Deich. This camp covers all skills and is designed for students who will be grade 3-5 in the fall of 2025. The camp runs three days\, July 28-30\, from 9am-noon each day. \nLEARN MORE AND REGISTER
URL:https://www.frcs.org/event/elementary-volleyball-camp/2025-07-30/
LOCATION:FRCS Gym\, 6637 W Ottawa Ave 1\, Littleton\, CO\, 80128\, United States
CATEGORIES:Athletic Calendar,Elementary Calendar,Registration Events for app
ATTACH;FMTTYPE=image/jpeg:https://www.frcs.org/wp-content/uploads/2021/03/volleyball-and-net.jpg
GEO:1;1
X-APPLE-STRUCTURED-LOCATION;VALUE=URI;X-ADDRESS=FRCS Gym 6637 W Ottawa Ave 1 Littleton CO 80128 United States;X-APPLE-RADIUS=500;X-TITLE=6637 W Ottawa Ave 1:geo:1,1
END:VEVENT
END:VCALENDAR